BEGIN:VCALENDAR
VERSION:2.0
PRODID:https://www.kufer.de/kuferweb / DE
METHOD:PUBLISH
CALSCALE:GREGORIAN
X-WR-TIMEZONE:Europe/Berlin
BEGIN:VTIMEZONE
TZID:Europe/Berlin
X-LIC-LOCATION:Europe/Berlin
BEGIN:DAYLIGHT
TZOFFSETFROM:+0100
TZOFFSETTO:+0200
TZNAME:CEST
DTSTART:19700329T020000
RRULE:FREQ=YEARLY;INTERVAL=1;BYDAY=-1SU;BYMONTH=3
END:DAYLIGHT
BEGIN:STANDARD
TZOFFSETFROM:+0200
TZOFFSETTO:+0100
TZNAME:CET
DTSTART:19701025T030000
RRULE:FREQ=YEARLY;INTERVAL=1;BYDAY=-1SU;BYMONTH=10
END:STANDARD
END:VTIMEZONE
BEGIN:VEVENT
DTSTAMP:20260421T013011
DTSTART;TZID=Europe/Berlin:20261214T080000
DTEND;TZID=Europe/Berlin:20261214T130000
UID:262W85-055-20261214T080000@VHSBREMEN
SUMMARY:Yoga und Gesundheit in Beruf und Alltag (262W85-055) 
LOCATION:vhs - West, Bewegungsraum, Gröpelinger Heerstraße 226, 28237 Bremen
END:VEVENT
BEGIN:VEVENT
DTSTAMP:20260421T013011
DTSTART;TZID=Europe/Berlin:20261215T080000
DTEND;TZID=Europe/Berlin:20261215T130000
UID:262W85-055-20261215T080000@VHSBREMEN
SUMMARY:Yoga und Gesundheit in Beruf und Alltag (262W85-055) 
LOCATION:vhs - West, Bewegungsraum, Gröpelinger Heerstraße 226, 28237 Bremen
END:VEVENT
BEGIN:VEVENT
DTSTAMP:20260421T013011
DTSTART;TZID=Europe/Berlin:20261216T080000
DTEND;TZID=Europe/Berlin:20261216T130000
UID:262W85-055-20261216T080000@VHSBREMEN
SUMMARY:Yoga und Gesundheit in Beruf und Alltag (262W85-055) 
LOCATION:vhs - West, Bewegungsraum, Gröpelinger Heerstraße 226, 28237 Bremen
END:VEVENT
BEGIN:VEVENT
DTSTAMP:20260421T013011
DTSTART;TZID=Europe/Berlin:20261217T080000
DTEND;TZID=Europe/Berlin:20261217T130000
UID:262W85-055-20261217T080000@VHSBREMEN
SUMMARY:Yoga und Gesundheit in Beruf und Alltag (262W85-055) 
LOCATION:vhs - West, Bewegungsraum, Gröpelinger Heerstraße 226, 28237 Bremen
END:VEVENT
BEGIN:VEVENT
DTSTAMP:20260421T013011
DTSTART;TZID=Europe/Berlin:20261218T080000
DTEND;TZID=Europe/Berlin:20261218T130000
UID:262W85-055-20261218T080000@VHSBREMEN
SUMMARY:Yoga und Gesundheit in Beruf und Alltag (262W85-055) 
LOCATION:vhs - West, Bewegungsraum, Gröpelinger Heerstraße 226, 28237 Bremen
END:VEVENT
END:VCALENDAR