BEGIN:VCALENDAR
VERSION:2.0
PRODID:https://www.kufer.de/kuferweb / DE
METHOD:PUBLISH
CALSCALE:GREGORIAN
X-WR-TIMEZONE:Europe/Berlin
BEGIN:VTIMEZONE
TZID:Europe/Berlin
X-LIC-LOCATION:Europe/Berlin
BEGIN:DAYLIGHT
TZOFFSETFROM:+0100
TZOFFSETTO:+0200
TZNAME:CEST
DTSTART:19700329T020000
RRULE:FREQ=YEARLY;INTERVAL=1;BYDAY=-1SU;BYMONTH=3
END:DAYLIGHT
BEGIN:STANDARD
TZOFFSETFROM:+0200
TZOFFSETTO:+0100
TZNAME:CET
DTSTART:19701025T030000
RRULE:FREQ=YEARLY;INTERVAL=1;BYDAY=-1SU;BYMONTH=10
END:STANDARD
END:VTIMEZONE
BEGIN:VEVENT
DTSTAMP:20260421T075659
DTSTART;TZID=Europe/Berlin:20260904T160000
DTEND;TZID=Europe/Berlin:20260904T191500
UID:262W24-081-20260904T160000@VHSBREMEN
SUMMARY:Vom Ahnungslosen zum Speisepilzfinder Einführung in die Welt der Pilze (262W24-081) 
LOCATION:vhs - West, Seminarraum 3, Gröpelinger Heerstraße 226, 28237 Bremen
END:VEVENT
BEGIN:VEVENT
DTSTAMP:20260421T075659
DTSTART;TZID=Europe/Berlin:20260905T100000
DTEND;TZID=Europe/Berlin:20260905T163000
UID:262W24-081-20260905T100000@VHSBREMEN
SUMMARY:Vom Ahnungslosen zum Speisepilzfinder Einführung in die Welt der Pilze (262W24-081) 
LOCATION:vhs - West, Seminarraum 3, Gröpelinger Heerstraße 226, 28237 Bremen
END:VEVENT
BEGIN:VEVENT
DTSTAMP:20260421T075659
DTSTART;TZID=Europe/Berlin:20260906T100000
DTEND;TZID=Europe/Berlin:20260906T163000
UID:262W24-081-20260906T100000@VHSBREMEN
SUMMARY:Vom Ahnungslosen zum Speisepilzfinder Einführung in die Welt der Pilze (262W24-081) 
LOCATION:vhs - West, Seminarraum 3, Gröpelinger Heerstraße 226, 28237 Bremen
END:VEVENT
END:VCALENDAR