BEGIN:VCALENDAR
VERSION:2.0
PRODID:https://www.kufer.de/kuferweb / DE
METHOD:PUBLISH
CALSCALE:GREGORIAN
X-WR-TIMEZONE:Europe/Berlin
BEGIN:VTIMEZONE
TZID:Europe/Berlin
X-LIC-LOCATION:Europe/Berlin
BEGIN:DAYLIGHT
TZOFFSETFROM:+0100
TZOFFSETTO:+0200
TZNAME:CEST
DTSTART:19700329T020000
RRULE:FREQ=YEARLY;INTERVAL=1;BYDAY=-1SU;BYMONTH=3
END:DAYLIGHT
BEGIN:STANDARD
TZOFFSETFROM:+0200
TZOFFSETTO:+0100
TZNAME:CET
DTSTART:19701025T030000
RRULE:FREQ=YEARLY;INTERVAL=1;BYDAY=-1SU;BYMONTH=10
END:STANDARD
END:VTIMEZONE
BEGIN:VEVENT
DTSTAMP:20260419T153848
DTSTART;TZID=Europe/Berlin:20270127T090000
DTEND;TZID=Europe/Berlin:20270127T150000
UID:262M89-425-20270127T090000@VHSBREMEN
SUMMARY:Süßes erlaubt? Bewusster Umgang in der Kita (Koop. mit BIPS) (262M89-425) 
LOCATION:vhs im Bamberger, Raum 003 Schulungsküche Forum Küche, Faulenstraße 69, 28195 Bremen
END:VEVENT
END:VCALENDAR