BEGIN:VCALENDAR
VERSION:2.0
PRODID:https://www.kufer.de/kuferweb / DE
METHOD:PUBLISH
CALSCALE:GREGORIAN
X-WR-TIMEZONE:Europe/Berlin
BEGIN:VTIMEZONE
TZID:Europe/Berlin
X-LIC-LOCATION:Europe/Berlin
BEGIN:DAYLIGHT
TZOFFSETFROM:+0100
TZOFFSETTO:+0200
TZNAME:CEST
DTSTART:19700329T020000
RRULE:FREQ=YEARLY;INTERVAL=1;BYDAY=-1SU;BYMONTH=3
END:DAYLIGHT
BEGIN:STANDARD
TZOFFSETFROM:+0200
TZOFFSETTO:+0100
TZNAME:CET
DTSTART:19701025T030000
RRULE:FREQ=YEARLY;INTERVAL=1;BYDAY=-1SU;BYMONTH=10
END:STANDARD
END:VTIMEZONE
BEGIN:VEVENT
DTSTAMP:20260419T173151
DTSTART;TZID=Europe/Berlin:20260928T090000
DTEND;TZID=Europe/Berlin:20260928T140000
UID:262M86-040-20260928T090000@VHSBREMEN
SUMMARY:Glaubenssätze und Antreiber - mentale Sabotage aufspüren und umwandeln (262M86-040) 
LOCATION:vhs im Bamberger, Raum 801 Entspannung, Faulenstraße 69, 28195 Bremen
END:VEVENT
BEGIN:VEVENT
DTSTAMP:20260419T173151
DTSTART;TZID=Europe/Berlin:20260929T090000
DTEND;TZID=Europe/Berlin:20260929T140000
UID:262M86-040-20260929T090000@VHSBREMEN
SUMMARY:Glaubenssätze und Antreiber - mentale Sabotage aufspüren und umwandeln (262M86-040) 
LOCATION:vhs im Bamberger, Raum 801 Entspannung, Faulenstraße 69, 28195 Bremen
END:VEVENT
BEGIN:VEVENT
DTSTAMP:20260419T173151
DTSTART;TZID=Europe/Berlin:20260930T090000
DTEND;TZID=Europe/Berlin:20260930T140000
UID:262M86-040-20260930T090000@VHSBREMEN
SUMMARY:Glaubenssätze und Antreiber - mentale Sabotage aufspüren und umwandeln (262M86-040) 
LOCATION:vhs im Bamberger, Raum 801 Entspannung, Faulenstraße 69, 28195 Bremen
END:VEVENT
BEGIN:VEVENT
DTSTAMP:20260419T173151
DTSTART;TZID=Europe/Berlin:20261001T090000
DTEND;TZID=Europe/Berlin:20261001T140000
UID:262M86-040-20261001T090000@VHSBREMEN
SUMMARY:Glaubenssätze und Antreiber - mentale Sabotage aufspüren und umwandeln (262M86-040) 
LOCATION:vhs im Bamberger, Raum 801 Entspannung, Faulenstraße 69, 28195 Bremen
END:VEVENT
BEGIN:VEVENT
DTSTAMP:20260419T173151
DTSTART;TZID=Europe/Berlin:20261002T090000
DTEND;TZID=Europe/Berlin:20261002T140000
UID:262M86-040-20261002T090000@VHSBREMEN
SUMMARY:Glaubenssätze und Antreiber - mentale Sabotage aufspüren und umwandeln (262M86-040) 
LOCATION:vhs im Bamberger, Raum 801 Entspannung, Faulenstraße 69, 28195 Bremen
END:VEVENT
END:VCALENDAR