BEGIN:VCALENDAR
VERSION:2.0
PRODID:https://www.kufer.de/kuferweb / DE
METHOD:PUBLISH
CALSCALE:GREGORIAN
X-WR-TIMEZONE:Europe/Berlin
BEGIN:VTIMEZONE
TZID:Europe/Berlin
X-LIC-LOCATION:Europe/Berlin
BEGIN:DAYLIGHT
TZOFFSETFROM:+0100
TZOFFSETTO:+0200
TZNAME:CEST
DTSTART:19700329T020000
RRULE:FREQ=YEARLY;INTERVAL=1;BYDAY=-1SU;BYMONTH=3
END:DAYLIGHT
BEGIN:STANDARD
TZOFFSETFROM:+0200
TZOFFSETTO:+0100
TZNAME:CET
DTSTART:19701025T030000
RRULE:FREQ=YEARLY;INTERVAL=1;BYDAY=-1SU;BYMONTH=10
END:STANDARD
END:VTIMEZONE
BEGIN:VEVENT
DTSTAMP:20260420T200622
DTSTART;TZID=Europe/Berlin:20261214T110000
DTEND;TZID=Europe/Berlin:20261214T160000
UID:262M85-062-20261214T110000@VHSBREMEN
SUMMARY:Mit Yoga die körperliche und geistige Haltung stabilisieren (262M85-062) 
LOCATION:Gehörlosenzentrum, Gymnastikhalle (Nebengebäude), Schwachhauser Heerstraße 266, 28359 Bremen
END:VEVENT
BEGIN:VEVENT
DTSTAMP:20260420T200622
DTSTART;TZID=Europe/Berlin:20261215T090000
DTEND;TZID=Europe/Berlin:20261215T140000
UID:262M85-062-20261215T090000@VHSBREMEN
SUMMARY:Mit Yoga die körperliche und geistige Haltung stabilisieren (262M85-062) 
LOCATION:Gehörlosenzentrum, Gymnastikhalle (Nebengebäude), Schwachhauser Heerstraße 266, 28359 Bremen
END:VEVENT
BEGIN:VEVENT
DTSTAMP:20260420T200622
DTSTART;TZID=Europe/Berlin:20261216T090000
DTEND;TZID=Europe/Berlin:20261216T140000
UID:262M85-062-20261216T090000@VHSBREMEN
SUMMARY:Mit Yoga die körperliche und geistige Haltung stabilisieren (262M85-062) 
LOCATION:Gehörlosenzentrum, Gymnastikhalle (Nebengebäude), Schwachhauser Heerstraße 266, 28359 Bremen
END:VEVENT
BEGIN:VEVENT
DTSTAMP:20260420T200622
DTSTART;TZID=Europe/Berlin:20261217T090000
DTEND;TZID=Europe/Berlin:20261217T140000
UID:262M85-062-20261217T090000@VHSBREMEN
SUMMARY:Mit Yoga die körperliche und geistige Haltung stabilisieren (262M85-062) 
LOCATION:Gehörlosenzentrum, Gymnastikhalle (Nebengebäude), Schwachhauser Heerstraße 266, 28359 Bremen
END:VEVENT
BEGIN:VEVENT
DTSTAMP:20260420T200622
DTSTART;TZID=Europe/Berlin:20261218T090000
DTEND;TZID=Europe/Berlin:20261218T140000
UID:262M85-062-20261218T090000@VHSBREMEN
SUMMARY:Mit Yoga die körperliche und geistige Haltung stabilisieren (262M85-062) 
LOCATION:Gehörlosenzentrum, Gymnastikhalle (Nebengebäude), Schwachhauser Heerstraße 266, 28359 Bremen
END:VEVENT
END:VCALENDAR