BEGIN:VCALENDAR
VERSION:2.0
PRODID:https://www.kufer.de/kuferweb / DE
METHOD:PUBLISH
CALSCALE:GREGORIAN
X-WR-TIMEZONE:Europe/Berlin
BEGIN:VTIMEZONE
TZID:Europe/Berlin
X-LIC-LOCATION:Europe/Berlin
BEGIN:DAYLIGHT
TZOFFSETFROM:+0100
TZOFFSETTO:+0200
TZNAME:CEST
DTSTART:19700329T020000
RRULE:FREQ=YEARLY;INTERVAL=1;BYDAY=-1SU;BYMONTH=3
END:DAYLIGHT
BEGIN:STANDARD
TZOFFSETFROM:+0200
TZOFFSETTO:+0100
TZNAME:CET
DTSTART:19701025T030000
RRULE:FREQ=YEARLY;INTERVAL=1;BYDAY=-1SU;BYMONTH=10
END:STANDARD
END:VTIMEZONE
BEGIN:VEVENT
DTSTAMP:20260420T011947
DTSTART;TZID=Europe/Berlin:20261005T100000
DTEND;TZID=Europe/Berlin:20261005T160000
UID:262M76-805-20261005T100000@VHSBREMEN
SUMMARY:Mit anderem Blick auf die Stadt – Bildhauerei in Bremen Für Menschen mit Interesse an Holzbildhauerei (262M76-805) 
LOCATION:Atelierhaus Güterbahnhof, Hallenatelier Tor 31, Beim Handelsmuseum 9, 28195 Bremen
END:VEVENT
BEGIN:VEVENT
DTSTAMP:20260420T011947
DTSTART;TZID=Europe/Berlin:20261006T100000
DTEND;TZID=Europe/Berlin:20261006T160000
UID:262M76-805-20261006T100000@VHSBREMEN
SUMMARY:Mit anderem Blick auf die Stadt – Bildhauerei in Bremen Für Menschen mit Interesse an Holzbildhauerei (262M76-805) 
LOCATION:Atelierhaus Güterbahnhof, Hallenatelier Tor 31, Beim Handelsmuseum 9, 28195 Bremen
END:VEVENT
BEGIN:VEVENT
DTSTAMP:20260420T011947
DTSTART;TZID=Europe/Berlin:20261007T100000
DTEND;TZID=Europe/Berlin:20261007T160000
UID:262M76-805-20261007T100000@VHSBREMEN
SUMMARY:Mit anderem Blick auf die Stadt – Bildhauerei in Bremen Für Menschen mit Interesse an Holzbildhauerei (262M76-805) 
LOCATION:Atelierhaus Güterbahnhof, Hallenatelier Tor 31, Beim Handelsmuseum 9, 28195 Bremen
END:VEVENT
BEGIN:VEVENT
DTSTAMP:20260420T011947
DTSTART;TZID=Europe/Berlin:20261008T100000
DTEND;TZID=Europe/Berlin:20261008T160000
UID:262M76-805-20261008T100000@VHSBREMEN
SUMMARY:Mit anderem Blick auf die Stadt – Bildhauerei in Bremen Für Menschen mit Interesse an Holzbildhauerei (262M76-805) 
LOCATION:Atelierhaus Güterbahnhof, Hallenatelier Tor 31, Beim Handelsmuseum 9, 28195 Bremen
END:VEVENT
BEGIN:VEVENT
DTSTAMP:20260420T011947
DTSTART;TZID=Europe/Berlin:20261009T100000
DTEND;TZID=Europe/Berlin:20261009T160000
UID:262M76-805-20261009T100000@VHSBREMEN
SUMMARY:Mit anderem Blick auf die Stadt – Bildhauerei in Bremen Für Menschen mit Interesse an Holzbildhauerei (262M76-805) 
LOCATION:Atelierhaus Güterbahnhof, Hallenatelier Tor 31, Beim Handelsmuseum 9, 28195 Bremen
END:VEVENT
END:VCALENDAR