BEGIN:VCALENDAR
VERSION:2.0
PRODID:https://www.kufer.de/kuferweb / DE
METHOD:PUBLISH
CALSCALE:GREGORIAN
X-WR-TIMEZONE:Europe/Berlin
BEGIN:VTIMEZONE
TZID:Europe/Berlin
X-LIC-LOCATION:Europe/Berlin
BEGIN:DAYLIGHT
TZOFFSETFROM:+0100
TZOFFSETTO:+0200
TZNAME:CEST
DTSTART:19700329T020000
RRULE:FREQ=YEARLY;INTERVAL=1;BYDAY=-1SU;BYMONTH=3
END:DAYLIGHT
BEGIN:STANDARD
TZOFFSETFROM:+0200
TZOFFSETTO:+0100
TZNAME:CET
DTSTART:19701025T030000
RRULE:FREQ=YEARLY;INTERVAL=1;BYDAY=-1SU;BYMONTH=10
END:STANDARD
END:VTIMEZONE
BEGIN:VEVENT
DTSTAMP:20260419T194854
DTSTART;TZID=Europe/Berlin:20260914T100000
DTEND;TZID=Europe/Berlin:20260914T160000
UID:262M76-803-20260914T100000@VHSBREMEN
SUMMARY:Mit anderem Blick auf die Stadt – Bildhauerei in Bremen Für Menschen mit Interesse an Holzbildhauerei (262M76-803) 
LOCATION:Atelierhaus Güterbahnhof, Hallenatelier Tor 31, Beim Handelsmuseum 9, 28195 Bremen
END:VEVENT
BEGIN:VEVENT
DTSTAMP:20260419T194855
DTSTART;TZID=Europe/Berlin:20260915T100000
DTEND;TZID=Europe/Berlin:20260915T160000
UID:262M76-803-20260915T100000@VHSBREMEN
SUMMARY:Mit anderem Blick auf die Stadt – Bildhauerei in Bremen Für Menschen mit Interesse an Holzbildhauerei (262M76-803) 
LOCATION:Atelierhaus Güterbahnhof, Hallenatelier Tor 31, Beim Handelsmuseum 9, 28195 Bremen
END:VEVENT
BEGIN:VEVENT
DTSTAMP:20260419T194855
DTSTART;TZID=Europe/Berlin:20260916T100000
DTEND;TZID=Europe/Berlin:20260916T160000
UID:262M76-803-20260916T100000@VHSBREMEN
SUMMARY:Mit anderem Blick auf die Stadt – Bildhauerei in Bremen Für Menschen mit Interesse an Holzbildhauerei (262M76-803) 
LOCATION:Atelierhaus Güterbahnhof, Hallenatelier Tor 31, Beim Handelsmuseum 9, 28195 Bremen
END:VEVENT
BEGIN:VEVENT
DTSTAMP:20260419T194855
DTSTART;TZID=Europe/Berlin:20260917T100000
DTEND;TZID=Europe/Berlin:20260917T160000
UID:262M76-803-20260917T100000@VHSBREMEN
SUMMARY:Mit anderem Blick auf die Stadt – Bildhauerei in Bremen Für Menschen mit Interesse an Holzbildhauerei (262M76-803) 
LOCATION:Atelierhaus Güterbahnhof, Hallenatelier Tor 31, Beim Handelsmuseum 9, 28195 Bremen
END:VEVENT
BEGIN:VEVENT
DTSTAMP:20260419T194855
DTSTART;TZID=Europe/Berlin:20260918T100000
DTEND;TZID=Europe/Berlin:20260918T160000
UID:262M76-803-20260918T100000@VHSBREMEN
SUMMARY:Mit anderem Blick auf die Stadt – Bildhauerei in Bremen Für Menschen mit Interesse an Holzbildhauerei (262M76-803) 
LOCATION:Atelierhaus Güterbahnhof, Hallenatelier Tor 31, Beim Handelsmuseum 9, 28195 Bremen
END:VEVENT
END:VCALENDAR