BEGIN:VCALENDAR
VERSION:2.0
PRODID:https://www.kufer.de/kuferweb / DE
METHOD:PUBLISH
CALSCALE:GREGORIAN
X-WR-TIMEZONE:Europe/Berlin
BEGIN:VTIMEZONE
TZID:Europe/Berlin
X-LIC-LOCATION:Europe/Berlin
BEGIN:DAYLIGHT
TZOFFSETFROM:+0100
TZOFFSETTO:+0200
TZNAME:CEST
DTSTART:19700329T020000
RRULE:FREQ=YEARLY;INTERVAL=1;BYDAY=-1SU;BYMONTH=3
END:DAYLIGHT
BEGIN:STANDARD
TZOFFSETFROM:+0200
TZOFFSETTO:+0100
TZNAME:CET
DTSTART:19701025T030000
RRULE:FREQ=YEARLY;INTERVAL=1;BYDAY=-1SU;BYMONTH=10
END:STANDARD
END:VTIMEZONE
BEGIN:VEVENT
DTSTAMP:20260419T193048
DTSTART;TZID=Europe/Berlin:20260907T090000
DTEND;TZID=Europe/Berlin:20260907T160000
UID:262M76-602-20260907T090000@VHSBREMEN
SUMMARY:Malerei - Theorie und Praxis verstehen Für Fortgeschrittene mit Erfahrungen in der Malerei durch Kursbesuche oder Ausbildung (262M76-602) 
LOCATION:vhs im Bamberger, Raum 310 Atelier, Faulenstraße 69, 28195 Bremen
END:VEVENT
BEGIN:VEVENT
DTSTAMP:20260419T193048
DTSTART;TZID=Europe/Berlin:20260908T090000
DTEND;TZID=Europe/Berlin:20260908T160000
UID:262M76-602-20260908T090000@VHSBREMEN
SUMMARY:Malerei - Theorie und Praxis verstehen Für Fortgeschrittene mit Erfahrungen in der Malerei durch Kursbesuche oder Ausbildung (262M76-602) 
LOCATION:vhs im Bamberger, Raum 310 Atelier, Faulenstraße 69, 28195 Bremen
END:VEVENT
BEGIN:VEVENT
DTSTAMP:20260419T193048
DTSTART;TZID=Europe/Berlin:20260909T090000
DTEND;TZID=Europe/Berlin:20260909T160000
UID:262M76-602-20260909T090000@VHSBREMEN
SUMMARY:Malerei - Theorie und Praxis verstehen Für Fortgeschrittene mit Erfahrungen in der Malerei durch Kursbesuche oder Ausbildung (262M76-602) 
LOCATION:vhs im Bamberger, Raum 308 Atelier, Faulenstraße 69, 28195 Bremen
END:VEVENT
BEGIN:VEVENT
DTSTAMP:20260419T193048
DTSTART;TZID=Europe/Berlin:20260910T090000
DTEND;TZID=Europe/Berlin:20260910T160000
UID:262M76-602-20260910T090000@VHSBREMEN
SUMMARY:Malerei - Theorie und Praxis verstehen Für Fortgeschrittene mit Erfahrungen in der Malerei durch Kursbesuche oder Ausbildung (262M76-602) 
LOCATION:vhs im Bamberger, Raum 310 Atelier, Faulenstraße 69, 28195 Bremen
END:VEVENT
BEGIN:VEVENT
DTSTAMP:20260419T193048
DTSTART;TZID=Europe/Berlin:20260911T090000
DTEND;TZID=Europe/Berlin:20260911T160000
UID:262M76-602-20260911T090000@VHSBREMEN
SUMMARY:Malerei - Theorie und Praxis verstehen Für Fortgeschrittene mit Erfahrungen in der Malerei durch Kursbesuche oder Ausbildung (262M76-602) 
LOCATION:vhs im Bamberger, Raum 310 Atelier, Faulenstraße 69, 28195 Bremen
END:VEVENT
END:VCALENDAR