BEGIN:VCALENDAR
VERSION:2.0
PRODID:https://www.kufer.de/kuferweb / DE
METHOD:PUBLISH
CALSCALE:GREGORIAN
X-WR-TIMEZONE:Europe/Berlin
BEGIN:VTIMEZONE
TZID:Europe/Berlin
X-LIC-LOCATION:Europe/Berlin
BEGIN:DAYLIGHT
TZOFFSETFROM:+0100
TZOFFSETTO:+0200
TZNAME:CEST
DTSTART:19700329T020000
RRULE:FREQ=YEARLY;INTERVAL=1;BYDAY=-1SU;BYMONTH=3
END:DAYLIGHT
BEGIN:STANDARD
TZOFFSETFROM:+0200
TZOFFSETTO:+0100
TZNAME:CET
DTSTART:19701025T030000
RRULE:FREQ=YEARLY;INTERVAL=1;BYDAY=-1SU;BYMONTH=10
END:STANDARD
END:VTIMEZONE
BEGIN:VEVENT
DTSTAMP:20260421T013116
DTSTART;TZID=Europe/Berlin:20260928T100000
DTEND;TZID=Europe/Berlin:20260928T150000
UID:262M71-188-20260928T100000@VHSBREMEN
SUMMARY:Fotografieren als Prozess - Was der eigene Blick mich lehren kann Für Einsteiger*innen und Fortgeschrittene (262M71-188) 
LOCATION:vhs - Plantage, Zugang vom Innenhof, Eingang 24, Plantage 13, 28215 Bremen
END:VEVENT
BEGIN:VEVENT
DTSTAMP:20260421T013116
DTSTART;TZID=Europe/Berlin:20260929T100000
DTEND;TZID=Europe/Berlin:20260929T150000
UID:262M71-188-20260929T100000@VHSBREMEN
SUMMARY:Fotografieren als Prozess - Was der eigene Blick mich lehren kann Für Einsteiger*innen und Fortgeschrittene (262M71-188) 
LOCATION:vhs - Plantage, Zugang vom Innenhof, Eingang 24, Plantage 13, 28215 Bremen
END:VEVENT
BEGIN:VEVENT
DTSTAMP:20260421T013116
DTSTART;TZID=Europe/Berlin:20260930T100000
DTEND;TZID=Europe/Berlin:20260930T150000
UID:262M71-188-20260930T100000@VHSBREMEN
SUMMARY:Fotografieren als Prozess - Was der eigene Blick mich lehren kann Für Einsteiger*innen und Fortgeschrittene (262M71-188) 
LOCATION:vhs - Plantage, Zugang vom Innenhof, Eingang 24, Plantage 13, 28215 Bremen
END:VEVENT
BEGIN:VEVENT
DTSTAMP:20260421T013116
DTSTART;TZID=Europe/Berlin:20260930T100000
DTEND;TZID=Europe/Berlin:20260930T110000
UID:262M71-188-20260930T100000@VHSBREMEN
SUMMARY:Fotografieren als Prozess - Was der eigene Blick mich lehren kann Für Einsteiger*innen und Fortgeschrittene (262M71-188) 
LOCATION:vhs - Plantage, Zugang vom Innenhof, Raum Eingang 6 Studio, Plantage 13, 28215 Bremen
END:VEVENT
BEGIN:VEVENT
DTSTAMP:20260421T013116
DTSTART;TZID=Europe/Berlin:20261001T100000
DTEND;TZID=Europe/Berlin:20261001T150000
UID:262M71-188-20261001T100000@VHSBREMEN
DESCRIPTION:Exkursion
SUMMARY:Fotografieren als Prozess - Was der eigene Blick mich lehren kann Für Einsteiger*innen und Fortgeschrittene (262M71-188) 
LOCATION:vhs - Plantage, Zugang vom Innenhof, Eingang 24, Plantage 13, 28215 Bremen
END:VEVENT
BEGIN:VEVENT
DTSTAMP:20260421T013116
DTSTART;TZID=Europe/Berlin:20261002T100000
DTEND;TZID=Europe/Berlin:20261002T150000
UID:262M71-188-20261002T100000@VHSBREMEN
SUMMARY:Fotografieren als Prozess - Was der eigene Blick mich lehren kann Für Einsteiger*innen und Fortgeschrittene (262M71-188) 
LOCATION:vhs - Plantage, Zugang vom Innenhof, Eingang 24, Plantage 13, 28215 Bremen
END:VEVENT
BEGIN:VEVENT
DTSTAMP:20260421T013116
DTSTART;TZID=Europe/Berlin:20261002T100000
DTEND;TZID=Europe/Berlin:20261002T110000
UID:262M71-188-20261002T100000@VHSBREMEN
SUMMARY:Fotografieren als Prozess - Was der eigene Blick mich lehren kann Für Einsteiger*innen und Fortgeschrittene (262M71-188) 
LOCATION:vhs - Plantage, Zugang vom Innenhof, Raum Eingang 6 Studio, Plantage 13, 28215 Bremen
END:VEVENT
END:VCALENDAR