BEGIN:VCALENDAR
VERSION:2.0
PRODID:https://www.kufer.de/kuferweb / DE
METHOD:PUBLISH
CALSCALE:GREGORIAN
X-WR-TIMEZONE:Europe/Berlin
BEGIN:VTIMEZONE
TZID:Europe/Berlin
X-LIC-LOCATION:Europe/Berlin
BEGIN:DAYLIGHT
TZOFFSETFROM:+0100
TZOFFSETTO:+0200
TZNAME:CEST
DTSTART:19700329T020000
RRULE:FREQ=YEARLY;INTERVAL=1;BYDAY=-1SU;BYMONTH=3
END:DAYLIGHT
BEGIN:STANDARD
TZOFFSETFROM:+0200
TZOFFSETTO:+0100
TZNAME:CET
DTSTART:19701025T030000
RRULE:FREQ=YEARLY;INTERVAL=1;BYDAY=-1SU;BYMONTH=10
END:STANDARD
END:VTIMEZONE
BEGIN:VEVENT
DTSTAMP:20260421T013141
DTSTART;TZID=Europe/Berlin:20261109T090000
DTEND;TZID=Europe/Berlin:20261109T160000
UID:262M63-114-20261109T090000@VHSBREMEN
SUMMARY:Vorbereitungskurs zum/ zur ehrenamtlichen Kinderhospizbegleiter*in (262M63-114) 
LOCATION:Tagungshaus Bredbeck, Osterholz-Scharmbeck, Seminarraum, An der Wassermühle 30, 27711 Osterholz-Scharmbeck
END:VEVENT
BEGIN:VEVENT
DTSTAMP:20260421T013141
DTSTART;TZID=Europe/Berlin:20261110T090000
DTEND;TZID=Europe/Berlin:20261110T160000
UID:262M63-114-20261110T090000@VHSBREMEN
SUMMARY:Vorbereitungskurs zum/ zur ehrenamtlichen Kinderhospizbegleiter*in (262M63-114) 
LOCATION:Tagungshaus Bredbeck, Osterholz-Scharmbeck, Seminarraum, An der Wassermühle 30, 27711 Osterholz-Scharmbeck
END:VEVENT
BEGIN:VEVENT
DTSTAMP:20260421T013141
DTSTART;TZID=Europe/Berlin:20261111T090000
DTEND;TZID=Europe/Berlin:20261111T160000
UID:262M63-114-20261111T090000@VHSBREMEN
SUMMARY:Vorbereitungskurs zum/ zur ehrenamtlichen Kinderhospizbegleiter*in (262M63-114) 
LOCATION:Tagungshaus Bredbeck, Osterholz-Scharmbeck, Seminarraum, An der Wassermühle 30, 27711 Osterholz-Scharmbeck
END:VEVENT
BEGIN:VEVENT
DTSTAMP:20260421T013141
DTSTART;TZID=Europe/Berlin:20261112T090000
DTEND;TZID=Europe/Berlin:20261112T160000
UID:262M63-114-20261112T090000@VHSBREMEN
SUMMARY:Vorbereitungskurs zum/ zur ehrenamtlichen Kinderhospizbegleiter*in (262M63-114) 
LOCATION:Tagungshaus Bredbeck, Osterholz-Scharmbeck, Seminarraum, An der Wassermühle 30, 27711 Osterholz-Scharmbeck
END:VEVENT
BEGIN:VEVENT
DTSTAMP:20260421T013141
DTSTART;TZID=Europe/Berlin:20261113T090000
DTEND;TZID=Europe/Berlin:20261113T160000
UID:262M63-114-20261113T090000@VHSBREMEN
SUMMARY:Vorbereitungskurs zum/ zur ehrenamtlichen Kinderhospizbegleiter*in (262M63-114) 
LOCATION:Tagungshaus Bredbeck, Osterholz-Scharmbeck, Seminarraum, An der Wassermühle 30, 27711 Osterholz-Scharmbeck
END:VEVENT
END:VCALENDAR