BEGIN:VCALENDAR
VERSION:2.0
PRODID:https://www.kufer.de/kuferweb / DE
METHOD:PUBLISH
CALSCALE:GREGORIAN
X-WR-TIMEZONE:Europe/Berlin
BEGIN:VTIMEZONE
TZID:Europe/Berlin
X-LIC-LOCATION:Europe/Berlin
BEGIN:DAYLIGHT
TZOFFSETFROM:+0100
TZOFFSETTO:+0200
TZNAME:CEST
DTSTART:19700329T020000
RRULE:FREQ=YEARLY;INTERVAL=1;BYDAY=-1SU;BYMONTH=3
END:DAYLIGHT
BEGIN:STANDARD
TZOFFSETFROM:+0200
TZOFFSETTO:+0100
TZNAME:CET
DTSTART:19701025T030000
RRULE:FREQ=YEARLY;INTERVAL=1;BYDAY=-1SU;BYMONTH=10
END:STANDARD
END:VTIMEZONE
BEGIN:VEVENT
DTSTAMP:20260420T182854
DTSTART;TZID=Europe/Berlin:20261102T090000
DTEND;TZID=Europe/Berlin:20261102T140000
UID:262M62-220-20261102T090000@VHSBREMEN
SUMMARY:Mobile Video & Storytelling Mit dem Smartphone Filme drehen: Von der Aufnahme bis zum Schnitt (262M62-220) 
LOCATION:vhs am Bahnhof, Raum 5.2, Breitenweg 2, 28195 Bremen
END:VEVENT
BEGIN:VEVENT
DTSTAMP:20260420T182854
DTSTART;TZID=Europe/Berlin:20261103T090000
DTEND;TZID=Europe/Berlin:20261103T140000
UID:262M62-220-20261103T090000@VHSBREMEN
SUMMARY:Mobile Video & Storytelling Mit dem Smartphone Filme drehen: Von der Aufnahme bis zum Schnitt (262M62-220) 
LOCATION:vhs am Bahnhof, Raum 5.2, Breitenweg 2, 28195 Bremen
END:VEVENT
BEGIN:VEVENT
DTSTAMP:20260420T182854
DTSTART;TZID=Europe/Berlin:20261104T090000
DTEND;TZID=Europe/Berlin:20261104T140000
UID:262M62-220-20261104T090000@VHSBREMEN
SUMMARY:Mobile Video & Storytelling Mit dem Smartphone Filme drehen: Von der Aufnahme bis zum Schnitt (262M62-220) 
LOCATION:vhs am Bahnhof, Raum 5.2, Breitenweg 2, 28195 Bremen
END:VEVENT
BEGIN:VEVENT
DTSTAMP:20260420T182854
DTSTART;TZID=Europe/Berlin:20261105T090000
DTEND;TZID=Europe/Berlin:20261105T140000
UID:262M62-220-20261105T090000@VHSBREMEN
SUMMARY:Mobile Video & Storytelling Mit dem Smartphone Filme drehen: Von der Aufnahme bis zum Schnitt (262M62-220) 
LOCATION:vhs am Bahnhof, Raum 5.2, Breitenweg 2, 28195 Bremen
END:VEVENT
END:VCALENDAR