BEGIN:VCALENDAR
VERSION:2.0
PRODID:https://www.kufer.de/kuferweb / DE
METHOD:PUBLISH
CALSCALE:GREGORIAN
X-WR-TIMEZONE:Europe/Berlin
BEGIN:VTIMEZONE
TZID:Europe/Berlin
X-LIC-LOCATION:Europe/Berlin
BEGIN:DAYLIGHT
TZOFFSETFROM:+0100
TZOFFSETTO:+0200
TZNAME:CEST
DTSTART:19700329T020000
RRULE:FREQ=YEARLY;INTERVAL=1;BYDAY=-1SU;BYMONTH=3
END:DAYLIGHT
BEGIN:STANDARD
TZOFFSETFROM:+0200
TZOFFSETTO:+0100
TZNAME:CET
DTSTART:19701025T030000
RRULE:FREQ=YEARLY;INTERVAL=1;BYDAY=-1SU;BYMONTH=10
END:STANDARD
END:VTIMEZONE
BEGIN:VEVENT
DTSTAMP:20260420T215944
DTSTART;TZID=Europe/Berlin:20260921T090000
DTEND;TZID=Europe/Berlin:20260921T140000
UID:262M26-920-20260921T090000@VHSBREMEN
SUMMARY:Stressabbau in Natur und Garten? - Neue Kräfte für Beruf, Arbeit und Alltag sammeln! (262M26-920) 
LOCATION:Arbeit & Ökologie / Bürgerzentrum Huchting, Amersfoorter Straße 8, 28259 Bremen
END:VEVENT
BEGIN:VEVENT
DTSTAMP:20260420T215944
DTSTART;TZID=Europe/Berlin:20260922T090000
DTEND;TZID=Europe/Berlin:20260922T140000
UID:262M26-920-20260922T090000@VHSBREMEN
SUMMARY:Stressabbau in Natur und Garten? - Neue Kräfte für Beruf, Arbeit und Alltag sammeln! (262M26-920) 
LOCATION:Arbeit & Ökologie / Bürgerzentrum Huchting, Amersfoorter Straße 8, 28259 Bremen
END:VEVENT
BEGIN:VEVENT
DTSTAMP:20260420T215944
DTSTART;TZID=Europe/Berlin:20260923T090000
DTEND;TZID=Europe/Berlin:20260923T140000
UID:262M26-920-20260923T090000@VHSBREMEN
SUMMARY:Stressabbau in Natur und Garten? - Neue Kräfte für Beruf, Arbeit und Alltag sammeln! (262M26-920) 
LOCATION:Arbeit & Ökologie / Bürgerzentrum Huchting, Amersfoorter Straße 8, 28259 Bremen
END:VEVENT
BEGIN:VEVENT
DTSTAMP:20260420T215944
DTSTART;TZID=Europe/Berlin:20260924T090000
DTEND;TZID=Europe/Berlin:20260924T140000
UID:262M26-920-20260924T090000@VHSBREMEN
SUMMARY:Stressabbau in Natur und Garten? - Neue Kräfte für Beruf, Arbeit und Alltag sammeln! (262M26-920) 
LOCATION:Arbeit & Ökologie / Bürgerzentrum Huchting, Amersfoorter Straße 8, 28259 Bremen
END:VEVENT
BEGIN:VEVENT
DTSTAMP:20260420T215944
DTSTART;TZID=Europe/Berlin:20260925T090000
DTEND;TZID=Europe/Berlin:20260925T140000
UID:262M26-920-20260925T090000@VHSBREMEN
SUMMARY:Stressabbau in Natur und Garten? - Neue Kräfte für Beruf, Arbeit und Alltag sammeln! (262M26-920) 
LOCATION:Arbeit & Ökologie / Bürgerzentrum Huchting, Amersfoorter Straße 8, 28259 Bremen
END:VEVENT
END:VCALENDAR