BEGIN:VCALENDAR
VERSION:2.0
PRODID:https://www.kufer.de/kuferweb / DE
METHOD:PUBLISH
CALSCALE:GREGORIAN
X-WR-TIMEZONE:Europe/Berlin
BEGIN:VTIMEZONE
TZID:Europe/Berlin
X-LIC-LOCATION:Europe/Berlin
BEGIN:DAYLIGHT
TZOFFSETFROM:+0100
TZOFFSETTO:+0200
TZNAME:CEST
DTSTART:19700329T020000
RRULE:FREQ=YEARLY;INTERVAL=1;BYDAY=-1SU;BYMONTH=3
END:DAYLIGHT
BEGIN:STANDARD
TZOFFSETFROM:+0200
TZOFFSETTO:+0100
TZNAME:CET
DTSTART:19701025T030000
RRULE:FREQ=YEARLY;INTERVAL=1;BYDAY=-1SU;BYMONTH=10
END:STANDARD
END:VTIMEZONE
BEGIN:VEVENT
DTSTAMP:20260426T060756
DTSTART;TZID=Europe/Berlin:20260901T173000
DTEND;TZID=Europe/Berlin:20260901T194500
UID:262M26-655-20260901T173000@VHSBREMEN
SUMMARY:Gartenplanung - do it yourself (262M26-655) 
LOCATION:vhs im Bamberger, Raum 314, Faulenstraße 69, 28195 Bremen
END:VEVENT
BEGIN:VEVENT
DTSTAMP:20260426T060756
DTSTART;TZID=Europe/Berlin:20260915T173000
DTEND;TZID=Europe/Berlin:20260915T194500
UID:262M26-655-20260915T173000@VHSBREMEN
SUMMARY:Gartenplanung - do it yourself (262M26-655) 
LOCATION:vhs im Bamberger, Raum 314, Faulenstraße 69, 28195 Bremen
END:VEVENT
BEGIN:VEVENT
DTSTAMP:20260426T060756
DTSTART;TZID=Europe/Berlin:20260922T173000
DTEND;TZID=Europe/Berlin:20260922T194500
UID:262M26-655-20260922T173000@VHSBREMEN
SUMMARY:Gartenplanung - do it yourself (262M26-655) 
LOCATION:vhs im Bamberger, Raum 314, Faulenstraße 69, 28195 Bremen
END:VEVENT
BEGIN:VEVENT
DTSTAMP:20260426T060756
DTSTART;TZID=Europe/Berlin:20260929T173000
DTEND;TZID=Europe/Berlin:20260929T194500
UID:262M26-655-20260929T173000@VHSBREMEN
SUMMARY:Gartenplanung - do it yourself (262M26-655) 
LOCATION:vhs im Bamberger, Raum 314, Faulenstraße 69, 28195 Bremen
END:VEVENT
BEGIN:VEVENT
DTSTAMP:20260426T060756
DTSTART;TZID=Europe/Berlin:20261006T173000
DTEND;TZID=Europe/Berlin:20261006T194500
UID:262M26-655-20261006T173000@VHSBREMEN
SUMMARY:Gartenplanung - do it yourself (262M26-655) 
LOCATION:vhs im Bamberger, Raum 314, Faulenstraße 69, 28195 Bremen
END:VEVENT
END:VCALENDAR