BEGIN:VCALENDAR
VERSION:2.0
PRODID:https://www.kufer.de/kuferweb / DE
METHOD:PUBLISH
CALSCALE:GREGORIAN
X-WR-TIMEZONE:Europe/Berlin
BEGIN:VTIMEZONE
TZID:Europe/Berlin
X-LIC-LOCATION:Europe/Berlin
BEGIN:DAYLIGHT
TZOFFSETFROM:+0100
TZOFFSETTO:+0200
TZNAME:CEST
DTSTART:19700329T020000
RRULE:FREQ=YEARLY;INTERVAL=1;BYDAY=-1SU;BYMONTH=3
END:DAYLIGHT
BEGIN:STANDARD
TZOFFSETFROM:+0200
TZOFFSETTO:+0100
TZNAME:CET
DTSTART:19701025T030000
RRULE:FREQ=YEARLY;INTERVAL=1;BYDAY=-1SU;BYMONTH=10
END:STANDARD
END:VTIMEZONE
BEGIN:VEVENT
DTSTAMP:20260423T120647
DTSTART;TZID=Europe/Berlin:20260914T100000
DTEND;TZID=Europe/Berlin:20260914T183000
UID:262M25-502-20260914T100000@VHSBREMEN
SUMMARY:Wald - Mensch - Forst: 200 Jahre Waldwirtschaft (Altenau/Harz) (262M25-502) 
LOCATION:EC-Tagungsstätte, Altenau / Oberharz, An der Schwefelquelle 17, 38707 Altenau/ Oberharz
END:VEVENT
BEGIN:VEVENT
DTSTAMP:20260423T120647
DTSTART;TZID=Europe/Berlin:20260915T090000
DTEND;TZID=Europe/Berlin:20260915T170000
UID:262M25-502-20260915T090000@VHSBREMEN
SUMMARY:Wald - Mensch - Forst: 200 Jahre Waldwirtschaft (Altenau/Harz) (262M25-502) 
LOCATION:EC-Tagungsstätte, Altenau / Oberharz, An der Schwefelquelle 17, 38707 Altenau/ Oberharz
END:VEVENT
BEGIN:VEVENT
DTSTAMP:20260423T120647
DTSTART;TZID=Europe/Berlin:20260916T090000
DTEND;TZID=Europe/Berlin:20260916T170000
UID:262M25-502-20260916T090000@VHSBREMEN
SUMMARY:Wald - Mensch - Forst: 200 Jahre Waldwirtschaft (Altenau/Harz) (262M25-502) 
LOCATION:EC-Tagungsstätte, Altenau / Oberharz, An der Schwefelquelle 17, 38707 Altenau/ Oberharz
END:VEVENT
BEGIN:VEVENT
DTSTAMP:20260423T120647
DTSTART;TZID=Europe/Berlin:20260917T090000
DTEND;TZID=Europe/Berlin:20260917T170000
UID:262M25-502-20260917T090000@VHSBREMEN
SUMMARY:Wald - Mensch - Forst: 200 Jahre Waldwirtschaft (Altenau/Harz) (262M25-502) 
LOCATION:EC-Tagungsstätte, Altenau / Oberharz, An der Schwefelquelle 17, 38707 Altenau/ Oberharz
END:VEVENT
BEGIN:VEVENT
DTSTAMP:20260423T120647
DTSTART;TZID=Europe/Berlin:20260918T083000
DTEND;TZID=Europe/Berlin:20260918T143000
UID:262M25-502-20260918T083000@VHSBREMEN
SUMMARY:Wald - Mensch - Forst: 200 Jahre Waldwirtschaft (Altenau/Harz) (262M25-502) 
LOCATION:EC-Tagungsstätte, Altenau / Oberharz, An der Schwefelquelle 17, 38707 Altenau/ Oberharz
END:VEVENT
END:VCALENDAR