BEGIN:VCALENDAR
VERSION:2.0
PRODID:https://www.kufer.de/kuferweb / DE
METHOD:PUBLISH
CALSCALE:GREGORIAN
X-WR-TIMEZONE:Europe/Berlin
BEGIN:VTIMEZONE
TZID:Europe/Berlin
X-LIC-LOCATION:Europe/Berlin
BEGIN:DAYLIGHT
TZOFFSETFROM:+0100
TZOFFSETTO:+0200
TZNAME:CEST
DTSTART:19700329T020000
RRULE:FREQ=YEARLY;INTERVAL=1;BYDAY=-1SU;BYMONTH=3
END:DAYLIGHT
BEGIN:STANDARD
TZOFFSETFROM:+0200
TZOFFSETTO:+0100
TZNAME:CET
DTSTART:19701025T030000
RRULE:FREQ=YEARLY;INTERVAL=1;BYDAY=-1SU;BYMONTH=10
END:STANDARD
END:VTIMEZONE
BEGIN:VEVENT
DTSTAMP:20260424T093521
DTSTART;TZID=Europe/Berlin:20261108T100000
DTEND;TZID=Europe/Berlin:20261108T180000
UID:262M07-003-20261108T100000@VHSBREMEN
DESCRIPTION:Ausstellungsaufbau
SUMMARY:Ausstellung: "Verbindung" (262M07-003) 
LOCATION:vhs im Bamberger, Raum 101, Faulenstraße 69, 28195 Bremen
END:VEVENT
BEGIN:VEVENT
DTSTAMP:20260424T093521
DTSTART;TZID=Europe/Berlin:20261109T090000
DTEND;TZID=Europe/Berlin:20261109T180000
UID:262M07-003-20261109T090000@VHSBREMEN
SUMMARY:Ausstellung: "Verbindung" (262M07-003) 
LOCATION:vhs im Bamberger, Galerie im Bamberger, Faulenstraße 69, 28195 Bremen
END:VEVENT
BEGIN:VEVENT
DTSTAMP:20260424T093521
DTSTART;TZID=Europe/Berlin:20261110T090000
DTEND;TZID=Europe/Berlin:20261110T180000
UID:262M07-003-20261110T090000@VHSBREMEN
SUMMARY:Ausstellung: "Verbindung" (262M07-003) 
LOCATION:vhs im Bamberger, Galerie im Bamberger, Faulenstraße 69, 28195 Bremen
END:VEVENT
BEGIN:VEVENT
DTSTAMP:20260424T093521
DTSTART;TZID=Europe/Berlin:20261111T090000
DTEND;TZID=Europe/Berlin:20261111T180000
UID:262M07-003-20261111T090000@VHSBREMEN
SUMMARY:Ausstellung: "Verbindung" (262M07-003) 
LOCATION:vhs im Bamberger, Galerie im Bamberger, Faulenstraße 69, 28195 Bremen
END:VEVENT
BEGIN:VEVENT
DTSTAMP:20260424T093521
DTSTART;TZID=Europe/Berlin:20261112T090000
DTEND;TZID=Europe/Berlin:20261112T180000
UID:262M07-003-20261112T090000@VHSBREMEN
SUMMARY:Ausstellung: "Verbindung" (262M07-003) 
LOCATION:vhs im Bamberger, Galerie im Bamberger, Faulenstraße 69, 28195 Bremen
END:VEVENT
BEGIN:VEVENT
DTSTAMP:20260424T093521
DTSTART;TZID=Europe/Berlin:20261113T090000
DTEND;TZID=Europe/Berlin:20261113T180000
UID:262M07-003-20261113T090000@VHSBREMEN
SUMMARY:Ausstellung: "Verbindung" (262M07-003) 
LOCATION:vhs im Bamberger, Galerie im Bamberger, Faulenstraße 69, 28195 Bremen
END:VEVENT
BEGIN:VEVENT
DTSTAMP:20260424T093521
DTSTART;TZID=Europe/Berlin:20261114T100000
DTEND;TZID=Europe/Berlin:20261114T150000
UID:262M07-003-20261114T100000@VHSBREMEN
SUMMARY:Ausstellung: "Verbindung" (262M07-003) 
LOCATION:vhs im Bamberger, Galerie im Bamberger, Faulenstraße 69, 28195 Bremen
END:VEVENT
BEGIN:VEVENT
DTSTAMP:20260424T093521
DTSTART;TZID=Europe/Berlin:20261115T100000
DTEND;TZID=Europe/Berlin:20261115T150000
UID:262M07-003-20261115T100000@VHSBREMEN
SUMMARY:Ausstellung: "Verbindung" (262M07-003) 
LOCATION:vhs im Bamberger, Galerie im Bamberger, Faulenstraße 69, 28195 Bremen
END:VEVENT
BEGIN:VEVENT
DTSTAMP:20260424T093521
DTSTART;TZID=Europe/Berlin:20261116T090000
DTEND;TZID=Europe/Berlin:20261116T180000
UID:262M07-003-20261116T090000@VHSBREMEN
SUMMARY:Ausstellung: "Verbindung" (262M07-003) 
LOCATION:vhs im Bamberger, Galerie im Bamberger, Faulenstraße 69, 28195 Bremen
END:VEVENT
BEGIN:VEVENT
DTSTAMP:20260424T093521
DTSTART;TZID=Europe/Berlin:20261117T090000
DTEND;TZID=Europe/Berlin:20261117T180000
UID:262M07-003-20261117T090000@VHSBREMEN
SUMMARY:Ausstellung: "Verbindung" (262M07-003) 
LOCATION:vhs im Bamberger, Galerie im Bamberger, Faulenstraße 69, 28195 Bremen
END:VEVENT
BEGIN:VEVENT
DTSTAMP:20260424T093521
DTSTART;TZID=Europe/Berlin:20261118T090000
DTEND;TZID=Europe/Berlin:20261118T180000
UID:262M07-003-20261118T090000@VHSBREMEN
SUMMARY:Ausstellung: "Verbindung" (262M07-003) 
LOCATION:vhs im Bamberger, Galerie im Bamberger, Faulenstraße 69, 28195 Bremen
END:VEVENT
BEGIN:VEVENT
DTSTAMP:20260424T093521
DTSTART;TZID=Europe/Berlin:20261119T090000
DTEND;TZID=Europe/Berlin:20261119T180000
UID:262M07-003-20261119T090000@VHSBREMEN
SUMMARY:Ausstellung: "Verbindung" (262M07-003) 
LOCATION:vhs im Bamberger, Galerie im Bamberger, Faulenstraße 69, 28195 Bremen
END:VEVENT
BEGIN:VEVENT
DTSTAMP:20260424T093521
DTSTART;TZID=Europe/Berlin:20261120T100000
DTEND;TZID=Europe/Berlin:20261120T150000
UID:262M07-003-20261120T100000@VHSBREMEN
SUMMARY:Ausstellung: "Verbindung" (262M07-003) 
LOCATION:vhs im Bamberger, Galerie im Bamberger, Faulenstraße 69, 28195 Bremen
END:VEVENT
BEGIN:VEVENT
DTSTAMP:20260424T093521
DTSTART;TZID=Europe/Berlin:20261121T100000
DTEND;TZID=Europe/Berlin:20261121T150000
UID:262M07-003-20261121T100000@VHSBREMEN
SUMMARY:Ausstellung: "Verbindung" (262M07-003) 
LOCATION:vhs im Bamberger, Galerie im Bamberger, Faulenstraße 69, 28195 Bremen
END:VEVENT
BEGIN:VEVENT
DTSTAMP:20260424T093521
DTSTART;TZID=Europe/Berlin:20261122T100000
DTEND;TZID=Europe/Berlin:20261122T150000
UID:262M07-003-20261122T100000@VHSBREMEN
SUMMARY:Ausstellung: "Verbindung" (262M07-003) 
LOCATION:vhs im Bamberger, Galerie im Bamberger, Faulenstraße 69, 28195 Bremen
END:VEVENT
BEGIN:VEVENT
DTSTAMP:20260424T093521
DTSTART;TZID=Europe/Berlin:20261123T090000
DTEND;TZID=Europe/Berlin:20261123T180000
UID:262M07-003-20261123T090000@VHSBREMEN
SUMMARY:Ausstellung: "Verbindung" (262M07-003) 
LOCATION:vhs im Bamberger, Galerie im Bamberger, Faulenstraße 69, 28195 Bremen
END:VEVENT
BEGIN:VEVENT
DTSTAMP:20260424T093521
DTSTART;TZID=Europe/Berlin:20261124T090000
DTEND;TZID=Europe/Berlin:20261124T180000
UID:262M07-003-20261124T090000@VHSBREMEN
SUMMARY:Ausstellung: "Verbindung" (262M07-003) 
LOCATION:vhs im Bamberger, Galerie im Bamberger, Faulenstraße 69, 28195 Bremen
END:VEVENT
BEGIN:VEVENT
DTSTAMP:20260424T093521
DTSTART;TZID=Europe/Berlin:20261125T090000
DTEND;TZID=Europe/Berlin:20261125T180000
UID:262M07-003-20261125T090000@VHSBREMEN
SUMMARY:Ausstellung: "Verbindung" (262M07-003) 
LOCATION:vhs im Bamberger, Galerie im Bamberger, Faulenstraße 69, 28195 Bremen
END:VEVENT
BEGIN:VEVENT
DTSTAMP:20260424T093521
DTSTART;TZID=Europe/Berlin:20261126T090000
DTEND;TZID=Europe/Berlin:20261126T180000
UID:262M07-003-20261126T090000@VHSBREMEN
SUMMARY:Ausstellung: "Verbindung" (262M07-003) 
LOCATION:vhs im Bamberger, Galerie im Bamberger, Faulenstraße 69, 28195 Bremen
END:VEVENT
BEGIN:VEVENT
DTSTAMP:20260424T093521
DTSTART;TZID=Europe/Berlin:20261127T090000
DTEND;TZID=Europe/Berlin:20261127T180000
UID:262M07-003-20261127T090000@VHSBREMEN
SUMMARY:Ausstellung: "Verbindung" (262M07-003) 
LOCATION:vhs im Bamberger, Galerie im Bamberger, Faulenstraße 69, 28195 Bremen
END:VEVENT
BEGIN:VEVENT
DTSTAMP:20260424T093521
DTSTART;TZID=Europe/Berlin:20261128T100000
DTEND;TZID=Europe/Berlin:20261128T150000
UID:262M07-003-20261128T100000@VHSBREMEN
SUMMARY:Ausstellung: "Verbindung" (262M07-003) 
LOCATION:vhs im Bamberger, Galerie im Bamberger, Faulenstraße 69, 28195 Bremen
END:VEVENT
BEGIN:VEVENT
DTSTAMP:20260424T093521
DTSTART;TZID=Europe/Berlin:20261129T100000
DTEND;TZID=Europe/Berlin:20261129T150000
UID:262M07-003-20261129T100000@VHSBREMEN
SUMMARY:Ausstellung: "Verbindung" (262M07-003) 
LOCATION:vhs im Bamberger, Galerie im Bamberger, Faulenstraße 69, 28195 Bremen
END:VEVENT
BEGIN:VEVENT
DTSTAMP:20260424T093521
DTSTART;TZID=Europe/Berlin:20261130T090000
DTEND;TZID=Europe/Berlin:20261130T180000
UID:262M07-003-20261130T090000@VHSBREMEN
SUMMARY:Ausstellung: "Verbindung" (262M07-003) 
LOCATION:vhs im Bamberger, Galerie im Bamberger, Faulenstraße 69, 28195 Bremen
END:VEVENT
BEGIN:VEVENT
DTSTAMP:20260424T093521
DTSTART;TZID=Europe/Berlin:20261201T090000
DTEND;TZID=Europe/Berlin:20261201T180000
UID:262M07-003-20261201T090000@VHSBREMEN
SUMMARY:Ausstellung: "Verbindung" (262M07-003) 
LOCATION:vhs im Bamberger, Galerie im Bamberger, Faulenstraße 69, 28195 Bremen
END:VEVENT
BEGIN:VEVENT
DTSTAMP:20260424T093521
DTSTART;TZID=Europe/Berlin:20261202T090000
DTEND;TZID=Europe/Berlin:20261202T180000
UID:262M07-003-20261202T090000@VHSBREMEN
SUMMARY:Ausstellung: "Verbindung" (262M07-003) 
LOCATION:vhs im Bamberger, Galerie im Bamberger, Faulenstraße 69, 28195 Bremen
END:VEVENT
BEGIN:VEVENT
DTSTAMP:20260424T093521
DTSTART;TZID=Europe/Berlin:20261203T090000
DTEND;TZID=Europe/Berlin:20261203T180000
UID:262M07-003-20261203T090000@VHSBREMEN
SUMMARY:Ausstellung: "Verbindung" (262M07-003) 
LOCATION:vhs im Bamberger, Galerie im Bamberger, Faulenstraße 69, 28195 Bremen
END:VEVENT
BEGIN:VEVENT
DTSTAMP:20260424T093521
DTSTART;TZID=Europe/Berlin:20261204T100000
DTEND;TZID=Europe/Berlin:20261204T150000
UID:262M07-003-20261204T100000@VHSBREMEN
SUMMARY:Ausstellung: "Verbindung" (262M07-003) 
LOCATION:vhs im Bamberger, Galerie im Bamberger, Faulenstraße 69, 28195 Bremen
END:VEVENT
BEGIN:VEVENT
DTSTAMP:20260424T093521
DTSTART;TZID=Europe/Berlin:20261205T100000
DTEND;TZID=Europe/Berlin:20261205T150000
UID:262M07-003-20261205T100000@VHSBREMEN
SUMMARY:Ausstellung: "Verbindung" (262M07-003) 
LOCATION:vhs im Bamberger, Galerie im Bamberger, Faulenstraße 69, 28195 Bremen
END:VEVENT
BEGIN:VEVENT
DTSTAMP:20260424T093521
DTSTART;TZID=Europe/Berlin:20261206T090000
DTEND;TZID=Europe/Berlin:20261206T180000
UID:262M07-003-20261206T090000@VHSBREMEN
SUMMARY:Ausstellung: "Verbindung" (262M07-003) 
LOCATION:vhs im Bamberger, Galerie im Bamberger, Faulenstraße 69, 28195 Bremen
END:VEVENT
BEGIN:VEVENT
DTSTAMP:20260424T093521
DTSTART;TZID=Europe/Berlin:20261207T090000
DTEND;TZID=Europe/Berlin:20261207T180000
UID:262M07-003-20261207T090000@VHSBREMEN
SUMMARY:Ausstellung: "Verbindung" (262M07-003) 
LOCATION:vhs im Bamberger, Galerie im Bamberger, Faulenstraße 69, 28195 Bremen
END:VEVENT
BEGIN:VEVENT
DTSTAMP:20260424T093521
DTSTART;TZID=Europe/Berlin:20261208T090000
DTEND;TZID=Europe/Berlin:20261208T180000
UID:262M07-003-20261208T090000@VHSBREMEN
SUMMARY:Ausstellung: "Verbindung" (262M07-003) 
LOCATION:vhs im Bamberger, Galerie im Bamberger, Faulenstraße 69, 28195 Bremen
END:VEVENT
BEGIN:VEVENT
DTSTAMP:20260424T093521
DTSTART;TZID=Europe/Berlin:20261209T090000
DTEND;TZID=Europe/Berlin:20261209T180000
UID:262M07-003-20261209T090000@VHSBREMEN
SUMMARY:Ausstellung: "Verbindung" (262M07-003) 
LOCATION:vhs im Bamberger, Galerie im Bamberger, Faulenstraße 69, 28195 Bremen
END:VEVENT
BEGIN:VEVENT
DTSTAMP:20260424T093521
DTSTART;TZID=Europe/Berlin:20261210T090000
DTEND;TZID=Europe/Berlin:20261210T180000
UID:262M07-003-20261210T090000@VHSBREMEN
SUMMARY:Ausstellung: "Verbindung" (262M07-003) 
LOCATION:vhs im Bamberger, Galerie im Bamberger, Faulenstraße 69, 28195 Bremen
END:VEVENT
BEGIN:VEVENT
DTSTAMP:20260424T093521
DTSTART;TZID=Europe/Berlin:20261211T090000
DTEND;TZID=Europe/Berlin:20261211T180000
UID:262M07-003-20261211T090000@VHSBREMEN
SUMMARY:Ausstellung: "Verbindung" (262M07-003) 
LOCATION:vhs im Bamberger, Galerie im Bamberger, Faulenstraße 69, 28195 Bremen
END:VEVENT
BEGIN:VEVENT
DTSTAMP:20260424T093521
DTSTART;TZID=Europe/Berlin:20261212T100000
DTEND;TZID=Europe/Berlin:20261212T150000
UID:262M07-003-20261212T100000@VHSBREMEN
SUMMARY:Ausstellung: "Verbindung" (262M07-003) 
LOCATION:vhs im Bamberger, Galerie im Bamberger, Faulenstraße 69, 28195 Bremen
END:VEVENT
BEGIN:VEVENT
DTSTAMP:20260424T093521
DTSTART;TZID=Europe/Berlin:20261213T100000
DTEND;TZID=Europe/Berlin:20261213T150000
UID:262M07-003-20261213T100000@VHSBREMEN
SUMMARY:Ausstellung: "Verbindung" (262M07-003) 
LOCATION:vhs im Bamberger, Galerie im Bamberger, Faulenstraße 69, 28195 Bremen
END:VEVENT
BEGIN:VEVENT
DTSTAMP:20260424T093521
DTSTART;TZID=Europe/Berlin:20261214T090000
DTEND;TZID=Europe/Berlin:20261214T180000
UID:262M07-003-20261214T090000@VHSBREMEN
SUMMARY:Ausstellung: "Verbindung" (262M07-003) 
LOCATION:vhs im Bamberger, Galerie im Bamberger, Faulenstraße 69, 28195 Bremen
END:VEVENT
BEGIN:VEVENT
DTSTAMP:20260424T093521
DTSTART;TZID=Europe/Berlin:20261215T090000
DTEND;TZID=Europe/Berlin:20261215T180000
UID:262M07-003-20261215T090000@VHSBREMEN
SUMMARY:Ausstellung: "Verbindung" (262M07-003) 
LOCATION:vhs im Bamberger, Galerie im Bamberger, Faulenstraße 69, 28195 Bremen
END:VEVENT
BEGIN:VEVENT
DTSTAMP:20260424T093521
DTSTART;TZID=Europe/Berlin:20261216T090000
DTEND;TZID=Europe/Berlin:20261216T180000
UID:262M07-003-20261216T090000@VHSBREMEN
SUMMARY:Ausstellung: "Verbindung" (262M07-003) 
LOCATION:vhs im Bamberger, Galerie im Bamberger, Faulenstraße 69, 28195 Bremen
END:VEVENT
BEGIN:VEVENT
DTSTAMP:20260424T093521
DTSTART;TZID=Europe/Berlin:20261217T090000
DTEND;TZID=Europe/Berlin:20261217T180000
UID:262M07-003-20261217T090000@VHSBREMEN
SUMMARY:Ausstellung: "Verbindung" (262M07-003) 
LOCATION:vhs im Bamberger, Galerie im Bamberger, Faulenstraße 69, 28195 Bremen
END:VEVENT
BEGIN:VEVENT
DTSTAMP:20260424T093521
DTSTART;TZID=Europe/Berlin:20261218T090000
DTEND;TZID=Europe/Berlin:20261218T150000
UID:262M07-003-20261218T090000@VHSBREMEN
SUMMARY:Ausstellung: "Verbindung" (262M07-003) 
LOCATION:vhs im Bamberger, Galerie im Bamberger, Faulenstraße 69, 28195 Bremen
END:VEVENT
BEGIN:VEVENT
DTSTAMP:20260424T093521
DTSTART;TZID=Europe/Berlin:20270111T090000
DTEND;TZID=Europe/Berlin:20270111T180000
UID:262M07-003-20270111T090000@VHSBREMEN
SUMMARY:Ausstellung: "Verbindung" (262M07-003) 
LOCATION:vhs im Bamberger, Galerie im Bamberger, Faulenstraße 69, 28195 Bremen
END:VEVENT
BEGIN:VEVENT
DTSTAMP:20260424T093521
DTSTART;TZID=Europe/Berlin:20270112T090000
DTEND;TZID=Europe/Berlin:20270112T180000
UID:262M07-003-20270112T090000@VHSBREMEN
SUMMARY:Ausstellung: "Verbindung" (262M07-003) 
LOCATION:vhs im Bamberger, Galerie im Bamberger, Faulenstraße 69, 28195 Bremen
END:VEVENT
BEGIN:VEVENT
DTSTAMP:20260424T093521
DTSTART;TZID=Europe/Berlin:20270113T090000
DTEND;TZID=Europe/Berlin:20270113T180000
UID:262M07-003-20270113T090000@VHSBREMEN
SUMMARY:Ausstellung: "Verbindung" (262M07-003) 
LOCATION:vhs im Bamberger, Galerie im Bamberger, Faulenstraße 69, 28195 Bremen
END:VEVENT
BEGIN:VEVENT
DTSTAMP:20260424T093521
DTSTART;TZID=Europe/Berlin:20270114T090000
DTEND;TZID=Europe/Berlin:20270114T180000
UID:262M07-003-20270114T090000@VHSBREMEN
SUMMARY:Ausstellung: "Verbindung" (262M07-003) 
LOCATION:vhs im Bamberger, Galerie im Bamberger, Faulenstraße 69, 28195 Bremen
END:VEVENT
BEGIN:VEVENT
DTSTAMP:20260424T093521
DTSTART;TZID=Europe/Berlin:20270115T090000
DTEND;TZID=Europe/Berlin:20270115T180000
UID:262M07-003-20270115T090000@VHSBREMEN
SUMMARY:Ausstellung: "Verbindung" (262M07-003) 
LOCATION:vhs im Bamberger, Galerie im Bamberger, Faulenstraße 69, 28195 Bremen
END:VEVENT
BEGIN:VEVENT
DTSTAMP:20260424T093521
DTSTART;TZID=Europe/Berlin:20270116T100000
DTEND;TZID=Europe/Berlin:20270116T150000
UID:262M07-003-20270116T100000@VHSBREMEN
SUMMARY:Ausstellung: "Verbindung" (262M07-003) 
LOCATION:vhs im Bamberger, Galerie im Bamberger, Faulenstraße 69, 28195 Bremen
END:VEVENT
BEGIN:VEVENT
DTSTAMP:20260424T093521
DTSTART;TZID=Europe/Berlin:20270117T100000
DTEND;TZID=Europe/Berlin:20270117T170000
UID:262M07-003-20270117T100000@VHSBREMEN
DESCRIPTION:Abhängen
SUMMARY:Ausstellung: "Verbindung" (262M07-003) 
LOCATION:vhs im Bamberger, Galerie im Bamberger, Faulenstraße 69, 28195 Bremen
END:VEVENT
BEGIN:VEVENT
DTSTAMP:20260424T093521
DTSTART;TZID=Europe/Berlin:20270118T100000
DTEND;TZID=Europe/Berlin:20270118T150000
UID:262M07-003-20270118T100000@VHSBREMEN
SUMMARY:Ausstellung: "Verbindung" (262M07-003) 
LOCATION:vhs im Bamberger, Galerie im Bamberger, Faulenstraße 69, 28195 Bremen
END:VEVENT
END:VCALENDAR