BEGIN:VCALENDAR
VERSION:2.0
PRODID:https://www.kufer.de/kuferweb / DE
METHOD:PUBLISH
CALSCALE:GREGORIAN
X-WR-TIMEZONE:Europe/Berlin
BEGIN:VTIMEZONE
TZID:Europe/Berlin
X-LIC-LOCATION:Europe/Berlin
BEGIN:DAYLIGHT
TZOFFSETFROM:+0100
TZOFFSETTO:+0200
TZNAME:CEST
DTSTART:19700329T020000
RRULE:FREQ=YEARLY;INTERVAL=1;BYDAY=-1SU;BYMONTH=3
END:DAYLIGHT
BEGIN:STANDARD
TZOFFSETFROM:+0200
TZOFFSETTO:+0100
TZNAME:CET
DTSTART:19701025T030000
RRULE:FREQ=YEARLY;INTERVAL=1;BYDAY=-1SU;BYMONTH=10
END:STANDARD
END:VTIMEZONE
BEGIN:VEVENT
DTSTAMP:20260421T232515
DTSTART;TZID=Europe/Berlin:20260212T111500
DTEND;TZID=Europe/Berlin:20260212T124500
UID:261W50-921-20260212T111500@VHSBREMEN
SUMMARY:Italienisch mit Musik - für Ältere (A2) (261W50-921) 
LOCATION:Atelierhaus Roter Hahn, VHS-Atelier, Gröpelinger Heerstraße 226, 28237 Bremen
END:VEVENT
BEGIN:VEVENT
DTSTAMP:20260421T232515
DTSTART;TZID=Europe/Berlin:20260219T111500
DTEND;TZID=Europe/Berlin:20260219T124500
UID:261W50-921-20260219T111500@VHSBREMEN
SUMMARY:Italienisch mit Musik - für Ältere (A2) (261W50-921) 
LOCATION:Atelierhaus Roter Hahn, VHS-Atelier, Gröpelinger Heerstraße 226, 28237 Bremen
END:VEVENT
BEGIN:VEVENT
DTSTAMP:20260421T232515
DTSTART;TZID=Europe/Berlin:20260226T111500
DTEND;TZID=Europe/Berlin:20260226T124500
UID:261W50-921-20260226T111500@VHSBREMEN
SUMMARY:Italienisch mit Musik - für Ältere (A2) (261W50-921) 
LOCATION:Atelierhaus Roter Hahn, VHS-Atelier, Gröpelinger Heerstraße 226, 28237 Bremen
END:VEVENT
BEGIN:VEVENT
DTSTAMP:20260421T232515
DTSTART;TZID=Europe/Berlin:20260305T111500
DTEND;TZID=Europe/Berlin:20260305T124500
UID:261W50-921-20260305T111500@VHSBREMEN
SUMMARY:Italienisch mit Musik - für Ältere (A2) (261W50-921) 
LOCATION:Atelierhaus Roter Hahn, VHS-Atelier, Gröpelinger Heerstraße 226, 28237 Bremen
END:VEVENT
BEGIN:VEVENT
DTSTAMP:20260421T232515
DTSTART;TZID=Europe/Berlin:20260312T111500
DTEND;TZID=Europe/Berlin:20260312T124500
UID:261W50-921-20260312T111500@VHSBREMEN
SUMMARY:Italienisch mit Musik - für Ältere (A2) (261W50-921) 
LOCATION:Atelierhaus Roter Hahn, VHS-Atelier, Gröpelinger Heerstraße 226, 28237 Bremen
END:VEVENT
BEGIN:VEVENT
DTSTAMP:20260421T232515
DTSTART;TZID=Europe/Berlin:20260319T111500
DTEND;TZID=Europe/Berlin:20260319T124500
UID:261W50-921-20260319T111500@VHSBREMEN
SUMMARY:Italienisch mit Musik - für Ältere (A2) (261W50-921) 
LOCATION:Atelierhaus Roter Hahn, VHS-Atelier, Gröpelinger Heerstraße 226, 28237 Bremen
END:VEVENT
BEGIN:VEVENT
DTSTAMP:20260421T232515
DTSTART;TZID=Europe/Berlin:20260416T111500
DTEND;TZID=Europe/Berlin:20260416T124500
UID:261W50-921-20260416T111500@VHSBREMEN
SUMMARY:Italienisch mit Musik - für Ältere (A2) (261W50-921) 
LOCATION:Atelierhaus Roter Hahn, VHS-Atelier, Gröpelinger Heerstraße 226, 28237 Bremen
END:VEVENT
BEGIN:VEVENT
DTSTAMP:20260421T232515
DTSTART;TZID=Europe/Berlin:20260423T111500
DTEND;TZID=Europe/Berlin:20260423T124500
UID:261W50-921-20260423T111500@VHSBREMEN
SUMMARY:Italienisch mit Musik - für Ältere (A2) (261W50-921) 
LOCATION:Atelierhaus Roter Hahn, VHS-Atelier, Gröpelinger Heerstraße 226, 28237 Bremen
END:VEVENT
BEGIN:VEVENT
DTSTAMP:20260421T232515
DTSTART;TZID=Europe/Berlin:20260430T111500
DTEND;TZID=Europe/Berlin:20260430T124500
UID:261W50-921-20260430T111500@VHSBREMEN
SUMMARY:Italienisch mit Musik - für Ältere (A2) (261W50-921) 
LOCATION:Atelierhaus Roter Hahn, VHS-Atelier, Gröpelinger Heerstraße 226, 28237 Bremen
END:VEVENT
BEGIN:VEVENT
DTSTAMP:20260421T232515
DTSTART;TZID=Europe/Berlin:20260507T111500
DTEND;TZID=Europe/Berlin:20260507T124500
UID:261W50-921-20260507T111500@VHSBREMEN
SUMMARY:Italienisch mit Musik - für Ältere (A2) (261W50-921) 
LOCATION:Atelierhaus Roter Hahn, VHS-Atelier, Gröpelinger Heerstraße 226, 28237 Bremen
END:VEVENT
BEGIN:VEVENT
DTSTAMP:20260421T232515
DTSTART;TZID=Europe/Berlin:20260521T111500
DTEND;TZID=Europe/Berlin:20260521T124500
UID:261W50-921-20260521T111500@VHSBREMEN
SUMMARY:Italienisch mit Musik - für Ältere (A2) (261W50-921) 
LOCATION:Atelierhaus Roter Hahn, VHS-Atelier, Gröpelinger Heerstraße 226, 28237 Bremen
END:VEVENT
BEGIN:VEVENT
DTSTAMP:20260421T232515
DTSTART;TZID=Europe/Berlin:20260604T111500
DTEND;TZID=Europe/Berlin:20260604T124500
UID:261W50-921-20260604T111500@VHSBREMEN
SUMMARY:Italienisch mit Musik - für Ältere (A2) (261W50-921) 
LOCATION:Atelierhaus Roter Hahn, VHS-Atelier, Gröpelinger Heerstraße 226, 28237 Bremen
END:VEVENT
BEGIN:VEVENT
DTSTAMP:20260421T232515
DTSTART;TZID=Europe/Berlin:20260618T111500
DTEND;TZID=Europe/Berlin:20260618T124500
UID:261W50-921-20260618T111500@VHSBREMEN
SUMMARY:Italienisch mit Musik - für Ältere (A2) (261W50-921) 
LOCATION:Atelierhaus Roter Hahn, VHS-Atelier, Gröpelinger Heerstraße 226, 28237 Bremen
END:VEVENT
BEGIN:VEVENT
DTSTAMP:20260421T232515
DTSTART;TZID=Europe/Berlin:20260625T111500
DTEND;TZID=Europe/Berlin:20260625T124500
UID:261W50-921-20260625T111500@VHSBREMEN
DESCRIPTION:Ersatz für Ausfall am 09.04.2026
SUMMARY:Italienisch mit Musik - für Ältere (A2) (261W50-921) 
LOCATION:Atelierhaus Roter Hahn, VHS-Atelier, Gröpelinger Heerstraße 226, 28237 Bremen
END:VEVENT
BEGIN:VEVENT
DTSTAMP:20260421T232515
DTSTART;TZID=Europe/Berlin:20260702T111500
DTEND;TZID=Europe/Berlin:20260702T124500
UID:261W50-921-20260702T111500@VHSBREMEN
DESCRIPTION:Ersatz für Ausfall am 28.05.2026
SUMMARY:Italienisch mit Musik - für Ältere (A2) (261W50-921) 
LOCATION:Atelierhaus Roter Hahn, VHS-Atelier, Gröpelinger Heerstraße 226, 28237 Bremen
END:VEVENT
END:VCALENDAR