BEGIN:VCALENDAR
VERSION:2.0
PRODID:https://www.kufer.de/kuferweb / DE
METHOD:PUBLISH
CALSCALE:GREGORIAN
X-WR-TIMEZONE:Europe/Berlin
BEGIN:VTIMEZONE
TZID:Europe/Berlin
X-LIC-LOCATION:Europe/Berlin
BEGIN:DAYLIGHT
TZOFFSETFROM:+0100
TZOFFSETTO:+0200
TZNAME:CEST
DTSTART:19700329T020000
RRULE:FREQ=YEARLY;INTERVAL=1;BYDAY=-1SU;BYMONTH=3
END:DAYLIGHT
BEGIN:STANDARD
TZOFFSETFROM:+0200
TZOFFSETTO:+0100
TZNAME:CET
DTSTART:19701025T030000
RRULE:FREQ=YEARLY;INTERVAL=1;BYDAY=-1SU;BYMONTH=10
END:STANDARD
END:VTIMEZONE
BEGIN:VEVENT
DTSTAMP:20260424T143706
DTSTART;TZID=Europe/Berlin:20260626T170000
DTEND;TZID=Europe/Berlin:20260626T200000
UID:261S79-209-20260626T170000@VHSBREMEN
DESCRIPTION:Ersatz für Ausfall am 12.06.2026
SUMMARY:Tischlern für Einsteiger*innen und Fortgeschrittene. (261S79-209) 
LOCATION:Wilhelm Wagenfeld Schule, Holzraum, Delfter Straße 16, 28259 Bremen
END:VEVENT
BEGIN:VEVENT
DTSTAMP:20260424T143706
DTSTART;TZID=Europe/Berlin:20260627T100000
DTEND;TZID=Europe/Berlin:20260627T150000
UID:261S79-209-20260627T100000@VHSBREMEN
DESCRIPTION:Ersatz für Ausfall am 13.06.2026
SUMMARY:Tischlern für Einsteiger*innen und Fortgeschrittene. (261S79-209) 
LOCATION:Wilhelm Wagenfeld Schule, Holzraum, Delfter Straße 16, 28259 Bremen
END:VEVENT
END:VCALENDAR