BEGIN:VCALENDAR
VERSION:2.0
PRODID:https://www.kufer.de/kuferweb / DE
METHOD:PUBLISH
CALSCALE:GREGORIAN
X-WR-TIMEZONE:Europe/Berlin
BEGIN:VTIMEZONE
TZID:Europe/Berlin
X-LIC-LOCATION:Europe/Berlin
BEGIN:DAYLIGHT
TZOFFSETFROM:+0100
TZOFFSETTO:+0200
TZNAME:CEST
DTSTART:19700329T020000
RRULE:FREQ=YEARLY;INTERVAL=1;BYDAY=-1SU;BYMONTH=3
END:DAYLIGHT
BEGIN:STANDARD
TZOFFSETFROM:+0200
TZOFFSETTO:+0100
TZNAME:CET
DTSTART:19701025T030000
RRULE:FREQ=YEARLY;INTERVAL=1;BYDAY=-1SU;BYMONTH=10
END:STANDARD
END:VTIMEZONE
BEGIN:VEVENT
DTSTAMP:20260421T060135
DTSTART;TZID=Europe/Berlin:20260602T170000
DTEND;TZID=Europe/Berlin:20260602T200000
UID:261S76-738-20260602T170000@VHSBREMEN
SUMMARY:Linolschnitt - "Druck dich aus" 2.0 "Verlorene Platte" - für Fortgeschrittene (261S76-738) 
LOCATION:Quartier in Kattenturm, Atelier, Theodor-Billroth-Straße 5, 28277 Bremen
END:VEVENT
BEGIN:VEVENT
DTSTAMP:20260421T060135
DTSTART;TZID=Europe/Berlin:20260609T170000
DTEND;TZID=Europe/Berlin:20260609T200000
UID:261S76-738-20260609T170000@VHSBREMEN
SUMMARY:Linolschnitt - "Druck dich aus" 2.0 "Verlorene Platte" - für Fortgeschrittene (261S76-738) 
LOCATION:Quartier in Kattenturm, Atelier, Theodor-Billroth-Straße 5, 28277 Bremen
END:VEVENT
BEGIN:VEVENT
DTSTAMP:20260421T060135
DTSTART;TZID=Europe/Berlin:20260616T170000
DTEND;TZID=Europe/Berlin:20260616T200000
UID:261S76-738-20260616T170000@VHSBREMEN
SUMMARY:Linolschnitt - "Druck dich aus" 2.0 "Verlorene Platte" - für Fortgeschrittene (261S76-738) 
LOCATION:Quartier in Kattenturm, Atelier, Theodor-Billroth-Straße 5, 28277 Bremen
END:VEVENT
BEGIN:VEVENT
DTSTAMP:20260421T060135
DTSTART;TZID=Europe/Berlin:20260623T170000
DTEND;TZID=Europe/Berlin:20260623T200000
UID:261S76-738-20260623T170000@VHSBREMEN
SUMMARY:Linolschnitt - "Druck dich aus" 2.0 "Verlorene Platte" - für Fortgeschrittene (261S76-738) 
LOCATION:Quartier in Kattenturm, Atelier, Theodor-Billroth-Straße 5, 28277 Bremen
END:VEVENT
BEGIN:VEVENT
DTSTAMP:20260421T060135
DTSTART;TZID=Europe/Berlin:20260627T100000
DTEND;TZID=Europe/Berlin:20260627T113000
UID:261S76-738-20260627T100000@VHSBREMEN
SUMMARY:Linolschnitt - "Druck dich aus" 2.0 "Verlorene Platte" - für Fortgeschrittene (261S76-738) 
LOCATION:Quartier in Kattenturm, Atelier, Theodor-Billroth-Straße 5, 28277 Bremen
END:VEVENT
END:VCALENDAR