BEGIN:VCALENDAR
VERSION:2.0
PRODID:https://www.kufer.de/kuferweb / DE
METHOD:PUBLISH
CALSCALE:GREGORIAN
X-WR-TIMEZONE:Europe/Berlin
BEGIN:VTIMEZONE
TZID:Europe/Berlin
X-LIC-LOCATION:Europe/Berlin
BEGIN:DAYLIGHT
TZOFFSETFROM:+0100
TZOFFSETTO:+0200
TZNAME:CEST
DTSTART:19700329T020000
RRULE:FREQ=YEARLY;INTERVAL=1;BYDAY=-1SU;BYMONTH=3
END:DAYLIGHT
BEGIN:STANDARD
TZOFFSETFROM:+0200
TZOFFSETTO:+0100
TZNAME:CET
DTSTART:19701025T030000
RRULE:FREQ=YEARLY;INTERVAL=1;BYDAY=-1SU;BYMONTH=10
END:STANDARD
END:VTIMEZONE
BEGIN:VEVENT
DTSTAMP:20260421T044442
DTSTART;TZID=Europe/Berlin:20260218T093000
DTEND;TZID=Europe/Berlin:20260218T114500
UID:261O76-226-20260218T093000@VHSBREMEN
SUMMARY:Zeichenkurs für Einsteiger*innen und Fortgeschrittene (261O76-226) 
LOCATION:Bürgerzentrum Neue Vahr, Raum B 23/24, Berliner Freiheit 10, 28327 Bremen
END:VEVENT
BEGIN:VEVENT
DTSTAMP:20260421T044442
DTSTART;TZID=Europe/Berlin:20260225T093000
DTEND;TZID=Europe/Berlin:20260225T114500
UID:261O76-226-20260225T093000@VHSBREMEN
SUMMARY:Zeichenkurs für Einsteiger*innen und Fortgeschrittene (261O76-226) 
LOCATION:Bürgerzentrum Neue Vahr, Raum B 23/24, Berliner Freiheit 10, 28327 Bremen
END:VEVENT
BEGIN:VEVENT
DTSTAMP:20260421T044442
DTSTART;TZID=Europe/Berlin:20260304T093000
DTEND;TZID=Europe/Berlin:20260304T114500
UID:261O76-226-20260304T093000@VHSBREMEN
SUMMARY:Zeichenkurs für Einsteiger*innen und Fortgeschrittene (261O76-226) 
LOCATION:Bürgerzentrum Neue Vahr, Raum B 23/24, Berliner Freiheit 10, 28327 Bremen
END:VEVENT
BEGIN:VEVENT
DTSTAMP:20260421T044442
DTSTART;TZID=Europe/Berlin:20260311T093000
DTEND;TZID=Europe/Berlin:20260311T114500
UID:261O76-226-20260311T093000@VHSBREMEN
SUMMARY:Zeichenkurs für Einsteiger*innen und Fortgeschrittene (261O76-226) 
LOCATION:Bürgerzentrum Neue Vahr, Raum B 23/24, Berliner Freiheit 10, 28327 Bremen
END:VEVENT
BEGIN:VEVENT
DTSTAMP:20260421T044442
DTSTART;TZID=Europe/Berlin:20260318T093000
DTEND;TZID=Europe/Berlin:20260318T114500
UID:261O76-226-20260318T093000@VHSBREMEN
SUMMARY:Zeichenkurs für Einsteiger*innen und Fortgeschrittene (261O76-226) 
LOCATION:Bürgerzentrum Neue Vahr, Raum B 23/24, Berliner Freiheit 10, 28327 Bremen
END:VEVENT
BEGIN:VEVENT
DTSTAMP:20260421T044442
DTSTART;TZID=Europe/Berlin:20260408T093000
DTEND;TZID=Europe/Berlin:20260408T114500
UID:261O76-226-20260408T093000@VHSBREMEN
SUMMARY:Zeichenkurs für Einsteiger*innen und Fortgeschrittene (261O76-226) 
LOCATION:Bürgerzentrum Neue Vahr, Raum B 23/24, Berliner Freiheit 10, 28327 Bremen
END:VEVENT
BEGIN:VEVENT
DTSTAMP:20260421T044442
DTSTART;TZID=Europe/Berlin:20260415T093000
DTEND;TZID=Europe/Berlin:20260415T114500
UID:261O76-226-20260415T093000@VHSBREMEN
SUMMARY:Zeichenkurs für Einsteiger*innen und Fortgeschrittene (261O76-226) 
LOCATION:Bürgerzentrum Neue Vahr, Raum B 23/24, Berliner Freiheit 10, 28327 Bremen
END:VEVENT
BEGIN:VEVENT
DTSTAMP:20260421T044442
DTSTART;TZID=Europe/Berlin:20260422T093000
DTEND;TZID=Europe/Berlin:20260422T114500
UID:261O76-226-20260422T093000@VHSBREMEN
SUMMARY:Zeichenkurs für Einsteiger*innen und Fortgeschrittene (261O76-226) 
LOCATION:Bürgerzentrum Neue Vahr, Raum B 23/24, Berliner Freiheit 10, 28327 Bremen
END:VEVENT
BEGIN:VEVENT
DTSTAMP:20260421T044442
DTSTART;TZID=Europe/Berlin:20260429T093000
DTEND;TZID=Europe/Berlin:20260429T114500
UID:261O76-226-20260429T093000@VHSBREMEN
SUMMARY:Zeichenkurs für Einsteiger*innen und Fortgeschrittene (261O76-226) 
LOCATION:Bürgerzentrum Neue Vahr, Raum B 23/24, Berliner Freiheit 10, 28327 Bremen
END:VEVENT
BEGIN:VEVENT
DTSTAMP:20260421T044442
DTSTART;TZID=Europe/Berlin:20260506T093000
DTEND;TZID=Europe/Berlin:20260506T114500
UID:261O76-226-20260506T093000@VHSBREMEN
SUMMARY:Zeichenkurs für Einsteiger*innen und Fortgeschrittene (261O76-226) 
LOCATION:Bürgerzentrum Neue Vahr, Raum B 23/24, Berliner Freiheit 10, 28327 Bremen
END:VEVENT
END:VCALENDAR