BEGIN:VCALENDAR
VERSION:2.0
PRODID:https://www.kufer.de/kuferweb / DE
METHOD:PUBLISH
CALSCALE:GREGORIAN
X-WR-TIMEZONE:Europe/Berlin
BEGIN:VTIMEZONE
TZID:Europe/Berlin
X-LIC-LOCATION:Europe/Berlin
BEGIN:DAYLIGHT
TZOFFSETFROM:+0100
TZOFFSETTO:+0200
TZNAME:CEST
DTSTART:19700329T020000
RRULE:FREQ=YEARLY;INTERVAL=1;BYDAY=-1SU;BYMONTH=3
END:DAYLIGHT
BEGIN:STANDARD
TZOFFSETFROM:+0200
TZOFFSETTO:+0100
TZNAME:CET
DTSTART:19701025T030000
RRULE:FREQ=YEARLY;INTERVAL=1;BYDAY=-1SU;BYMONTH=10
END:STANDARD
END:VTIMEZONE
BEGIN:VEVENT
DTSTAMP:20260419T154116
DTSTART;TZID=Europe/Berlin:20260218T190000
DTEND;TZID=Europe/Berlin:20260218T203000
UID:261O75-435-20260218T190000@VHSBREMEN
SUMMARY:Gitarre - Liedbegleitung - Grundstufe 7 (261O75-435) 
LOCATION:Bürgerzentrum Neue Vahr, Raum E 01, Berliner Freiheit 10, 28327 Bremen
END:VEVENT
BEGIN:VEVENT
DTSTAMP:20260419T154116
DTSTART;TZID=Europe/Berlin:20260225T190000
DTEND;TZID=Europe/Berlin:20260225T203000
UID:261O75-435-20260225T190000@VHSBREMEN
SUMMARY:Gitarre - Liedbegleitung - Grundstufe 7 (261O75-435) 
LOCATION:Bürgerzentrum Neue Vahr, Raum E 01, Berliner Freiheit 10, 28327 Bremen
END:VEVENT
BEGIN:VEVENT
DTSTAMP:20260419T154116
DTSTART;TZID=Europe/Berlin:20260304T190000
DTEND;TZID=Europe/Berlin:20260304T203000
UID:261O75-435-20260304T190000@VHSBREMEN
SUMMARY:Gitarre - Liedbegleitung - Grundstufe 7 (261O75-435) 
LOCATION:Bürgerzentrum Neue Vahr, Raum E 01, Berliner Freiheit 10, 28327 Bremen
END:VEVENT
BEGIN:VEVENT
DTSTAMP:20260419T154116
DTSTART;TZID=Europe/Berlin:20260311T190000
DTEND;TZID=Europe/Berlin:20260311T203000
UID:261O75-435-20260311T190000@VHSBREMEN
SUMMARY:Gitarre - Liedbegleitung - Grundstufe 7 (261O75-435) 
LOCATION:Bürgerzentrum Neue Vahr, Raum E 01, Berliner Freiheit 10, 28327 Bremen
END:VEVENT
BEGIN:VEVENT
DTSTAMP:20260419T154116
DTSTART;TZID=Europe/Berlin:20260408T190000
DTEND;TZID=Europe/Berlin:20260408T203000
UID:261O75-435-20260408T190000@VHSBREMEN
SUMMARY:Gitarre - Liedbegleitung - Grundstufe 7 (261O75-435) 
LOCATION:Bürgerzentrum Neue Vahr, Raum E 01, Berliner Freiheit 10, 28327 Bremen
END:VEVENT
BEGIN:VEVENT
DTSTAMP:20260419T154116
DTSTART;TZID=Europe/Berlin:20260415T190000
DTEND;TZID=Europe/Berlin:20260415T203000
UID:261O75-435-20260415T190000@VHSBREMEN
SUMMARY:Gitarre - Liedbegleitung - Grundstufe 7 (261O75-435) 
LOCATION:Bürgerzentrum Neue Vahr, Raum E 01, Berliner Freiheit 10, 28327 Bremen
END:VEVENT
BEGIN:VEVENT
DTSTAMP:20260419T154116
DTSTART;TZID=Europe/Berlin:20260422T190000
DTEND;TZID=Europe/Berlin:20260422T203000
UID:261O75-435-20260422T190000@VHSBREMEN
SUMMARY:Gitarre - Liedbegleitung - Grundstufe 7 (261O75-435) 
LOCATION:Bürgerzentrum Neue Vahr, Raum E 01, Berliner Freiheit 10, 28327 Bremen
END:VEVENT
BEGIN:VEVENT
DTSTAMP:20260419T154116
DTSTART;TZID=Europe/Berlin:20260429T190000
DTEND;TZID=Europe/Berlin:20260429T203000
UID:261O75-435-20260429T190000@VHSBREMEN
SUMMARY:Gitarre - Liedbegleitung - Grundstufe 7 (261O75-435) 
LOCATION:Bürgerzentrum Neue Vahr, Raum E 01, Berliner Freiheit 10, 28327 Bremen
END:VEVENT
BEGIN:VEVENT
DTSTAMP:20260419T154116
DTSTART;TZID=Europe/Berlin:20260506T190000
DTEND;TZID=Europe/Berlin:20260506T203000
UID:261O75-435-20260506T190000@VHSBREMEN
SUMMARY:Gitarre - Liedbegleitung - Grundstufe 7 (261O75-435) 
LOCATION:Bürgerzentrum Neue Vahr, Raum E 01, Berliner Freiheit 10, 28327 Bremen
END:VEVENT
BEGIN:VEVENT
DTSTAMP:20260419T154116
DTSTART;TZID=Europe/Berlin:20260513T190000
DTEND;TZID=Europe/Berlin:20260513T203000
UID:261O75-435-20260513T190000@VHSBREMEN
SUMMARY:Gitarre - Liedbegleitung - Grundstufe 7 (261O75-435) 
LOCATION:Bürgerzentrum Neue Vahr, Raum E 01, Berliner Freiheit 10, 28327 Bremen
END:VEVENT
BEGIN:VEVENT
DTSTAMP:20260419T154116
DTSTART;TZID=Europe/Berlin:20260520T190000
DTEND;TZID=Europe/Berlin:20260520T203000
UID:261O75-435-20260520T190000@VHSBREMEN
SUMMARY:Gitarre - Liedbegleitung - Grundstufe 7 (261O75-435) 
LOCATION:Bürgerzentrum Neue Vahr, Raum E 01, Berliner Freiheit 10, 28327 Bremen
END:VEVENT
BEGIN:VEVENT
DTSTAMP:20260419T154116
DTSTART;TZID=Europe/Berlin:20260527T190000
DTEND;TZID=Europe/Berlin:20260527T203000
UID:261O75-435-20260527T190000@VHSBREMEN
SUMMARY:Gitarre - Liedbegleitung - Grundstufe 7 (261O75-435) 
LOCATION:Bürgerzentrum Neue Vahr, Raum E 01, Berliner Freiheit 10, 28327 Bremen
END:VEVENT
END:VCALENDAR