BEGIN:VCALENDAR
VERSION:2.0
PRODID:https://www.kufer.de/kuferweb / DE
METHOD:PUBLISH
CALSCALE:GREGORIAN
X-WR-TIMEZONE:Europe/Berlin
BEGIN:VTIMEZONE
TZID:Europe/Berlin
X-LIC-LOCATION:Europe/Berlin
BEGIN:DAYLIGHT
TZOFFSETFROM:+0100
TZOFFSETTO:+0200
TZNAME:CEST
DTSTART:19700329T020000
RRULE:FREQ=YEARLY;INTERVAL=1;BYDAY=-1SU;BYMONTH=3
END:DAYLIGHT
BEGIN:STANDARD
TZOFFSETFROM:+0200
TZOFFSETTO:+0100
TZNAME:CET
DTSTART:19701025T030000
RRULE:FREQ=YEARLY;INTERVAL=1;BYDAY=-1SU;BYMONTH=10
END:STANDARD
END:VTIMEZONE
BEGIN:VEVENT
DTSTAMP:20260421T084201
DTSTART;TZID=Europe/Berlin:20260210T190000
DTEND;TZID=Europe/Berlin:20260210T203000
UID:261O50-743-20260210T190000@VHSBREMEN
SUMMARY:Italienisch Aufbaustufe 4 (B1) - Online (261O50-743) 
LOCATION:Online
END:VEVENT
BEGIN:VEVENT
DTSTAMP:20260421T084202
DTSTART;TZID=Europe/Berlin:20260217T190000
DTEND;TZID=Europe/Berlin:20260217T203000
UID:261O50-743-20260217T190000@VHSBREMEN
SUMMARY:Italienisch Aufbaustufe 4 (B1) - Online (261O50-743) 
LOCATION:Online
END:VEVENT
BEGIN:VEVENT
DTSTAMP:20260421T084202
DTSTART;TZID=Europe/Berlin:20260224T190000
DTEND;TZID=Europe/Berlin:20260224T203000
UID:261O50-743-20260224T190000@VHSBREMEN
SUMMARY:Italienisch Aufbaustufe 4 (B1) - Online (261O50-743) 
LOCATION:Online
END:VEVENT
BEGIN:VEVENT
DTSTAMP:20260421T084202
DTSTART;TZID=Europe/Berlin:20260303T190000
DTEND;TZID=Europe/Berlin:20260303T203000
UID:261O50-743-20260303T190000@VHSBREMEN
SUMMARY:Italienisch Aufbaustufe 4 (B1) - Online (261O50-743) 
LOCATION:Online
END:VEVENT
BEGIN:VEVENT
DTSTAMP:20260421T084202
DTSTART;TZID=Europe/Berlin:20260310T190000
DTEND;TZID=Europe/Berlin:20260310T203000
UID:261O50-743-20260310T190000@VHSBREMEN
SUMMARY:Italienisch Aufbaustufe 4 (B1) - Online (261O50-743) 
LOCATION:Online
END:VEVENT
BEGIN:VEVENT
DTSTAMP:20260421T084202
DTSTART;TZID=Europe/Berlin:20260317T190000
DTEND;TZID=Europe/Berlin:20260317T203000
UID:261O50-743-20260317T190000@VHSBREMEN
SUMMARY:Italienisch Aufbaustufe 4 (B1) - Online (261O50-743) 
LOCATION:Online
END:VEVENT
BEGIN:VEVENT
DTSTAMP:20260421T084202
DTSTART;TZID=Europe/Berlin:20260407T190000
DTEND;TZID=Europe/Berlin:20260407T203000
UID:261O50-743-20260407T190000@VHSBREMEN
DESCRIPTION:Ersatz für Ausfall am 02.06.2026
SUMMARY:Italienisch Aufbaustufe 4 (B1) - Online (261O50-743) 
LOCATION:Online
END:VEVENT
BEGIN:VEVENT
DTSTAMP:20260421T084202
DTSTART;TZID=Europe/Berlin:20260414T190000
DTEND;TZID=Europe/Berlin:20260414T203000
UID:261O50-743-20260414T190000@VHSBREMEN
SUMMARY:Italienisch Aufbaustufe 4 (B1) - Online (261O50-743) 
LOCATION:Online
END:VEVENT
BEGIN:VEVENT
DTSTAMP:20260421T084202
DTSTART;TZID=Europe/Berlin:20260421T190000
DTEND;TZID=Europe/Berlin:20260421T203000
UID:261O50-743-20260421T190000@VHSBREMEN
SUMMARY:Italienisch Aufbaustufe 4 (B1) - Online (261O50-743) 
LOCATION:Online
END:VEVENT
BEGIN:VEVENT
DTSTAMP:20260421T084202
DTSTART;TZID=Europe/Berlin:20260428T190000
DTEND;TZID=Europe/Berlin:20260428T203000
UID:261O50-743-20260428T190000@VHSBREMEN
SUMMARY:Italienisch Aufbaustufe 4 (B1) - Online (261O50-743) 
LOCATION:Online
END:VEVENT
BEGIN:VEVENT
DTSTAMP:20260421T084202
DTSTART;TZID=Europe/Berlin:20260505T190000
DTEND;TZID=Europe/Berlin:20260505T203000
UID:261O50-743-20260505T190000@VHSBREMEN
SUMMARY:Italienisch Aufbaustufe 4 (B1) - Online (261O50-743) 
LOCATION:Online
END:VEVENT
BEGIN:VEVENT
DTSTAMP:20260421T084202
DTSTART;TZID=Europe/Berlin:20260512T190000
DTEND;TZID=Europe/Berlin:20260512T203000
UID:261O50-743-20260512T190000@VHSBREMEN
SUMMARY:Italienisch Aufbaustufe 4 (B1) - Online (261O50-743) 
LOCATION:Online
END:VEVENT
BEGIN:VEVENT
DTSTAMP:20260421T084202
DTSTART;TZID=Europe/Berlin:20260519T190000
DTEND;TZID=Europe/Berlin:20260519T203000
UID:261O50-743-20260519T190000@VHSBREMEN
SUMMARY:Italienisch Aufbaustufe 4 (B1) - Online (261O50-743) 
LOCATION:Online
END:VEVENT
BEGIN:VEVENT
DTSTAMP:20260421T084202
DTSTART;TZID=Europe/Berlin:20260609T190000
DTEND;TZID=Europe/Berlin:20260609T203000
UID:261O50-743-20260609T190000@VHSBREMEN
SUMMARY:Italienisch Aufbaustufe 4 (B1) - Online (261O50-743) 
LOCATION:Online
END:VEVENT
END:VCALENDAR