BEGIN:VCALENDAR
VERSION:2.0
PRODID:https://www.kufer.de/kuferweb / DE
METHOD:PUBLISH
CALSCALE:GREGORIAN
X-WR-TIMEZONE:Europe/Berlin
BEGIN:VTIMEZONE
TZID:Europe/Berlin
X-LIC-LOCATION:Europe/Berlin
BEGIN:DAYLIGHT
TZOFFSETFROM:+0100
TZOFFSETTO:+0200
TZNAME:CEST
DTSTART:19700329T020000
RRULE:FREQ=YEARLY;INTERVAL=1;BYDAY=-1SU;BYMONTH=3
END:DAYLIGHT
BEGIN:STANDARD
TZOFFSETFROM:+0200
TZOFFSETTO:+0100
TZNAME:CET
DTSTART:19701025T030000
RRULE:FREQ=YEARLY;INTERVAL=1;BYDAY=-1SU;BYMONTH=10
END:STANDARD
END:VTIMEZONE
BEGIN:VEVENT
DTSTAMP:20260419T225444
DTSTART;TZID=Europe/Berlin:20260205T173000
DTEND;TZID=Europe/Berlin:20260205T190000
UID:261O45-837-20260205T173000@VHSBREMEN
SUMMARY:Englisch Konversation auf Niveau B1 English conversation at level B1 (261O45-837) 
LOCATION:Bürgerzentrum Neue Vahr, Raum E 03, Berliner Freiheit 10, 28327 Bremen
END:VEVENT
BEGIN:VEVENT
DTSTAMP:20260419T225444
DTSTART;TZID=Europe/Berlin:20260212T173000
DTEND;TZID=Europe/Berlin:20260212T190000
UID:261O45-837-20260212T173000@VHSBREMEN
SUMMARY:Englisch Konversation auf Niveau B1 English conversation at level B1 (261O45-837) 
LOCATION:Bürgerzentrum Neue Vahr, Raum E 03, Berliner Freiheit 10, 28327 Bremen
END:VEVENT
BEGIN:VEVENT
DTSTAMP:20260419T225444
DTSTART;TZID=Europe/Berlin:20260219T173000
DTEND;TZID=Europe/Berlin:20260219T190000
UID:261O45-837-20260219T173000@VHSBREMEN
SUMMARY:Englisch Konversation auf Niveau B1 English conversation at level B1 (261O45-837) 
LOCATION:Bürgerzentrum Neue Vahr, Raum E 03, Berliner Freiheit 10, 28327 Bremen
END:VEVENT
BEGIN:VEVENT
DTSTAMP:20260419T225444
DTSTART;TZID=Europe/Berlin:20260226T173000
DTEND;TZID=Europe/Berlin:20260226T190000
UID:261O45-837-20260226T173000@VHSBREMEN
SUMMARY:Englisch Konversation auf Niveau B1 English conversation at level B1 (261O45-837) 
LOCATION:Bürgerzentrum Neue Vahr, Raum E 03, Berliner Freiheit 10, 28327 Bremen
END:VEVENT
BEGIN:VEVENT
DTSTAMP:20260419T225444
DTSTART;TZID=Europe/Berlin:20260305T173000
DTEND;TZID=Europe/Berlin:20260305T190000
UID:261O45-837-20260305T173000@VHSBREMEN
SUMMARY:Englisch Konversation auf Niveau B1 English conversation at level B1 (261O45-837) 
LOCATION:Bürgerzentrum Neue Vahr, Raum E 03, Berliner Freiheit 10, 28327 Bremen
END:VEVENT
BEGIN:VEVENT
DTSTAMP:20260419T225444
DTSTART;TZID=Europe/Berlin:20260312T173000
DTEND;TZID=Europe/Berlin:20260312T190000
UID:261O45-837-20260312T173000@VHSBREMEN
SUMMARY:Englisch Konversation auf Niveau B1 English conversation at level B1 (261O45-837) 
LOCATION:Bürgerzentrum Neue Vahr, Raum E 03, Berliner Freiheit 10, 28327 Bremen
END:VEVENT
BEGIN:VEVENT
DTSTAMP:20260419T225444
DTSTART;TZID=Europe/Berlin:20260326T173000
DTEND;TZID=Europe/Berlin:20260326T190000
UID:261O45-837-20260326T173000@VHSBREMEN
DESCRIPTION:Ersatz für Ausfall am 19.03.2026
SUMMARY:Englisch Konversation auf Niveau B1 English conversation at level B1 (261O45-837) 
LOCATION:Bürgerzentrum Neue Vahr, Raum E 03, Berliner Freiheit 10, 28327 Bremen
END:VEVENT
BEGIN:VEVENT
DTSTAMP:20260419T225444
DTSTART;TZID=Europe/Berlin:20260409T173000
DTEND;TZID=Europe/Berlin:20260409T190000
UID:261O45-837-20260409T173000@VHSBREMEN
SUMMARY:Englisch Konversation auf Niveau B1 English conversation at level B1 (261O45-837) 
LOCATION:Bürgerzentrum Neue Vahr, Raum E 03, Berliner Freiheit 10, 28327 Bremen
END:VEVENT
BEGIN:VEVENT
DTSTAMP:20260419T225444
DTSTART;TZID=Europe/Berlin:20260416T173000
DTEND;TZID=Europe/Berlin:20260416T190000
UID:261O45-837-20260416T173000@VHSBREMEN
SUMMARY:Englisch Konversation auf Niveau B1 English conversation at level B1 (261O45-837) 
LOCATION:Bürgerzentrum Neue Vahr, Raum E 03, Berliner Freiheit 10, 28327 Bremen
END:VEVENT
BEGIN:VEVENT
DTSTAMP:20260419T225444
DTSTART;TZID=Europe/Berlin:20260423T173000
DTEND;TZID=Europe/Berlin:20260423T190000
UID:261O45-837-20260423T173000@VHSBREMEN
SUMMARY:Englisch Konversation auf Niveau B1 English conversation at level B1 (261O45-837) 
LOCATION:Bürgerzentrum Neue Vahr, Raum E 03, Berliner Freiheit 10, 28327 Bremen
END:VEVENT
BEGIN:VEVENT
DTSTAMP:20260419T225444
DTSTART;TZID=Europe/Berlin:20260430T173000
DTEND;TZID=Europe/Berlin:20260430T190000
UID:261O45-837-20260430T173000@VHSBREMEN
SUMMARY:Englisch Konversation auf Niveau B1 English conversation at level B1 (261O45-837) 
LOCATION:Bürgerzentrum Neue Vahr, Raum E 03, Berliner Freiheit 10, 28327 Bremen
END:VEVENT
BEGIN:VEVENT
DTSTAMP:20260419T225444
DTSTART;TZID=Europe/Berlin:20260507T173000
DTEND;TZID=Europe/Berlin:20260507T190000
UID:261O45-837-20260507T173000@VHSBREMEN
SUMMARY:Englisch Konversation auf Niveau B1 English conversation at level B1 (261O45-837) 
LOCATION:Bürgerzentrum Neue Vahr, Raum E 03, Berliner Freiheit 10, 28327 Bremen
END:VEVENT
BEGIN:VEVENT
DTSTAMP:20260419T225444
DTSTART;TZID=Europe/Berlin:20260521T173000
DTEND;TZID=Europe/Berlin:20260521T190000
UID:261O45-837-20260521T173000@VHSBREMEN
SUMMARY:Englisch Konversation auf Niveau B1 English conversation at level B1 (261O45-837) 
LOCATION:Bürgerzentrum Neue Vahr, Raum E 03, Berliner Freiheit 10, 28327 Bremen
END:VEVENT
BEGIN:VEVENT
DTSTAMP:20260419T225444
DTSTART;TZID=Europe/Berlin:20260528T173000
DTEND;TZID=Europe/Berlin:20260528T190000
UID:261O45-837-20260528T173000@VHSBREMEN
SUMMARY:Englisch Konversation auf Niveau B1 English conversation at level B1 (261O45-837) 
LOCATION:Bürgerzentrum Neue Vahr, Raum E 03, Berliner Freiheit 10, 28327 Bremen
END:VEVENT
BEGIN:VEVENT
DTSTAMP:20260419T225444
DTSTART;TZID=Europe/Berlin:20260604T173000
DTEND;TZID=Europe/Berlin:20260604T190000
UID:261O45-837-20260604T173000@VHSBREMEN
SUMMARY:Englisch Konversation auf Niveau B1 English conversation at level B1 (261O45-837) 
LOCATION:Bürgerzentrum Neue Vahr, Raum E 03, Berliner Freiheit 10, 28327 Bremen
END:VEVENT
END:VCALENDAR