BEGIN:VCALENDAR
VERSION:2.0
PRODID:https://www.kufer.de/kuferweb / DE
METHOD:PUBLISH
CALSCALE:GREGORIAN
X-WR-TIMEZONE:Europe/Berlin
BEGIN:VTIMEZONE
TZID:Europe/Berlin
X-LIC-LOCATION:Europe/Berlin
BEGIN:DAYLIGHT
TZOFFSETFROM:+0100
TZOFFSETTO:+0200
TZNAME:CEST
DTSTART:19700329T020000
RRULE:FREQ=YEARLY;INTERVAL=1;BYDAY=-1SU;BYMONTH=3
END:DAYLIGHT
BEGIN:STANDARD
TZOFFSETFROM:+0200
TZOFFSETTO:+0100
TZNAME:CET
DTSTART:19701025T030000
RRULE:FREQ=YEARLY;INTERVAL=1;BYDAY=-1SU;BYMONTH=10
END:STANDARD
END:VTIMEZONE
BEGIN:VEVENT
DTSTAMP:20260422T040802
DTSTART;TZID=Europe/Berlin:20260219T171500
DTEND;TZID=Europe/Berlin:20260219T184500
UID:261O45-769-20260219T171500@VHSBREMEN
SUMMARY:Englisch Auffrischkurs Aufbaustufe (B1) (261O45-769) 
LOCATION:Bürgerzentrum Neue Vahr, Raum E 04, Berliner Freiheit 10, 28327 Bremen
END:VEVENT
BEGIN:VEVENT
DTSTAMP:20260422T040802
DTSTART;TZID=Europe/Berlin:20260226T171500
DTEND;TZID=Europe/Berlin:20260226T184500
UID:261O45-769-20260226T171500@VHSBREMEN
SUMMARY:Englisch Auffrischkurs Aufbaustufe (B1) (261O45-769) 
LOCATION:Bürgerzentrum Neue Vahr, Raum E 04, Berliner Freiheit 10, 28327 Bremen
END:VEVENT
BEGIN:VEVENT
DTSTAMP:20260422T040802
DTSTART;TZID=Europe/Berlin:20260305T171500
DTEND;TZID=Europe/Berlin:20260305T184500
UID:261O45-769-20260305T171500@VHSBREMEN
SUMMARY:Englisch Auffrischkurs Aufbaustufe (B1) (261O45-769) 
LOCATION:Bürgerzentrum Neue Vahr, Raum E 04, Berliner Freiheit 10, 28327 Bremen
END:VEVENT
BEGIN:VEVENT
DTSTAMP:20260422T040802
DTSTART;TZID=Europe/Berlin:20260312T171500
DTEND;TZID=Europe/Berlin:20260312T184500
UID:261O45-769-20260312T171500@VHSBREMEN
SUMMARY:Englisch Auffrischkurs Aufbaustufe (B1) (261O45-769) 
LOCATION:Bürgerzentrum Neue Vahr, Raum E 04, Berliner Freiheit 10, 28327 Bremen
END:VEVENT
BEGIN:VEVENT
DTSTAMP:20260422T040802
DTSTART;TZID=Europe/Berlin:20260319T171500
DTEND;TZID=Europe/Berlin:20260319T184500
UID:261O45-769-20260319T171500@VHSBREMEN
SUMMARY:Englisch Auffrischkurs Aufbaustufe (B1) (261O45-769) 
LOCATION:Bürgerzentrum Neue Vahr, Raum E 04, Berliner Freiheit 10, 28327 Bremen
END:VEVENT
BEGIN:VEVENT
DTSTAMP:20260422T040802
DTSTART;TZID=Europe/Berlin:20260409T171500
DTEND;TZID=Europe/Berlin:20260409T184500
UID:261O45-769-20260409T171500@VHSBREMEN
SUMMARY:Englisch Auffrischkurs Aufbaustufe (B1) (261O45-769) 
LOCATION:Bürgerzentrum Neue Vahr, Raum E 04, Berliner Freiheit 10, 28327 Bremen
END:VEVENT
BEGIN:VEVENT
DTSTAMP:20260422T040802
DTSTART;TZID=Europe/Berlin:20260416T171500
DTEND;TZID=Europe/Berlin:20260416T184500
UID:261O45-769-20260416T171500@VHSBREMEN
SUMMARY:Englisch Auffrischkurs Aufbaustufe (B1) (261O45-769) 
LOCATION:Bürgerzentrum Neue Vahr, Raum E 04, Berliner Freiheit 10, 28327 Bremen
END:VEVENT
BEGIN:VEVENT
DTSTAMP:20260422T040802
DTSTART;TZID=Europe/Berlin:20260423T171500
DTEND;TZID=Europe/Berlin:20260423T184500
UID:261O45-769-20260423T171500@VHSBREMEN
SUMMARY:Englisch Auffrischkurs Aufbaustufe (B1) (261O45-769) 
LOCATION:Bürgerzentrum Neue Vahr, Raum E 04, Berliner Freiheit 10, 28327 Bremen
END:VEVENT
BEGIN:VEVENT
DTSTAMP:20260422T040802
DTSTART;TZID=Europe/Berlin:20260430T171500
DTEND;TZID=Europe/Berlin:20260430T184500
UID:261O45-769-20260430T171500@VHSBREMEN
SUMMARY:Englisch Auffrischkurs Aufbaustufe (B1) (261O45-769) 
LOCATION:Bürgerzentrum Neue Vahr, Raum E 04, Berliner Freiheit 10, 28327 Bremen
END:VEVENT
BEGIN:VEVENT
DTSTAMP:20260422T040802
DTSTART;TZID=Europe/Berlin:20260507T171500
DTEND;TZID=Europe/Berlin:20260507T184500
UID:261O45-769-20260507T171500@VHSBREMEN
SUMMARY:Englisch Auffrischkurs Aufbaustufe (B1) (261O45-769) 
LOCATION:Bürgerzentrum Neue Vahr, Raum E 04, Berliner Freiheit 10, 28327 Bremen
END:VEVENT
BEGIN:VEVENT
DTSTAMP:20260422T040802
DTSTART;TZID=Europe/Berlin:20260521T171500
DTEND;TZID=Europe/Berlin:20260521T184500
UID:261O45-769-20260521T171500@VHSBREMEN
SUMMARY:Englisch Auffrischkurs Aufbaustufe (B1) (261O45-769) 
LOCATION:Bürgerzentrum Neue Vahr, Raum E 04, Berliner Freiheit 10, 28327 Bremen
END:VEVENT
BEGIN:VEVENT
DTSTAMP:20260422T040802
DTSTART;TZID=Europe/Berlin:20260528T171500
DTEND;TZID=Europe/Berlin:20260528T184500
UID:261O45-769-20260528T171500@VHSBREMEN
SUMMARY:Englisch Auffrischkurs Aufbaustufe (B1) (261O45-769) 
LOCATION:Bürgerzentrum Neue Vahr, Raum E 04, Berliner Freiheit 10, 28327 Bremen
END:VEVENT
BEGIN:VEVENT
DTSTAMP:20260422T040802
DTSTART;TZID=Europe/Berlin:20260604T171500
DTEND;TZID=Europe/Berlin:20260604T184500
UID:261O45-769-20260604T171500@VHSBREMEN
SUMMARY:Englisch Auffrischkurs Aufbaustufe (B1) (261O45-769) 
LOCATION:Bürgerzentrum Neue Vahr, Raum E 04, Berliner Freiheit 10, 28327 Bremen
END:VEVENT
BEGIN:VEVENT
DTSTAMP:20260422T040802
DTSTART;TZID=Europe/Berlin:20260611T171500
DTEND;TZID=Europe/Berlin:20260611T184500
UID:261O45-769-20260611T171500@VHSBREMEN
SUMMARY:Englisch Auffrischkurs Aufbaustufe (B1) (261O45-769) 
LOCATION:Bürgerzentrum Neue Vahr, Raum E 04, Berliner Freiheit 10, 28327 Bremen
END:VEVENT
BEGIN:VEVENT
DTSTAMP:20260422T040802
DTSTART;TZID=Europe/Berlin:20260618T171500
DTEND;TZID=Europe/Berlin:20260618T184500
UID:261O45-769-20260618T171500@VHSBREMEN
SUMMARY:Englisch Auffrischkurs Aufbaustufe (B1) (261O45-769) 
LOCATION:Bürgerzentrum Neue Vahr, Raum E 04, Berliner Freiheit 10, 28327 Bremen
END:VEVENT
END:VCALENDAR