BEGIN:VCALENDAR
VERSION:2.0
PRODID:https://www.kufer.de/kuferweb / DE
METHOD:PUBLISH
CALSCALE:GREGORIAN
X-WR-TIMEZONE:Europe/Berlin
BEGIN:VTIMEZONE
TZID:Europe/Berlin
X-LIC-LOCATION:Europe/Berlin
BEGIN:DAYLIGHT
TZOFFSETFROM:+0100
TZOFFSETTO:+0200
TZNAME:CEST
DTSTART:19700329T020000
RRULE:FREQ=YEARLY;INTERVAL=1;BYDAY=-1SU;BYMONTH=3
END:DAYLIGHT
BEGIN:STANDARD
TZOFFSETFROM:+0200
TZOFFSETTO:+0100
TZNAME:CET
DTSTART:19701025T030000
RRULE:FREQ=YEARLY;INTERVAL=1;BYDAY=-1SU;BYMONTH=10
END:STANDARD
END:VTIMEZONE
BEGIN:VEVENT
DTSTAMP:20260421T075031
DTSTART;TZID=Europe/Berlin:20260209T100000
DTEND;TZID=Europe/Berlin:20260209T113000
UID:261N50-151-20260209T100000@VHSBREMEN
SUMMARY:Italienisch Konversation auf Niveau B1 Italiano Conversazione Al Livello B1 (261N50-151) 
LOCATION:vhs - Nord, Raum D30, Kirchheide 49, 28757 Bremen
END:VEVENT
BEGIN:VEVENT
DTSTAMP:20260421T075031
DTSTART;TZID=Europe/Berlin:20260223T100000
DTEND;TZID=Europe/Berlin:20260223T113000
UID:261N50-151-20260223T100000@VHSBREMEN
SUMMARY:Italienisch Konversation auf Niveau B1 Italiano Conversazione Al Livello B1 (261N50-151) 
LOCATION:vhs - Nord, Raum D30, Kirchheide 49, 28757 Bremen
END:VEVENT
BEGIN:VEVENT
DTSTAMP:20260421T075031
DTSTART;TZID=Europe/Berlin:20260302T100000
DTEND;TZID=Europe/Berlin:20260302T113000
UID:261N50-151-20260302T100000@VHSBREMEN
SUMMARY:Italienisch Konversation auf Niveau B1 Italiano Conversazione Al Livello B1 (261N50-151) 
LOCATION:vhs - Nord, Raum D30, Kirchheide 49, 28757 Bremen
END:VEVENT
BEGIN:VEVENT
DTSTAMP:20260421T075031
DTSTART;TZID=Europe/Berlin:20260309T100000
DTEND;TZID=Europe/Berlin:20260309T113000
UID:261N50-151-20260309T100000@VHSBREMEN
SUMMARY:Italienisch Konversation auf Niveau B1 Italiano Conversazione Al Livello B1 (261N50-151) 
LOCATION:vhs - Nord, Raum D30, Kirchheide 49, 28757 Bremen
END:VEVENT
BEGIN:VEVENT
DTSTAMP:20260421T075031
DTSTART;TZID=Europe/Berlin:20260316T100000
DTEND;TZID=Europe/Berlin:20260316T113000
UID:261N50-151-20260316T100000@VHSBREMEN
SUMMARY:Italienisch Konversation auf Niveau B1 Italiano Conversazione Al Livello B1 (261N50-151) 
LOCATION:vhs - Nord, Raum D30, Kirchheide 49, 28757 Bremen
END:VEVENT
BEGIN:VEVENT
DTSTAMP:20260421T075031
DTSTART;TZID=Europe/Berlin:20260413T100000
DTEND;TZID=Europe/Berlin:20260413T113000
UID:261N50-151-20260413T100000@VHSBREMEN
SUMMARY:Italienisch Konversation auf Niveau B1 Italiano Conversazione Al Livello B1 (261N50-151) 
LOCATION:vhs - Nord, Raum D30, Kirchheide 49, 28757 Bremen
END:VEVENT
BEGIN:VEVENT
DTSTAMP:20260421T075031
DTSTART;TZID=Europe/Berlin:20260427T100000
DTEND;TZID=Europe/Berlin:20260427T113000
UID:261N50-151-20260427T100000@VHSBREMEN
SUMMARY:Italienisch Konversation auf Niveau B1 Italiano Conversazione Al Livello B1 (261N50-151) 
LOCATION:vhs - Nord, Raum D30, Kirchheide 49, 28757 Bremen
END:VEVENT
BEGIN:VEVENT
DTSTAMP:20260421T075031
DTSTART;TZID=Europe/Berlin:20260511T100000
DTEND;TZID=Europe/Berlin:20260511T113000
UID:261N50-151-20260511T100000@VHSBREMEN
SUMMARY:Italienisch Konversation auf Niveau B1 Italiano Conversazione Al Livello B1 (261N50-151) 
LOCATION:vhs - Nord, Raum D30, Kirchheide 49, 28757 Bremen
END:VEVENT
BEGIN:VEVENT
DTSTAMP:20260421T075031
DTSTART;TZID=Europe/Berlin:20260518T100000
DTEND;TZID=Europe/Berlin:20260518T113000
UID:261N50-151-20260518T100000@VHSBREMEN
SUMMARY:Italienisch Konversation auf Niveau B1 Italiano Conversazione Al Livello B1 (261N50-151) 
LOCATION:vhs - Nord, Raum D30, Kirchheide 49, 28757 Bremen
END:VEVENT
BEGIN:VEVENT
DTSTAMP:20260421T075031
DTSTART;TZID=Europe/Berlin:20260601T100000
DTEND;TZID=Europe/Berlin:20260601T113000
UID:261N50-151-20260601T100000@VHSBREMEN
SUMMARY:Italienisch Konversation auf Niveau B1 Italiano Conversazione Al Livello B1 (261N50-151) 
LOCATION:vhs - Nord, Raum D30, Kirchheide 49, 28757 Bremen
END:VEVENT
BEGIN:VEVENT
DTSTAMP:20260421T075031
DTSTART;TZID=Europe/Berlin:20260608T100000
DTEND;TZID=Europe/Berlin:20260608T113000
UID:261N50-151-20260608T100000@VHSBREMEN
DESCRIPTION:Ersatz für Ausfall am 16.02.2026
SUMMARY:Italienisch Konversation auf Niveau B1 Italiano Conversazione Al Livello B1 (261N50-151) 
LOCATION:vhs - Nord, Raum D30, Kirchheide 49, 28757 Bremen
END:VEVENT
BEGIN:VEVENT
DTSTAMP:20260421T075031
DTSTART;TZID=Europe/Berlin:20260609T100000
DTEND;TZID=Europe/Berlin:20260609T113000
UID:261N50-151-20260609T100000@VHSBREMEN
DESCRIPTION:Ersatz für Ausfall am 20.04.2026
SUMMARY:Italienisch Konversation auf Niveau B1 Italiano Conversazione Al Livello B1 (261N50-151) 
LOCATION:vhs - Nord, Raum D30, Kirchheide 49, 28757 Bremen
END:VEVENT
END:VCALENDAR