BEGIN:VCALENDAR
VERSION:2.0
PRODID:https://www.kufer.de/kuferweb / DE
METHOD:PUBLISH
CALSCALE:GREGORIAN
X-WR-TIMEZONE:Europe/Berlin
BEGIN:VTIMEZONE
TZID:Europe/Berlin
X-LIC-LOCATION:Europe/Berlin
BEGIN:DAYLIGHT
TZOFFSETFROM:+0100
TZOFFSETTO:+0200
TZNAME:CEST
DTSTART:19700329T020000
RRULE:FREQ=YEARLY;INTERVAL=1;BYDAY=-1SU;BYMONTH=3
END:DAYLIGHT
BEGIN:STANDARD
TZOFFSETFROM:+0200
TZOFFSETTO:+0100
TZNAME:CET
DTSTART:19701025T030000
RRULE:FREQ=YEARLY;INTERVAL=1;BYDAY=-1SU;BYMONTH=10
END:STANDARD
END:VTIMEZONE
BEGIN:VEVENT
DTSTAMP:20260420T215824
DTSTART;TZID=Europe/Berlin:20260223T120000
DTEND;TZID=Europe/Berlin:20260223T133000
UID:261N50-127-20260223T120000@VHSBREMEN
SUMMARY:Italienisch Mittelstufe 5 am Mittag (A2) (261N50-127) 
LOCATION:vhs - Nord, Raum D30, Kirchheide 49, 28757 Bremen
END:VEVENT
BEGIN:VEVENT
DTSTAMP:20260420T215824
DTSTART;TZID=Europe/Berlin:20260302T120000
DTEND;TZID=Europe/Berlin:20260302T133000
UID:261N50-127-20260302T120000@VHSBREMEN
SUMMARY:Italienisch Mittelstufe 5 am Mittag (A2) (261N50-127) 
LOCATION:vhs - Nord, Raum D30, Kirchheide 49, 28757 Bremen
END:VEVENT
BEGIN:VEVENT
DTSTAMP:20260420T215824
DTSTART;TZID=Europe/Berlin:20260309T120000
DTEND;TZID=Europe/Berlin:20260309T133000
UID:261N50-127-20260309T120000@VHSBREMEN
SUMMARY:Italienisch Mittelstufe 5 am Mittag (A2) (261N50-127) 
LOCATION:vhs - Nord, Raum D30, Kirchheide 49, 28757 Bremen
END:VEVENT
BEGIN:VEVENT
DTSTAMP:20260420T215824
DTSTART;TZID=Europe/Berlin:20260316T120000
DTEND;TZID=Europe/Berlin:20260316T133000
UID:261N50-127-20260316T120000@VHSBREMEN
SUMMARY:Italienisch Mittelstufe 5 am Mittag (A2) (261N50-127) 
LOCATION:vhs - Nord, Raum D30, Kirchheide 49, 28757 Bremen
END:VEVENT
BEGIN:VEVENT
DTSTAMP:20260420T215824
DTSTART;TZID=Europe/Berlin:20260413T120000
DTEND;TZID=Europe/Berlin:20260413T133000
UID:261N50-127-20260413T120000@VHSBREMEN
SUMMARY:Italienisch Mittelstufe 5 am Mittag (A2) (261N50-127) 
LOCATION:vhs - Nord, Raum D30, Kirchheide 49, 28757 Bremen
END:VEVENT
BEGIN:VEVENT
DTSTAMP:20260420T215824
DTSTART;TZID=Europe/Berlin:20260427T120000
DTEND;TZID=Europe/Berlin:20260427T133000
UID:261N50-127-20260427T120000@VHSBREMEN
SUMMARY:Italienisch Mittelstufe 5 am Mittag (A2) (261N50-127) 
LOCATION:vhs - Nord, Raum D30, Kirchheide 49, 28757 Bremen
END:VEVENT
BEGIN:VEVENT
DTSTAMP:20260420T215824
DTSTART;TZID=Europe/Berlin:20260504T120000
DTEND;TZID=Europe/Berlin:20260504T133000
UID:261N50-127-20260504T120000@VHSBREMEN
SUMMARY:Italienisch Mittelstufe 5 am Mittag (A2) (261N50-127) 
LOCATION:vhs - Nord, Raum D30, Kirchheide 49, 28757 Bremen
END:VEVENT
BEGIN:VEVENT
DTSTAMP:20260420T215824
DTSTART;TZID=Europe/Berlin:20260511T120000
DTEND;TZID=Europe/Berlin:20260511T133000
UID:261N50-127-20260511T120000@VHSBREMEN
SUMMARY:Italienisch Mittelstufe 5 am Mittag (A2) (261N50-127) 
LOCATION:vhs - Nord, Raum D30, Kirchheide 49, 28757 Bremen
END:VEVENT
BEGIN:VEVENT
DTSTAMP:20260420T215824
DTSTART;TZID=Europe/Berlin:20260518T120000
DTEND;TZID=Europe/Berlin:20260518T133000
UID:261N50-127-20260518T120000@VHSBREMEN
SUMMARY:Italienisch Mittelstufe 5 am Mittag (A2) (261N50-127) 
LOCATION:vhs - Nord, Raum D30, Kirchheide 49, 28757 Bremen
END:VEVENT
BEGIN:VEVENT
DTSTAMP:20260420T215824
DTSTART;TZID=Europe/Berlin:20260601T120000
DTEND;TZID=Europe/Berlin:20260601T133000
UID:261N50-127-20260601T120000@VHSBREMEN
SUMMARY:Italienisch Mittelstufe 5 am Mittag (A2) (261N50-127) 
LOCATION:vhs - Nord, Raum D30, Kirchheide 49, 28757 Bremen
END:VEVENT
BEGIN:VEVENT
DTSTAMP:20260420T215824
DTSTART;TZID=Europe/Berlin:20260608T120000
DTEND;TZID=Europe/Berlin:20260608T133000
UID:261N50-127-20260608T120000@VHSBREMEN
DESCRIPTION:Ersatz für Ausfall am 16.02.2026
SUMMARY:Italienisch Mittelstufe 5 am Mittag (A2) (261N50-127) 
LOCATION:vhs - Nord, Raum D30, Kirchheide 49, 28757 Bremen
END:VEVENT
BEGIN:VEVENT
DTSTAMP:20260420T215824
DTSTART;TZID=Europe/Berlin:20260609T120000
DTEND;TZID=Europe/Berlin:20260609T133000
UID:261N50-127-20260609T120000@VHSBREMEN
DESCRIPTION:Ersatz für Ausfall am 20.04.2026
SUMMARY:Italienisch Mittelstufe 5 am Mittag (A2) (261N50-127) 
LOCATION:vhs - Nord, Raum D30, Kirchheide 49, 28757 Bremen
END:VEVENT
END:VCALENDAR