BEGIN:VCALENDAR
VERSION:2.0
PRODID:https://www.kufer.de/kuferweb / DE
METHOD:PUBLISH
CALSCALE:GREGORIAN
X-WR-TIMEZONE:Europe/Berlin
BEGIN:VTIMEZONE
TZID:Europe/Berlin
X-LIC-LOCATION:Europe/Berlin
BEGIN:DAYLIGHT
TZOFFSETFROM:+0100
TZOFFSETTO:+0200
TZNAME:CEST
DTSTART:19700329T020000
RRULE:FREQ=YEARLY;INTERVAL=1;BYDAY=-1SU;BYMONTH=3
END:DAYLIGHT
BEGIN:STANDARD
TZOFFSETFROM:+0200
TZOFFSETTO:+0100
TZNAME:CET
DTSTART:19701025T030000
RRULE:FREQ=YEARLY;INTERVAL=1;BYDAY=-1SU;BYMONTH=10
END:STANDARD
END:VTIMEZONE
BEGIN:VEVENT
DTSTAMP:20260421T060125
DTSTART;TZID=Europe/Berlin:20260219T104500
DTEND;TZID=Europe/Berlin:20260219T121500
UID:261N46-935-20260219T104500@VHSBREMEN
SUMMARY:Time for English - für Ältere (B2) (261N46-935) 
LOCATION:vhs - Nord, Raum D29, Kirchheide 49, 28757 Bremen
END:VEVENT
BEGIN:VEVENT
DTSTAMP:20260421T060125
DTSTART;TZID=Europe/Berlin:20260226T104500
DTEND;TZID=Europe/Berlin:20260226T121500
UID:261N46-935-20260226T104500@VHSBREMEN
SUMMARY:Time for English - für Ältere (B2) (261N46-935) 
LOCATION:vhs - Nord, Raum D29, Kirchheide 49, 28757 Bremen
END:VEVENT
BEGIN:VEVENT
DTSTAMP:20260421T060125
DTSTART;TZID=Europe/Berlin:20260305T104500
DTEND;TZID=Europe/Berlin:20260305T121500
UID:261N46-935-20260305T104500@VHSBREMEN
SUMMARY:Time for English - für Ältere (B2) (261N46-935) 
LOCATION:vhs - Nord, Raum D29, Kirchheide 49, 28757 Bremen
END:VEVENT
BEGIN:VEVENT
DTSTAMP:20260421T060125
DTSTART;TZID=Europe/Berlin:20260312T104500
DTEND;TZID=Europe/Berlin:20260312T121500
UID:261N46-935-20260312T104500@VHSBREMEN
SUMMARY:Time for English - für Ältere (B2) (261N46-935) 
LOCATION:vhs - Nord, Raum D29, Kirchheide 49, 28757 Bremen
END:VEVENT
BEGIN:VEVENT
DTSTAMP:20260421T060125
DTSTART;TZID=Europe/Berlin:20260319T104500
DTEND;TZID=Europe/Berlin:20260319T121500
UID:261N46-935-20260319T104500@VHSBREMEN
SUMMARY:Time for English - für Ältere (B2) (261N46-935) 
LOCATION:vhs - Nord, Raum D29, Kirchheide 49, 28757 Bremen
END:VEVENT
BEGIN:VEVENT
DTSTAMP:20260421T060125
DTSTART;TZID=Europe/Berlin:20260326T104500
DTEND;TZID=Europe/Berlin:20260326T121500
UID:261N46-935-20260326T104500@VHSBREMEN
SUMMARY:Time for English - für Ältere (B2) (261N46-935) 
LOCATION:vhs - Nord, Raum D29, Kirchheide 49, 28757 Bremen
END:VEVENT
BEGIN:VEVENT
DTSTAMP:20260421T060125
DTSTART;TZID=Europe/Berlin:20260402T104500
DTEND;TZID=Europe/Berlin:20260402T121500
UID:261N46-935-20260402T104500@VHSBREMEN
SUMMARY:Time for English - für Ältere (B2) (261N46-935) 
LOCATION:vhs - Nord, Raum D29, Kirchheide 49, 28757 Bremen
END:VEVENT
BEGIN:VEVENT
DTSTAMP:20260421T060125
DTSTART;TZID=Europe/Berlin:20260409T104500
DTEND;TZID=Europe/Berlin:20260409T121500
UID:261N46-935-20260409T104500@VHSBREMEN
SUMMARY:Time for English - für Ältere (B2) (261N46-935) 
LOCATION:vhs - Nord, Raum D29, Kirchheide 49, 28757 Bremen
END:VEVENT
BEGIN:VEVENT
DTSTAMP:20260421T060125
DTSTART;TZID=Europe/Berlin:20260416T104500
DTEND;TZID=Europe/Berlin:20260416T121500
UID:261N46-935-20260416T104500@VHSBREMEN
SUMMARY:Time for English - für Ältere (B2) (261N46-935) 
LOCATION:vhs - Nord, Raum D29, Kirchheide 49, 28757 Bremen
END:VEVENT
BEGIN:VEVENT
DTSTAMP:20260421T060125
DTSTART;TZID=Europe/Berlin:20260423T104500
DTEND;TZID=Europe/Berlin:20260423T121500
UID:261N46-935-20260423T104500@VHSBREMEN
DESCRIPTION:Ersatz für Ausfall am 12.02.2026
SUMMARY:Time for English - für Ältere (B2) (261N46-935) 
LOCATION:vhs - Nord, Raum D29, Kirchheide 49, 28757 Bremen
END:VEVENT
END:VCALENDAR