BEGIN:VCALENDAR
VERSION:2.0
PRODID:https://www.kufer.de/kuferweb / DE
METHOD:PUBLISH
CALSCALE:GREGORIAN
X-WR-TIMEZONE:Europe/Berlin
BEGIN:VTIMEZONE
TZID:Europe/Berlin
X-LIC-LOCATION:Europe/Berlin
BEGIN:DAYLIGHT
TZOFFSETFROM:+0100
TZOFFSETTO:+0200
TZNAME:CEST
DTSTART:19700329T020000
RRULE:FREQ=YEARLY;INTERVAL=1;BYDAY=-1SU;BYMONTH=3
END:DAYLIGHT
BEGIN:STANDARD
TZOFFSETFROM:+0200
TZOFFSETTO:+0100
TZNAME:CET
DTSTART:19701025T030000
RRULE:FREQ=YEARLY;INTERVAL=1;BYDAY=-1SU;BYMONTH=10
END:STANDARD
END:VTIMEZONE
BEGIN:VEVENT
DTSTAMP:20260420T215658
DTSTART;TZID=Europe/Berlin:20260226T160000
DTEND;TZID=Europe/Berlin:20260226T173000
UID:261N44-585-20260226T160000@VHSBREMEN
SUMMARY:Englisch Konversation auf Niveau B1  - English conversation at level B1 (261N44-585) 
LOCATION:vhs - Nord, Raum D30, Kirchheide 49, 28757 Bremen
END:VEVENT
BEGIN:VEVENT
DTSTAMP:20260420T215658
DTSTART;TZID=Europe/Berlin:20260305T160000
DTEND;TZID=Europe/Berlin:20260305T173000
UID:261N44-585-20260305T160000@VHSBREMEN
SUMMARY:Englisch Konversation auf Niveau B1  - English conversation at level B1 (261N44-585) 
LOCATION:vhs - Nord, Raum D30, Kirchheide 49, 28757 Bremen
END:VEVENT
BEGIN:VEVENT
DTSTAMP:20260420T215658
DTSTART;TZID=Europe/Berlin:20260312T160000
DTEND;TZID=Europe/Berlin:20260312T173000
UID:261N44-585-20260312T160000@VHSBREMEN
SUMMARY:Englisch Konversation auf Niveau B1  - English conversation at level B1 (261N44-585) 
LOCATION:vhs - Nord, Raum D30, Kirchheide 49, 28757 Bremen
END:VEVENT
BEGIN:VEVENT
DTSTAMP:20260420T215658
DTSTART;TZID=Europe/Berlin:20260319T160000
DTEND;TZID=Europe/Berlin:20260319T173000
UID:261N44-585-20260319T160000@VHSBREMEN
SUMMARY:Englisch Konversation auf Niveau B1  - English conversation at level B1 (261N44-585) 
LOCATION:vhs - Nord, Raum D30, Kirchheide 49, 28757 Bremen
END:VEVENT
BEGIN:VEVENT
DTSTAMP:20260420T215658
DTSTART;TZID=Europe/Berlin:20260409T160000
DTEND;TZID=Europe/Berlin:20260409T173000
UID:261N44-585-20260409T160000@VHSBREMEN
SUMMARY:Englisch Konversation auf Niveau B1  - English conversation at level B1 (261N44-585) 
LOCATION:vhs - Nord, Raum D30, Kirchheide 49, 28757 Bremen
END:VEVENT
BEGIN:VEVENT
DTSTAMP:20260420T215658
DTSTART;TZID=Europe/Berlin:20260416T160000
DTEND;TZID=Europe/Berlin:20260416T173000
UID:261N44-585-20260416T160000@VHSBREMEN
SUMMARY:Englisch Konversation auf Niveau B1  - English conversation at level B1 (261N44-585) 
LOCATION:vhs - Nord, Raum D30, Kirchheide 49, 28757 Bremen
END:VEVENT
BEGIN:VEVENT
DTSTAMP:20260420T215658
DTSTART;TZID=Europe/Berlin:20260423T160000
DTEND;TZID=Europe/Berlin:20260423T173000
UID:261N44-585-20260423T160000@VHSBREMEN
SUMMARY:Englisch Konversation auf Niveau B1  - English conversation at level B1 (261N44-585) 
LOCATION:vhs - Nord, Raum D30, Kirchheide 49, 28757 Bremen
END:VEVENT
BEGIN:VEVENT
DTSTAMP:20260420T215658
DTSTART;TZID=Europe/Berlin:20260430T160000
DTEND;TZID=Europe/Berlin:20260430T173000
UID:261N44-585-20260430T160000@VHSBREMEN
SUMMARY:Englisch Konversation auf Niveau B1  - English conversation at level B1 (261N44-585) 
LOCATION:vhs - Nord, Raum D30, Kirchheide 49, 28757 Bremen
END:VEVENT
BEGIN:VEVENT
DTSTAMP:20260420T215658
DTSTART;TZID=Europe/Berlin:20260507T160000
DTEND;TZID=Europe/Berlin:20260507T173000
UID:261N44-585-20260507T160000@VHSBREMEN
SUMMARY:Englisch Konversation auf Niveau B1  - English conversation at level B1 (261N44-585) 
LOCATION:vhs - Nord, Raum D30, Kirchheide 49, 28757 Bremen
END:VEVENT
BEGIN:VEVENT
DTSTAMP:20260420T215658
DTSTART;TZID=Europe/Berlin:20260521T160000
DTEND;TZID=Europe/Berlin:20260521T173000
UID:261N44-585-20260521T160000@VHSBREMEN
SUMMARY:Englisch Konversation auf Niveau B1  - English conversation at level B1 (261N44-585) 
LOCATION:vhs - Nord, Raum D30, Kirchheide 49, 28757 Bremen
END:VEVENT
BEGIN:VEVENT
DTSTAMP:20260420T215658
DTSTART;TZID=Europe/Berlin:20260528T160000
DTEND;TZID=Europe/Berlin:20260528T173000
UID:261N44-585-20260528T160000@VHSBREMEN
SUMMARY:Englisch Konversation auf Niveau B1  - English conversation at level B1 (261N44-585) 
LOCATION:vhs - Nord, Raum D30, Kirchheide 49, 28757 Bremen
END:VEVENT
BEGIN:VEVENT
DTSTAMP:20260420T215658
DTSTART;TZID=Europe/Berlin:20260604T160000
DTEND;TZID=Europe/Berlin:20260604T173000
UID:261N44-585-20260604T160000@VHSBREMEN
SUMMARY:Englisch Konversation auf Niveau B1  - English conversation at level B1 (261N44-585) 
LOCATION:vhs - Nord, Raum D30, Kirchheide 49, 28757 Bremen
END:VEVENT
END:VCALENDAR