BEGIN:VCALENDAR
VERSION:2.0
PRODID:https://www.kufer.de/kuferweb / DE
METHOD:PUBLISH
CALSCALE:GREGORIAN
X-WR-TIMEZONE:Europe/Berlin
BEGIN:VTIMEZONE
TZID:Europe/Berlin
X-LIC-LOCATION:Europe/Berlin
BEGIN:DAYLIGHT
TZOFFSETFROM:+0100
TZOFFSETTO:+0200
TZNAME:CEST
DTSTART:19700329T020000
RRULE:FREQ=YEARLY;INTERVAL=1;BYDAY=-1SU;BYMONTH=3
END:DAYLIGHT
BEGIN:STANDARD
TZOFFSETFROM:+0200
TZOFFSETTO:+0100
TZNAME:CET
DTSTART:19701025T030000
RRULE:FREQ=YEARLY;INTERVAL=1;BYDAY=-1SU;BYMONTH=10
END:STANDARD
END:VTIMEZONE
BEGIN:VEVENT
DTSTAMP:20260422T025917
DTSTART;TZID=Europe/Berlin:20260416T150000
DTEND;TZID=Europe/Berlin:20260416T163000
UID:261M90-138-20260416T150000@VHSBREMEN
SUMMARY:Lesen macht Spaß – besonders, wenn man es zusammen macht! Lesecafé für Erwachsene (261M90-138) 
LOCATION:vhs am Bahnhof, Raum 6.1., Breitenweg 2, 28195 Bremen
END:VEVENT
BEGIN:VEVENT
DTSTAMP:20260422T025917
DTSTART;TZID=Europe/Berlin:20260423T150000
DTEND;TZID=Europe/Berlin:20260423T163000
UID:261M90-138-20260423T150000@VHSBREMEN
SUMMARY:Lesen macht Spaß – besonders, wenn man es zusammen macht! Lesecafé für Erwachsene (261M90-138) 
LOCATION:vhs am Bahnhof, Raum 6.1., Breitenweg 2, 28195 Bremen
END:VEVENT
BEGIN:VEVENT
DTSTAMP:20260422T025917
DTSTART;TZID=Europe/Berlin:20260430T150000
DTEND;TZID=Europe/Berlin:20260430T163000
UID:261M90-138-20260430T150000@VHSBREMEN
SUMMARY:Lesen macht Spaß – besonders, wenn man es zusammen macht! Lesecafé für Erwachsene (261M90-138) 
LOCATION:vhs am Bahnhof, Raum 5.1, Breitenweg 2, 28195 Bremen
END:VEVENT
BEGIN:VEVENT
DTSTAMP:20260422T025917
DTSTART;TZID=Europe/Berlin:20260507T150000
DTEND;TZID=Europe/Berlin:20260507T163000
UID:261M90-138-20260507T150000@VHSBREMEN
SUMMARY:Lesen macht Spaß – besonders, wenn man es zusammen macht! Lesecafé für Erwachsene (261M90-138) 
LOCATION:vhs am Bahnhof, Raum 6.1., Breitenweg 2, 28195 Bremen
END:VEVENT
BEGIN:VEVENT
DTSTAMP:20260422T025917
DTSTART;TZID=Europe/Berlin:20260521T150000
DTEND;TZID=Europe/Berlin:20260521T163000
UID:261M90-138-20260521T150000@VHSBREMEN
SUMMARY:Lesen macht Spaß – besonders, wenn man es zusammen macht! Lesecafé für Erwachsene (261M90-138) 
LOCATION:vhs am Bahnhof, Raum 6.1., Breitenweg 2, 28195 Bremen
END:VEVENT
BEGIN:VEVENT
DTSTAMP:20260422T025917
DTSTART;TZID=Europe/Berlin:20260528T150000
DTEND;TZID=Europe/Berlin:20260528T163000
UID:261M90-138-20260528T150000@VHSBREMEN
SUMMARY:Lesen macht Spaß – besonders, wenn man es zusammen macht! Lesecafé für Erwachsene (261M90-138) 
LOCATION:vhs am Bahnhof, Raum 6.1., Breitenweg 2, 28195 Bremen
END:VEVENT
BEGIN:VEVENT
DTSTAMP:20260422T025917
DTSTART;TZID=Europe/Berlin:20260604T150000
DTEND;TZID=Europe/Berlin:20260604T163000
UID:261M90-138-20260604T150000@VHSBREMEN
SUMMARY:Lesen macht Spaß – besonders, wenn man es zusammen macht! Lesecafé für Erwachsene (261M90-138) 
LOCATION:vhs am Bahnhof, Raum 6.1., Breitenweg 2, 28195 Bremen
END:VEVENT
BEGIN:VEVENT
DTSTAMP:20260422T025917
DTSTART;TZID=Europe/Berlin:20260611T150000
DTEND;TZID=Europe/Berlin:20260611T163000
UID:261M90-138-20260611T150000@VHSBREMEN
SUMMARY:Lesen macht Spaß – besonders, wenn man es zusammen macht! Lesecafé für Erwachsene (261M90-138) 
LOCATION:vhs am Bahnhof, Raum 6.1., Breitenweg 2, 28195 Bremen
END:VEVENT
BEGIN:VEVENT
DTSTAMP:20260422T025917
DTSTART;TZID=Europe/Berlin:20260618T150000
DTEND;TZID=Europe/Berlin:20260618T163000
UID:261M90-138-20260618T150000@VHSBREMEN
SUMMARY:Lesen macht Spaß – besonders, wenn man es zusammen macht! Lesecafé für Erwachsene (261M90-138) 
LOCATION:vhs am Bahnhof, Raum 6.1., Breitenweg 2, 28195 Bremen
END:VEVENT
BEGIN:VEVENT
DTSTAMP:20260422T025917
DTSTART;TZID=Europe/Berlin:20260625T150000
DTEND;TZID=Europe/Berlin:20260625T163000
UID:261M90-138-20260625T150000@VHSBREMEN
SUMMARY:Lesen macht Spaß – besonders, wenn man es zusammen macht! Lesecafé für Erwachsene (261M90-138) 
LOCATION:vhs am Bahnhof, Raum 6.1., Breitenweg 2, 28195 Bremen
END:VEVENT
END:VCALENDAR