BEGIN:VCALENDAR
VERSION:2.0
PRODID:https://www.kufer.de/kuferweb / DE
METHOD:PUBLISH
CALSCALE:GREGORIAN
X-WR-TIMEZONE:Europe/Berlin
BEGIN:VTIMEZONE
TZID:Europe/Berlin
X-LIC-LOCATION:Europe/Berlin
BEGIN:DAYLIGHT
TZOFFSETFROM:+0100
TZOFFSETTO:+0200
TZNAME:CEST
DTSTART:19700329T020000
RRULE:FREQ=YEARLY;INTERVAL=1;BYDAY=-1SU;BYMONTH=3
END:DAYLIGHT
BEGIN:STANDARD
TZOFFSETFROM:+0200
TZOFFSETTO:+0100
TZNAME:CET
DTSTART:19701025T030000
RRULE:FREQ=YEARLY;INTERVAL=1;BYDAY=-1SU;BYMONTH=10
END:STANDARD
END:VTIMEZONE
BEGIN:VEVENT
DTSTAMP:20260422T060029
DTSTART;TZID=Europe/Berlin:20260429T080000
DTEND;TZID=Europe/Berlin:20260429T084500
UID:261M85-883-20260429T080000@VHSBREMEN
SUMMARY:Qigong in den Wallanlagen (261M85-883) 
LOCATION:Bamberger, Foyer, Haupteingang
END:VEVENT
BEGIN:VEVENT
DTSTAMP:20260422T060029
DTSTART;TZID=Europe/Berlin:20260506T080000
DTEND;TZID=Europe/Berlin:20260506T084500
UID:261M85-883-20260506T080000@VHSBREMEN
SUMMARY:Qigong in den Wallanlagen (261M85-883) 
LOCATION:Bamberger, Foyer, Haupteingang
END:VEVENT
BEGIN:VEVENT
DTSTAMP:20260422T060029
DTSTART;TZID=Europe/Berlin:20260513T080000
DTEND;TZID=Europe/Berlin:20260513T084500
UID:261M85-883-20260513T080000@VHSBREMEN
SUMMARY:Qigong in den Wallanlagen (261M85-883) 
LOCATION:Bamberger, Foyer, Haupteingang
END:VEVENT
BEGIN:VEVENT
DTSTAMP:20260422T060029
DTSTART;TZID=Europe/Berlin:20260520T080000
DTEND;TZID=Europe/Berlin:20260520T084500
UID:261M85-883-20260520T080000@VHSBREMEN
SUMMARY:Qigong in den Wallanlagen (261M85-883) 
LOCATION:Bamberger, Foyer, Haupteingang
END:VEVENT
BEGIN:VEVENT
DTSTAMP:20260422T060029
DTSTART;TZID=Europe/Berlin:20260527T080000
DTEND;TZID=Europe/Berlin:20260527T084500
UID:261M85-883-20260527T080000@VHSBREMEN
SUMMARY:Qigong in den Wallanlagen (261M85-883) 
LOCATION:Bamberger, Foyer, Haupteingang
END:VEVENT
BEGIN:VEVENT
DTSTAMP:20260422T060029
DTSTART;TZID=Europe/Berlin:20260603T080000
DTEND;TZID=Europe/Berlin:20260603T084500
UID:261M85-883-20260603T080000@VHSBREMEN
SUMMARY:Qigong in den Wallanlagen (261M85-883) 
LOCATION:Bamberger, Foyer, Haupteingang
END:VEVENT
BEGIN:VEVENT
DTSTAMP:20260422T060029
DTSTART;TZID=Europe/Berlin:20260610T080000
DTEND;TZID=Europe/Berlin:20260610T084500
UID:261M85-883-20260610T080000@VHSBREMEN
SUMMARY:Qigong in den Wallanlagen (261M85-883) 
LOCATION:Bamberger, Foyer, Haupteingang
END:VEVENT
BEGIN:VEVENT
DTSTAMP:20260422T060029
DTSTART;TZID=Europe/Berlin:20260617T080000
DTEND;TZID=Europe/Berlin:20260617T084500
UID:261M85-883-20260617T080000@VHSBREMEN
SUMMARY:Qigong in den Wallanlagen (261M85-883) 
LOCATION:Bamberger, Foyer, Haupteingang
END:VEVENT
BEGIN:VEVENT
DTSTAMP:20260422T060029
DTSTART;TZID=Europe/Berlin:20260624T080000
DTEND;TZID=Europe/Berlin:20260624T084500
UID:261M85-883-20260624T080000@VHSBREMEN
SUMMARY:Qigong in den Wallanlagen (261M85-883) 
LOCATION:Bamberger, Foyer, Haupteingang
END:VEVENT
BEGIN:VEVENT
DTSTAMP:20260422T060029
DTSTART;TZID=Europe/Berlin:20260701T080000
DTEND;TZID=Europe/Berlin:20260701T084500
UID:261M85-883-20260701T080000@VHSBREMEN
SUMMARY:Qigong in den Wallanlagen (261M85-883) 
LOCATION:Bamberger, Foyer, Haupteingang
END:VEVENT
END:VCALENDAR