BEGIN:VCALENDAR
VERSION:2.0
PRODID:https://www.kufer.de/kuferweb / DE
METHOD:PUBLISH
CALSCALE:GREGORIAN
X-WR-TIMEZONE:Europe/Berlin
BEGIN:VTIMEZONE
TZID:Europe/Berlin
X-LIC-LOCATION:Europe/Berlin
BEGIN:DAYLIGHT
TZOFFSETFROM:+0100
TZOFFSETTO:+0200
TZNAME:CEST
DTSTART:19700329T020000
RRULE:FREQ=YEARLY;INTERVAL=1;BYDAY=-1SU;BYMONTH=3
END:DAYLIGHT
BEGIN:STANDARD
TZOFFSETFROM:+0200
TZOFFSETTO:+0100
TZNAME:CET
DTSTART:19701025T030000
RRULE:FREQ=YEARLY;INTERVAL=1;BYDAY=-1SU;BYMONTH=10
END:STANDARD
END:VTIMEZONE
BEGIN:VEVENT
DTSTAMP:20260419T200814
DTSTART;TZID=Europe/Berlin:20260424T090000
DTEND;TZID=Europe/Berlin:20260424T103000
UID:261M85-415-20260424T090000@VHSBREMEN
SUMMARY:Yin-Yoga (261M85-415) 
LOCATION:vhs im Bamberger, Raum 306 Tanztheater, Faulenstraße 69, 28195 Bremen
END:VEVENT
BEGIN:VEVENT
DTSTAMP:20260419T200814
DTSTART;TZID=Europe/Berlin:20260508T090000
DTEND;TZID=Europe/Berlin:20260508T103000
UID:261M85-415-20260508T090000@VHSBREMEN
SUMMARY:Yin-Yoga (261M85-415) 
LOCATION:vhs im Bamberger, Raum 306 Tanztheater, Faulenstraße 69, 28195 Bremen
END:VEVENT
BEGIN:VEVENT
DTSTAMP:20260419T200814
DTSTART;TZID=Europe/Berlin:20260522T090000
DTEND;TZID=Europe/Berlin:20260522T103000
UID:261M85-415-20260522T090000@VHSBREMEN
SUMMARY:Yin-Yoga (261M85-415) 
LOCATION:vhs im Bamberger, Raum 306 Tanztheater, Faulenstraße 69, 28195 Bremen
END:VEVENT
BEGIN:VEVENT
DTSTAMP:20260419T200814
DTSTART;TZID=Europe/Berlin:20260529T090000
DTEND;TZID=Europe/Berlin:20260529T103000
UID:261M85-415-20260529T090000@VHSBREMEN
SUMMARY:Yin-Yoga (261M85-415) 
LOCATION:vhs im Bamberger, Raum 306 Tanztheater, Faulenstraße 69, 28195 Bremen
END:VEVENT
BEGIN:VEVENT
DTSTAMP:20260419T200814
DTSTART;TZID=Europe/Berlin:20260605T090000
DTEND;TZID=Europe/Berlin:20260605T103000
UID:261M85-415-20260605T090000@VHSBREMEN
SUMMARY:Yin-Yoga (261M85-415) 
LOCATION:vhs im Bamberger, Raum 306 Tanztheater, Faulenstraße 69, 28195 Bremen
END:VEVENT
BEGIN:VEVENT
DTSTAMP:20260419T200814
DTSTART;TZID=Europe/Berlin:20260612T090000
DTEND;TZID=Europe/Berlin:20260612T103000
UID:261M85-415-20260612T090000@VHSBREMEN
SUMMARY:Yin-Yoga (261M85-415) 
LOCATION:vhs im Bamberger, Raum 306 Tanztheater, Faulenstraße 69, 28195 Bremen
END:VEVENT
BEGIN:VEVENT
DTSTAMP:20260419T200814
DTSTART;TZID=Europe/Berlin:20260619T090000
DTEND;TZID=Europe/Berlin:20260619T103000
UID:261M85-415-20260619T090000@VHSBREMEN
SUMMARY:Yin-Yoga (261M85-415) 
LOCATION:vhs im Bamberger, Raum 306 Tanztheater, Faulenstraße 69, 28195 Bremen
END:VEVENT
BEGIN:VEVENT
DTSTAMP:20260419T200814
DTSTART;TZID=Europe/Berlin:20260626T090000
DTEND;TZID=Europe/Berlin:20260626T103000
UID:261M85-415-20260626T090000@VHSBREMEN
SUMMARY:Yin-Yoga (261M85-415) 
LOCATION:vhs im Bamberger, Raum 306 Tanztheater, Faulenstraße 69, 28195 Bremen
END:VEVENT
END:VCALENDAR