BEGIN:VCALENDAR
VERSION:2.0
PRODID:https://www.kufer.de/kuferweb / DE
METHOD:PUBLISH
CALSCALE:GREGORIAN
X-WR-TIMEZONE:Europe/Berlin
BEGIN:VTIMEZONE
TZID:Europe/Berlin
X-LIC-LOCATION:Europe/Berlin
BEGIN:DAYLIGHT
TZOFFSETFROM:+0100
TZOFFSETTO:+0200
TZNAME:CEST
DTSTART:19700329T020000
RRULE:FREQ=YEARLY;INTERVAL=1;BYDAY=-1SU;BYMONTH=3
END:DAYLIGHT
BEGIN:STANDARD
TZOFFSETFROM:+0200
TZOFFSETTO:+0100
TZNAME:CET
DTSTART:19701025T030000
RRULE:FREQ=YEARLY;INTERVAL=1;BYDAY=-1SU;BYMONTH=10
END:STANDARD
END:VTIMEZONE
BEGIN:VEVENT
DTSTAMP:20260420T215643
DTSTART;TZID=Europe/Berlin:20260420T093000
DTEND;TZID=Europe/Berlin:20260420T143000
UID:261M85-057-20260420T093000@VHSBREMEN
SUMMARY:Entspannung und Gelassenheit im beruflichen Alltag durch Yoga (261M85-057) 
LOCATION:vhs im Bamberger, Raum 211 Bewegung, Faulenstraße 69, 28195 Bremen
END:VEVENT
BEGIN:VEVENT
DTSTAMP:20260420T215643
DTSTART;TZID=Europe/Berlin:20260421T093000
DTEND;TZID=Europe/Berlin:20260421T143000
UID:261M85-057-20260421T093000@VHSBREMEN
SUMMARY:Entspannung und Gelassenheit im beruflichen Alltag durch Yoga (261M85-057) 
LOCATION:vhs im Bamberger, Raum 211 Bewegung, Faulenstraße 69, 28195 Bremen
END:VEVENT
BEGIN:VEVENT
DTSTAMP:20260420T215643
DTSTART;TZID=Europe/Berlin:20260422T093000
DTEND;TZID=Europe/Berlin:20260422T143000
UID:261M85-057-20260422T093000@VHSBREMEN
SUMMARY:Entspannung und Gelassenheit im beruflichen Alltag durch Yoga (261M85-057) 
LOCATION:vhs im Bamberger, Raum 211 Bewegung, Faulenstraße 69, 28195 Bremen
END:VEVENT
BEGIN:VEVENT
DTSTAMP:20260420T215643
DTSTART;TZID=Europe/Berlin:20260423T093000
DTEND;TZID=Europe/Berlin:20260423T143000
UID:261M85-057-20260423T093000@VHSBREMEN
SUMMARY:Entspannung und Gelassenheit im beruflichen Alltag durch Yoga (261M85-057) 
LOCATION:vhs im Bamberger, Raum 211 Bewegung, Faulenstraße 69, 28195 Bremen
END:VEVENT
BEGIN:VEVENT
DTSTAMP:20260420T215643
DTSTART;TZID=Europe/Berlin:20260424T093000
DTEND;TZID=Europe/Berlin:20260424T143000
UID:261M85-057-20260424T093000@VHSBREMEN
SUMMARY:Entspannung und Gelassenheit im beruflichen Alltag durch Yoga (261M85-057) 
LOCATION:vhs im Bamberger, Raum 211 Bewegung, Faulenstraße 69, 28195 Bremen
END:VEVENT
END:VCALENDAR