BEGIN:VCALENDAR
VERSION:2.0
PRODID:https://www.kufer.de/kuferweb / DE
METHOD:PUBLISH
CALSCALE:GREGORIAN
X-WR-TIMEZONE:Europe/Berlin
BEGIN:VTIMEZONE
TZID:Europe/Berlin
X-LIC-LOCATION:Europe/Berlin
BEGIN:DAYLIGHT
TZOFFSETFROM:+0100
TZOFFSETTO:+0200
TZNAME:CEST
DTSTART:19700329T020000
RRULE:FREQ=YEARLY;INTERVAL=1;BYDAY=-1SU;BYMONTH=3
END:DAYLIGHT
BEGIN:STANDARD
TZOFFSETFROM:+0200
TZOFFSETTO:+0100
TZNAME:CET
DTSTART:19701025T030000
RRULE:FREQ=YEARLY;INTERVAL=1;BYDAY=-1SU;BYMONTH=10
END:STANDARD
END:VTIMEZONE
BEGIN:VEVENT
DTSTAMP:20260420T200350
DTSTART;TZID=Europe/Berlin:20260803T090000
DTEND;TZID=Europe/Berlin:20260803T140000
UID:261M82-301-20260803T090000@VHSBREMEN
SUMMARY:Meal Prep leicht gemacht - Gesund, lecker und stressfrei essen für Vielbeschäftigte (261M82-301) 
LOCATION:vhs im Bamberger, Raum 107, Faulenstraße 69, 28195 Bremen
END:VEVENT
BEGIN:VEVENT
DTSTAMP:20260420T200350
DTSTART;TZID=Europe/Berlin:20260804T090000
DTEND;TZID=Europe/Berlin:20260804T140000
UID:261M82-301-20260804T090000@VHSBREMEN
SUMMARY:Meal Prep leicht gemacht - Gesund, lecker und stressfrei essen für Vielbeschäftigte (261M82-301) 
LOCATION:vhs im Bamberger, Raum 107, Faulenstraße 69, 28195 Bremen
END:VEVENT
BEGIN:VEVENT
DTSTAMP:20260420T200350
DTSTART;TZID=Europe/Berlin:20260805T090000
DTEND;TZID=Europe/Berlin:20260805T140000
UID:261M82-301-20260805T090000@VHSBREMEN
SUMMARY:Meal Prep leicht gemacht - Gesund, lecker und stressfrei essen für Vielbeschäftigte (261M82-301) 
LOCATION:vhs im Bamberger, Raum 003 Schulungsküche Forum Küche, Faulenstraße 69, 28195 Bremen
END:VEVENT
BEGIN:VEVENT
DTSTAMP:20260420T200350
DTSTART;TZID=Europe/Berlin:20260806T090000
DTEND;TZID=Europe/Berlin:20260806T140000
UID:261M82-301-20260806T090000@VHSBREMEN
SUMMARY:Meal Prep leicht gemacht - Gesund, lecker und stressfrei essen für Vielbeschäftigte (261M82-301) 
LOCATION:vhs im Bamberger, Raum 002 Großer Seminarraum Forum Küche, Faulenstraße 69, 28195 Bremen
END:VEVENT
BEGIN:VEVENT
DTSTAMP:20260420T200350
DTSTART;TZID=Europe/Berlin:20260807T090000
DTEND;TZID=Europe/Berlin:20260807T140000
UID:261M82-301-20260807T090000@VHSBREMEN
SUMMARY:Meal Prep leicht gemacht - Gesund, lecker und stressfrei essen für Vielbeschäftigte (261M82-301) 
LOCATION:vhs im Bamberger, Raum 002 Großer Seminarraum Forum Küche, Faulenstraße 69, 28195 Bremen
END:VEVENT
END:VCALENDAR