BEGIN:VCALENDAR
VERSION:2.0
PRODID:https://www.kufer.de/kuferweb / DE
METHOD:PUBLISH
CALSCALE:GREGORIAN
X-WR-TIMEZONE:Europe/Berlin
BEGIN:VTIMEZONE
TZID:Europe/Berlin
X-LIC-LOCATION:Europe/Berlin
BEGIN:DAYLIGHT
TZOFFSETFROM:+0100
TZOFFSETTO:+0200
TZNAME:CEST
DTSTART:19700329T020000
RRULE:FREQ=YEARLY;INTERVAL=1;BYDAY=-1SU;BYMONTH=3
END:DAYLIGHT
BEGIN:STANDARD
TZOFFSETFROM:+0200
TZOFFSETTO:+0100
TZNAME:CET
DTSTART:19701025T030000
RRULE:FREQ=YEARLY;INTERVAL=1;BYDAY=-1SU;BYMONTH=10
END:STANDARD
END:VTIMEZONE
BEGIN:VEVENT
DTSTAMP:20260419T191041
DTSTART;TZID=Europe/Berlin:20260219T093000
DTEND;TZID=Europe/Berlin:20260219T114500
UID:261M78-732-20260219T093000@VHSBREMEN
SUMMARY:Goldschmiedearbeiten und Schmuckgestaltung Für Anfänger*innen und Fortgeschrittene (261M78-732) 
LOCATION:Bürgerzentrum Neue Vahr, Raum A 01 Werkstatt, Berliner Freiheit 10, 28327 Bremen
END:VEVENT
BEGIN:VEVENT
DTSTAMP:20260419T191041
DTSTART;TZID=Europe/Berlin:20260305T093000
DTEND;TZID=Europe/Berlin:20260305T114500
UID:261M78-732-20260305T093000@VHSBREMEN
SUMMARY:Goldschmiedearbeiten und Schmuckgestaltung Für Anfänger*innen und Fortgeschrittene (261M78-732) 
LOCATION:Bürgerzentrum Neue Vahr, Raum A 01 Werkstatt, Berliner Freiheit 10, 28327 Bremen
END:VEVENT
BEGIN:VEVENT
DTSTAMP:20260419T191041
DTSTART;TZID=Europe/Berlin:20260319T093000
DTEND;TZID=Europe/Berlin:20260319T114500
UID:261M78-732-20260319T093000@VHSBREMEN
SUMMARY:Goldschmiedearbeiten und Schmuckgestaltung Für Anfänger*innen und Fortgeschrittene (261M78-732) 
LOCATION:Bürgerzentrum Neue Vahr, Raum A 01 Werkstatt, Berliner Freiheit 10, 28327 Bremen
END:VEVENT
BEGIN:VEVENT
DTSTAMP:20260419T191041
DTSTART;TZID=Europe/Berlin:20260430T093000
DTEND;TZID=Europe/Berlin:20260430T114500
UID:261M78-732-20260430T093000@VHSBREMEN
SUMMARY:Goldschmiedearbeiten und Schmuckgestaltung Für Anfänger*innen und Fortgeschrittene (261M78-732) 
LOCATION:Bürgerzentrum Neue Vahr, Raum A 01 Werkstatt, Berliner Freiheit 10, 28327 Bremen
END:VEVENT
BEGIN:VEVENT
DTSTAMP:20260419T191041
DTSTART;TZID=Europe/Berlin:20260521T093000
DTEND;TZID=Europe/Berlin:20260521T114500
UID:261M78-732-20260521T093000@VHSBREMEN
SUMMARY:Goldschmiedearbeiten und Schmuckgestaltung Für Anfänger*innen und Fortgeschrittene (261M78-732) 
LOCATION:Bürgerzentrum Neue Vahr, Raum A 01 Werkstatt, Berliner Freiheit 10, 28327 Bremen
END:VEVENT
BEGIN:VEVENT
DTSTAMP:20260419T191041
DTSTART;TZID=Europe/Berlin:20260604T093000
DTEND;TZID=Europe/Berlin:20260604T114500
UID:261M78-732-20260604T093000@VHSBREMEN
SUMMARY:Goldschmiedearbeiten und Schmuckgestaltung Für Anfänger*innen und Fortgeschrittene (261M78-732) 
LOCATION:Bürgerzentrum Neue Vahr, Raum A 01 Werkstatt, Berliner Freiheit 10, 28327 Bremen
END:VEVENT
END:VCALENDAR