BEGIN:VCALENDAR
VERSION:2.0
PRODID:https://www.kufer.de/kuferweb / DE
METHOD:PUBLISH
CALSCALE:GREGORIAN
X-WR-TIMEZONE:Europe/Berlin
BEGIN:VTIMEZONE
TZID:Europe/Berlin
X-LIC-LOCATION:Europe/Berlin
BEGIN:DAYLIGHT
TZOFFSETFROM:+0100
TZOFFSETTO:+0200
TZNAME:CEST
DTSTART:19700329T020000
RRULE:FREQ=YEARLY;INTERVAL=1;BYDAY=-1SU;BYMONTH=3
END:DAYLIGHT
BEGIN:STANDARD
TZOFFSETFROM:+0200
TZOFFSETTO:+0100
TZNAME:CET
DTSTART:19701025T030000
RRULE:FREQ=YEARLY;INTERVAL=1;BYDAY=-1SU;BYMONTH=10
END:STANDARD
END:VTIMEZONE
BEGIN:VEVENT
DTSTAMP:20260421T204712
DTSTART;TZID=Europe/Berlin:20260212T093000
DTEND;TZID=Europe/Berlin:20260212T114500
UID:261M78-730-20260212T093000@VHSBREMEN
SUMMARY:Goldschmiedearbeiten und Schmuckgestaltung Für Anfänger*innen und Fortgeschrittene (261M78-730) 
LOCATION:Bürgerzentrum Neue Vahr, Raum A 01 Werkstatt, Berliner Freiheit 10, 28327 Bremen
END:VEVENT
BEGIN:VEVENT
DTSTAMP:20260421T204712
DTSTART;TZID=Europe/Berlin:20260226T093000
DTEND;TZID=Europe/Berlin:20260226T114500
UID:261M78-730-20260226T093000@VHSBREMEN
SUMMARY:Goldschmiedearbeiten und Schmuckgestaltung Für Anfänger*innen und Fortgeschrittene (261M78-730) 
LOCATION:Bürgerzentrum Neue Vahr, Raum A 01 Werkstatt, Berliner Freiheit 10, 28327 Bremen
END:VEVENT
BEGIN:VEVENT
DTSTAMP:20260421T204712
DTSTART;TZID=Europe/Berlin:20260312T093000
DTEND;TZID=Europe/Berlin:20260312T114500
UID:261M78-730-20260312T093000@VHSBREMEN
SUMMARY:Goldschmiedearbeiten und Schmuckgestaltung Für Anfänger*innen und Fortgeschrittene (261M78-730) 
LOCATION:Bürgerzentrum Neue Vahr, Raum A 01 Werkstatt, Berliner Freiheit 10, 28327 Bremen
END:VEVENT
BEGIN:VEVENT
DTSTAMP:20260421T204712
DTSTART;TZID=Europe/Berlin:20260409T093000
DTEND;TZID=Europe/Berlin:20260409T114500
UID:261M78-730-20260409T093000@VHSBREMEN
SUMMARY:Goldschmiedearbeiten und Schmuckgestaltung Für Anfänger*innen und Fortgeschrittene (261M78-730) 
LOCATION:Bürgerzentrum Neue Vahr, Raum A 01 Werkstatt, Berliner Freiheit 10, 28327 Bremen
END:VEVENT
BEGIN:VEVENT
DTSTAMP:20260421T204712
DTSTART;TZID=Europe/Berlin:20260423T093000
DTEND;TZID=Europe/Berlin:20260423T114500
UID:261M78-730-20260423T093000@VHSBREMEN
SUMMARY:Goldschmiedearbeiten und Schmuckgestaltung Für Anfänger*innen und Fortgeschrittene (261M78-730) 
LOCATION:Bürgerzentrum Neue Vahr, Raum A 01 Werkstatt, Berliner Freiheit 10, 28327 Bremen
END:VEVENT
BEGIN:VEVENT
DTSTAMP:20260421T204712
DTSTART;TZID=Europe/Berlin:20260507T093000
DTEND;TZID=Europe/Berlin:20260507T114500
UID:261M78-730-20260507T093000@VHSBREMEN
SUMMARY:Goldschmiedearbeiten und Schmuckgestaltung Für Anfänger*innen und Fortgeschrittene (261M78-730) 
LOCATION:Bürgerzentrum Neue Vahr, Raum A 01 Werkstatt, Berliner Freiheit 10, 28327 Bremen
END:VEVENT
END:VCALENDAR