BEGIN:VCALENDAR
VERSION:2.0
PRODID:https://www.kufer.de/kuferweb / DE
METHOD:PUBLISH
CALSCALE:GREGORIAN
X-WR-TIMEZONE:Europe/Berlin
BEGIN:VTIMEZONE
TZID:Europe/Berlin
X-LIC-LOCATION:Europe/Berlin
BEGIN:DAYLIGHT
TZOFFSETFROM:+0100
TZOFFSETTO:+0200
TZNAME:CEST
DTSTART:19700329T020000
RRULE:FREQ=YEARLY;INTERVAL=1;BYDAY=-1SU;BYMONTH=3
END:DAYLIGHT
BEGIN:STANDARD
TZOFFSETFROM:+0200
TZOFFSETTO:+0100
TZNAME:CET
DTSTART:19701025T030000
RRULE:FREQ=YEARLY;INTERVAL=1;BYDAY=-1SU;BYMONTH=10
END:STANDARD
END:VTIMEZONE
BEGIN:VEVENT
DTSTAMP:20260422T101413
DTSTART;TZID=Europe/Berlin:20260216T153000
DTEND;TZID=Europe/Berlin:20260216T183000
UID:261M78-703-20260216T153000@VHSBREMEN
SUMMARY:Goldschmiedearbeiten und Schmuckgestaltung Für Anfänger*innen und Fortgeschrittene (261M78-703) 
LOCATION:Bürgerzentrum Neue Vahr, Raum A 01 Werkstatt, Berliner Freiheit 10, 28327 Bremen
END:VEVENT
BEGIN:VEVENT
DTSTAMP:20260422T101413
DTSTART;TZID=Europe/Berlin:20260223T153000
DTEND;TZID=Europe/Berlin:20260223T183000
UID:261M78-703-20260223T153000@VHSBREMEN
SUMMARY:Goldschmiedearbeiten und Schmuckgestaltung Für Anfänger*innen und Fortgeschrittene (261M78-703) 
LOCATION:Bürgerzentrum Neue Vahr, Raum A 01 Werkstatt, Berliner Freiheit 10, 28327 Bremen
END:VEVENT
BEGIN:VEVENT
DTSTAMP:20260422T101413
DTSTART;TZID=Europe/Berlin:20260302T153000
DTEND;TZID=Europe/Berlin:20260302T183000
UID:261M78-703-20260302T153000@VHSBREMEN
SUMMARY:Goldschmiedearbeiten und Schmuckgestaltung Für Anfänger*innen und Fortgeschrittene (261M78-703) 
LOCATION:Bürgerzentrum Neue Vahr, Raum A 01 Werkstatt, Berliner Freiheit 10, 28327 Bremen
END:VEVENT
BEGIN:VEVENT
DTSTAMP:20260422T101413
DTSTART;TZID=Europe/Berlin:20260309T153000
DTEND;TZID=Europe/Berlin:20260309T183000
UID:261M78-703-20260309T153000@VHSBREMEN
SUMMARY:Goldschmiedearbeiten und Schmuckgestaltung Für Anfänger*innen und Fortgeschrittene (261M78-703) 
LOCATION:Bürgerzentrum Neue Vahr, Raum A 01 Werkstatt, Berliner Freiheit 10, 28327 Bremen
END:VEVENT
BEGIN:VEVENT
DTSTAMP:20260422T101413
DTSTART;TZID=Europe/Berlin:20260316T153000
DTEND;TZID=Europe/Berlin:20260316T183000
UID:261M78-703-20260316T153000@VHSBREMEN
SUMMARY:Goldschmiedearbeiten und Schmuckgestaltung Für Anfänger*innen und Fortgeschrittene (261M78-703) 
LOCATION:Bürgerzentrum Neue Vahr, Raum A 01 Werkstatt, Berliner Freiheit 10, 28327 Bremen
END:VEVENT
BEGIN:VEVENT
DTSTAMP:20260422T101413
DTSTART;TZID=Europe/Berlin:20260420T153000
DTEND;TZID=Europe/Berlin:20260420T183000
UID:261M78-703-20260420T153000@VHSBREMEN
SUMMARY:Goldschmiedearbeiten und Schmuckgestaltung Für Anfänger*innen und Fortgeschrittene (261M78-703) 
LOCATION:Bürgerzentrum Neue Vahr, Raum A 01 Werkstatt, Berliner Freiheit 10, 28327 Bremen
END:VEVENT
BEGIN:VEVENT
DTSTAMP:20260422T101413
DTSTART;TZID=Europe/Berlin:20260427T153000
DTEND;TZID=Europe/Berlin:20260427T183000
UID:261M78-703-20260427T153000@VHSBREMEN
SUMMARY:Goldschmiedearbeiten und Schmuckgestaltung Für Anfänger*innen und Fortgeschrittene (261M78-703) 
LOCATION:Bürgerzentrum Neue Vahr, Raum A 01 Werkstatt, Berliner Freiheit 10, 28327 Bremen
END:VEVENT
BEGIN:VEVENT
DTSTAMP:20260422T101413
DTSTART;TZID=Europe/Berlin:20260504T153000
DTEND;TZID=Europe/Berlin:20260504T183000
UID:261M78-703-20260504T153000@VHSBREMEN
SUMMARY:Goldschmiedearbeiten und Schmuckgestaltung Für Anfänger*innen und Fortgeschrittene (261M78-703) 
LOCATION:Bürgerzentrum Neue Vahr, Raum A 01 Werkstatt, Berliner Freiheit 10, 28327 Bremen
END:VEVENT
BEGIN:VEVENT
DTSTAMP:20260422T101413
DTSTART;TZID=Europe/Berlin:20260511T153000
DTEND;TZID=Europe/Berlin:20260511T183000
UID:261M78-703-20260511T153000@VHSBREMEN
SUMMARY:Goldschmiedearbeiten und Schmuckgestaltung Für Anfänger*innen und Fortgeschrittene (261M78-703) 
LOCATION:Bürgerzentrum Neue Vahr, Raum A 01 Werkstatt, Berliner Freiheit 10, 28327 Bremen
END:VEVENT
BEGIN:VEVENT
DTSTAMP:20260422T101413
DTSTART;TZID=Europe/Berlin:20260518T153000
DTEND;TZID=Europe/Berlin:20260518T183000
UID:261M78-703-20260518T153000@VHSBREMEN
SUMMARY:Goldschmiedearbeiten und Schmuckgestaltung Für Anfänger*innen und Fortgeschrittene (261M78-703) 
LOCATION:Bürgerzentrum Neue Vahr, Raum A 01 Werkstatt, Berliner Freiheit 10, 28327 Bremen
END:VEVENT
BEGIN:VEVENT
DTSTAMP:20260422T101413
DTSTART;TZID=Europe/Berlin:20260601T153000
DTEND;TZID=Europe/Berlin:20260601T183000
UID:261M78-703-20260601T153000@VHSBREMEN
DESCRIPTION:muss ausfallen, TN  informiert Ersatz für Ausfall am 13.04.2026
SUMMARY:Goldschmiedearbeiten und Schmuckgestaltung Für Anfänger*innen und Fortgeschrittene (261M78-703) 
LOCATION:Bürgerzentrum Neue Vahr, Raum A 01 Werkstatt, Berliner Freiheit 10, 28327 Bremen
END:VEVENT
END:VCALENDAR