BEGIN:VCALENDAR
VERSION:2.0
PRODID:https://www.kufer.de/kuferweb / DE
METHOD:PUBLISH
CALSCALE:GREGORIAN
X-WR-TIMEZONE:Europe/Berlin
BEGIN:VTIMEZONE
TZID:Europe/Berlin
X-LIC-LOCATION:Europe/Berlin
BEGIN:DAYLIGHT
TZOFFSETFROM:+0100
TZOFFSETTO:+0200
TZNAME:CEST
DTSTART:19700329T020000
RRULE:FREQ=YEARLY;INTERVAL=1;BYDAY=-1SU;BYMONTH=3
END:DAYLIGHT
BEGIN:STANDARD
TZOFFSETFROM:+0200
TZOFFSETTO:+0100
TZNAME:CET
DTSTART:19701025T030000
RRULE:FREQ=YEARLY;INTERVAL=1;BYDAY=-1SU;BYMONTH=10
END:STANDARD
END:VTIMEZONE
BEGIN:VEVENT
DTSTAMP:20260419T171211
DTSTART;TZID=Europe/Berlin:20260216T093000
DTEND;TZID=Europe/Berlin:20260216T123000
UID:261M78-701-20260216T093000@VHSBREMEN
SUMMARY:Goldschmiedearbeiten und Schmuckgestaltung Für Anfänger*innen und Fortgeschrittene (261M78-701) 
LOCATION:Bürgerzentrum Neue Vahr, Raum A 01 Werkstatt, Berliner Freiheit 10, 28327 Bremen
END:VEVENT
BEGIN:VEVENT
DTSTAMP:20260419T171211
DTSTART;TZID=Europe/Berlin:20260223T093000
DTEND;TZID=Europe/Berlin:20260223T123000
UID:261M78-701-20260223T093000@VHSBREMEN
SUMMARY:Goldschmiedearbeiten und Schmuckgestaltung Für Anfänger*innen und Fortgeschrittene (261M78-701) 
LOCATION:Bürgerzentrum Neue Vahr, Raum A 01 Werkstatt, Berliner Freiheit 10, 28327 Bremen
END:VEVENT
BEGIN:VEVENT
DTSTAMP:20260419T171211
DTSTART;TZID=Europe/Berlin:20260302T093000
DTEND;TZID=Europe/Berlin:20260302T123000
UID:261M78-701-20260302T093000@VHSBREMEN
SUMMARY:Goldschmiedearbeiten und Schmuckgestaltung Für Anfänger*innen und Fortgeschrittene (261M78-701) 
LOCATION:Bürgerzentrum Neue Vahr, Raum A 01 Werkstatt, Berliner Freiheit 10, 28327 Bremen
END:VEVENT
BEGIN:VEVENT
DTSTAMP:20260419T171211
DTSTART;TZID=Europe/Berlin:20260309T093000
DTEND;TZID=Europe/Berlin:20260309T123000
UID:261M78-701-20260309T093000@VHSBREMEN
SUMMARY:Goldschmiedearbeiten und Schmuckgestaltung Für Anfänger*innen und Fortgeschrittene (261M78-701) 
LOCATION:Bürgerzentrum Neue Vahr, Raum A 01 Werkstatt, Berliner Freiheit 10, 28327 Bremen
END:VEVENT
BEGIN:VEVENT
DTSTAMP:20260419T171211
DTSTART;TZID=Europe/Berlin:20260316T093000
DTEND;TZID=Europe/Berlin:20260316T123000
UID:261M78-701-20260316T093000@VHSBREMEN
SUMMARY:Goldschmiedearbeiten und Schmuckgestaltung Für Anfänger*innen und Fortgeschrittene (261M78-701) 
LOCATION:Bürgerzentrum Neue Vahr, Raum A 01 Werkstatt, Berliner Freiheit 10, 28327 Bremen
END:VEVENT
BEGIN:VEVENT
DTSTAMP:20260419T171211
DTSTART;TZID=Europe/Berlin:20260420T093000
DTEND;TZID=Europe/Berlin:20260420T123000
UID:261M78-701-20260420T093000@VHSBREMEN
SUMMARY:Goldschmiedearbeiten und Schmuckgestaltung Für Anfänger*innen und Fortgeschrittene (261M78-701) 
LOCATION:Bürgerzentrum Neue Vahr, Raum A 01 Werkstatt, Berliner Freiheit 10, 28327 Bremen
END:VEVENT
BEGIN:VEVENT
DTSTAMP:20260419T171211
DTSTART;TZID=Europe/Berlin:20260427T093000
DTEND;TZID=Europe/Berlin:20260427T123000
UID:261M78-701-20260427T093000@VHSBREMEN
SUMMARY:Goldschmiedearbeiten und Schmuckgestaltung Für Anfänger*innen und Fortgeschrittene (261M78-701) 
LOCATION:Bürgerzentrum Neue Vahr, Raum A 01 Werkstatt, Berliner Freiheit 10, 28327 Bremen
END:VEVENT
BEGIN:VEVENT
DTSTAMP:20260419T171211
DTSTART;TZID=Europe/Berlin:20260504T093000
DTEND;TZID=Europe/Berlin:20260504T123000
UID:261M78-701-20260504T093000@VHSBREMEN
SUMMARY:Goldschmiedearbeiten und Schmuckgestaltung Für Anfänger*innen und Fortgeschrittene (261M78-701) 
LOCATION:Bürgerzentrum Neue Vahr, Raum A 01 Werkstatt, Berliner Freiheit 10, 28327 Bremen
END:VEVENT
BEGIN:VEVENT
DTSTAMP:20260419T171211
DTSTART;TZID=Europe/Berlin:20260511T093000
DTEND;TZID=Europe/Berlin:20260511T123000
UID:261M78-701-20260511T093000@VHSBREMEN
SUMMARY:Goldschmiedearbeiten und Schmuckgestaltung Für Anfänger*innen und Fortgeschrittene (261M78-701) 
LOCATION:Bürgerzentrum Neue Vahr, Raum A 01 Werkstatt, Berliner Freiheit 10, 28327 Bremen
END:VEVENT
BEGIN:VEVENT
DTSTAMP:20260419T171211
DTSTART;TZID=Europe/Berlin:20260518T093000
DTEND;TZID=Europe/Berlin:20260518T123000
UID:261M78-701-20260518T093000@VHSBREMEN
SUMMARY:Goldschmiedearbeiten und Schmuckgestaltung Für Anfänger*innen und Fortgeschrittene (261M78-701) 
LOCATION:Bürgerzentrum Neue Vahr, Raum A 01 Werkstatt, Berliner Freiheit 10, 28327 Bremen
END:VEVENT
BEGIN:VEVENT
DTSTAMP:20260419T171211
DTSTART;TZID=Europe/Berlin:20260601T093000
DTEND;TZID=Europe/Berlin:20260601T123000
UID:261M78-701-20260601T093000@VHSBREMEN
DESCRIPTION:muss ausfallen, TN  informiert Ersatz für Ausfall am 13.04.2026
SUMMARY:Goldschmiedearbeiten und Schmuckgestaltung Für Anfänger*innen und Fortgeschrittene (261M78-701) 
LOCATION:Bürgerzentrum Neue Vahr, Raum A 01 Werkstatt, Berliner Freiheit 10, 28327 Bremen
END:VEVENT
END:VCALENDAR