BEGIN:VCALENDAR
VERSION:2.0
PRODID:https://www.kufer.de/kuferweb / DE
METHOD:PUBLISH
CALSCALE:GREGORIAN
X-WR-TIMEZONE:Europe/Berlin
BEGIN:VTIMEZONE
TZID:Europe/Berlin
X-LIC-LOCATION:Europe/Berlin
BEGIN:DAYLIGHT
TZOFFSETFROM:+0100
TZOFFSETTO:+0200
TZNAME:CEST
DTSTART:19700329T020000
RRULE:FREQ=YEARLY;INTERVAL=1;BYDAY=-1SU;BYMONTH=3
END:DAYLIGHT
BEGIN:STANDARD
TZOFFSETFROM:+0200
TZOFFSETTO:+0100
TZNAME:CET
DTSTART:19701025T030000
RRULE:FREQ=YEARLY;INTERVAL=1;BYDAY=-1SU;BYMONTH=10
END:STANDARD
END:VTIMEZONE
BEGIN:VEVENT
DTSTAMP:20260420T093038
DTSTART;TZID=Europe/Berlin:20260509T100000
DTEND;TZID=Europe/Berlin:20260509T163000
UID:261M76-718-20260509T100000@VHSBREMEN
SUMMARY:Cyanotypie & Gold Einführung in das Blaudruckverfahren (261M76-718) 
LOCATION:vhs im Bamberger, Raum 310 Atelier, Faulenstraße 69, 28195 Bremen
END:VEVENT
BEGIN:VEVENT
DTSTAMP:20260420T093038
DTSTART;TZID=Europe/Berlin:20260510T100000
DTEND;TZID=Europe/Berlin:20260510T163000
UID:261M76-718-20260510T100000@VHSBREMEN
SUMMARY:Cyanotypie & Gold Einführung in das Blaudruckverfahren (261M76-718) 
LOCATION:vhs im Bamberger, Raum 310 Atelier, Faulenstraße 69, 28195 Bremen
END:VEVENT
END:VCALENDAR