BEGIN:VCALENDAR
VERSION:2.0
PRODID:https://www.kufer.de/kuferweb / DE
METHOD:PUBLISH
CALSCALE:GREGORIAN
X-WR-TIMEZONE:Europe/Berlin
BEGIN:VTIMEZONE
TZID:Europe/Berlin
X-LIC-LOCATION:Europe/Berlin
BEGIN:DAYLIGHT
TZOFFSETFROM:+0100
TZOFFSETTO:+0200
TZNAME:CEST
DTSTART:19700329T020000
RRULE:FREQ=YEARLY;INTERVAL=1;BYDAY=-1SU;BYMONTH=3
END:DAYLIGHT
BEGIN:STANDARD
TZOFFSETFROM:+0200
TZOFFSETTO:+0100
TZNAME:CET
DTSTART:19701025T030000
RRULE:FREQ=YEARLY;INTERVAL=1;BYDAY=-1SU;BYMONTH=10
END:STANDARD
END:VTIMEZONE
BEGIN:VEVENT
DTSTAMP:20260421T224629
DTSTART;TZID=Europe/Berlin:20260217T174500
DTEND;TZID=Europe/Berlin:20260217T200000
UID:261M76-701-20260217T174500@VHSBREMEN
SUMMARY:Kaltnadelradierung Umweltschonend mit Druckstöcken aus Alltagsmaterialien und Wasserdruckfarben (261M76-701) 
LOCATION:Künstlerhaus Güterabfertigung, Glaskastenatelier, Beim Handelsmuseum 9, 28195 Bremen
END:VEVENT
BEGIN:VEVENT
DTSTAMP:20260421T224629
DTSTART;TZID=Europe/Berlin:20260224T174500
DTEND;TZID=Europe/Berlin:20260224T200000
UID:261M76-701-20260224T174500@VHSBREMEN
SUMMARY:Kaltnadelradierung Umweltschonend mit Druckstöcken aus Alltagsmaterialien und Wasserdruckfarben (261M76-701) 
LOCATION:Künstlerhaus Güterabfertigung, Glaskastenatelier, Beim Handelsmuseum 9, 28195 Bremen
END:VEVENT
BEGIN:VEVENT
DTSTAMP:20260421T224629
DTSTART;TZID=Europe/Berlin:20260303T174500
DTEND;TZID=Europe/Berlin:20260303T200000
UID:261M76-701-20260303T174500@VHSBREMEN
SUMMARY:Kaltnadelradierung Umweltschonend mit Druckstöcken aus Alltagsmaterialien und Wasserdruckfarben (261M76-701) 
LOCATION:Künstlerhaus Güterabfertigung, Glaskastenatelier, Beim Handelsmuseum 9, 28195 Bremen
END:VEVENT
BEGIN:VEVENT
DTSTAMP:20260421T224629
DTSTART;TZID=Europe/Berlin:20260310T174500
DTEND;TZID=Europe/Berlin:20260310T200000
UID:261M76-701-20260310T174500@VHSBREMEN
SUMMARY:Kaltnadelradierung Umweltschonend mit Druckstöcken aus Alltagsmaterialien und Wasserdruckfarben (261M76-701) 
LOCATION:Künstlerhaus Güterabfertigung, Glaskastenatelier, Beim Handelsmuseum 9, 28195 Bremen
END:VEVENT
BEGIN:VEVENT
DTSTAMP:20260421T224629
DTSTART;TZID=Europe/Berlin:20260317T174500
DTEND;TZID=Europe/Berlin:20260317T200000
UID:261M76-701-20260317T174500@VHSBREMEN
SUMMARY:Kaltnadelradierung Umweltschonend mit Druckstöcken aus Alltagsmaterialien und Wasserdruckfarben (261M76-701) 
LOCATION:Künstlerhaus Güterabfertigung, Glaskastenatelier, Beim Handelsmuseum 9, 28195 Bremen
END:VEVENT
BEGIN:VEVENT
DTSTAMP:20260421T224629
DTSTART;TZID=Europe/Berlin:20260414T174500
DTEND;TZID=Europe/Berlin:20260414T200000
UID:261M76-701-20260414T174500@VHSBREMEN
SUMMARY:Kaltnadelradierung Umweltschonend mit Druckstöcken aus Alltagsmaterialien und Wasserdruckfarben (261M76-701) 
LOCATION:Künstlerhaus Güterabfertigung, Glaskastenatelier, Beim Handelsmuseum 9, 28195 Bremen
END:VEVENT
BEGIN:VEVENT
DTSTAMP:20260421T224629
DTSTART;TZID=Europe/Berlin:20260421T174500
DTEND;TZID=Europe/Berlin:20260421T200000
UID:261M76-701-20260421T174500@VHSBREMEN
SUMMARY:Kaltnadelradierung Umweltschonend mit Druckstöcken aus Alltagsmaterialien und Wasserdruckfarben (261M76-701) 
LOCATION:Künstlerhaus Güterabfertigung, Glaskastenatelier, Beim Handelsmuseum 9, 28195 Bremen
END:VEVENT
BEGIN:VEVENT
DTSTAMP:20260421T224629
DTSTART;TZID=Europe/Berlin:20260428T174500
DTEND;TZID=Europe/Berlin:20260428T200000
UID:261M76-701-20260428T174500@VHSBREMEN
SUMMARY:Kaltnadelradierung Umweltschonend mit Druckstöcken aus Alltagsmaterialien und Wasserdruckfarben (261M76-701) 
LOCATION:Künstlerhaus Güterabfertigung, Glaskastenatelier, Beim Handelsmuseum 9, 28195 Bremen
END:VEVENT
BEGIN:VEVENT
DTSTAMP:20260421T224629
DTSTART;TZID=Europe/Berlin:20260505T174500
DTEND;TZID=Europe/Berlin:20260505T200000
UID:261M76-701-20260505T174500@VHSBREMEN
SUMMARY:Kaltnadelradierung Umweltschonend mit Druckstöcken aus Alltagsmaterialien und Wasserdruckfarben (261M76-701) 
LOCATION:Künstlerhaus Güterabfertigung, Glaskastenatelier, Beim Handelsmuseum 9, 28195 Bremen
END:VEVENT
BEGIN:VEVENT
DTSTAMP:20260421T224629
DTSTART;TZID=Europe/Berlin:20260512T174500
DTEND;TZID=Europe/Berlin:20260512T200000
UID:261M76-701-20260512T174500@VHSBREMEN
SUMMARY:Kaltnadelradierung Umweltschonend mit Druckstöcken aus Alltagsmaterialien und Wasserdruckfarben (261M76-701) 
LOCATION:Künstlerhaus Güterabfertigung, Glaskastenatelier, Beim Handelsmuseum 9, 28195 Bremen
END:VEVENT
END:VCALENDAR