BEGIN:VCALENDAR
VERSION:2.0
PRODID:https://www.kufer.de/kuferweb / DE
METHOD:PUBLISH
CALSCALE:GREGORIAN
X-WR-TIMEZONE:Europe/Berlin
BEGIN:VTIMEZONE
TZID:Europe/Berlin
X-LIC-LOCATION:Europe/Berlin
BEGIN:DAYLIGHT
TZOFFSETFROM:+0100
TZOFFSETTO:+0200
TZNAME:CEST
DTSTART:19700329T020000
RRULE:FREQ=YEARLY;INTERVAL=1;BYDAY=-1SU;BYMONTH=3
END:DAYLIGHT
BEGIN:STANDARD
TZOFFSETFROM:+0200
TZOFFSETTO:+0100
TZNAME:CET
DTSTART:19701025T030000
RRULE:FREQ=YEARLY;INTERVAL=1;BYDAY=-1SU;BYMONTH=10
END:STANDARD
END:VTIMEZONE
BEGIN:VEVENT
DTSTAMP:20260422T120922
DTSTART;TZID=Europe/Berlin:20260713T103000
DTEND;TZID=Europe/Berlin:20260713T170000
UID:261M76-606-20260713T103000@VHSBREMEN
SUMMARY:Malerische Positionen der Gegenwartskunst  Konzepte zum abstrakten und figürlichen Bild (261M76-606) 
LOCATION:vhs im Bamberger, Raum 310 Atelier, Faulenstraße 69, 28195 Bremen
END:VEVENT
BEGIN:VEVENT
DTSTAMP:20260422T120922
DTSTART;TZID=Europe/Berlin:20260714T103000
DTEND;TZID=Europe/Berlin:20260714T170000
UID:261M76-606-20260714T103000@VHSBREMEN
SUMMARY:Malerische Positionen der Gegenwartskunst  Konzepte zum abstrakten und figürlichen Bild (261M76-606) 
LOCATION:vhs im Bamberger, Raum 306 Tanztheater, Faulenstraße 69, 28195 Bremen
END:VEVENT
BEGIN:VEVENT
DTSTAMP:20260422T120922
DTSTART;TZID=Europe/Berlin:20260715T103000
DTEND;TZID=Europe/Berlin:20260715T170000
UID:261M76-606-20260715T103000@VHSBREMEN
SUMMARY:Malerische Positionen der Gegenwartskunst  Konzepte zum abstrakten und figürlichen Bild (261M76-606) 
LOCATION:vhs im Bamberger, Raum 310 Atelier, Faulenstraße 69, 28195 Bremen
END:VEVENT
BEGIN:VEVENT
DTSTAMP:20260422T120922
DTSTART;TZID=Europe/Berlin:20260716T103000
DTEND;TZID=Europe/Berlin:20260716T170000
UID:261M76-606-20260716T103000@VHSBREMEN
SUMMARY:Malerische Positionen der Gegenwartskunst  Konzepte zum abstrakten und figürlichen Bild (261M76-606) 
LOCATION:vhs im Bamberger, Raum 308 Atelier, Faulenstraße 69, 28195 Bremen
END:VEVENT
BEGIN:VEVENT
DTSTAMP:20260422T120922
DTSTART;TZID=Europe/Berlin:20260717T103000
DTEND;TZID=Europe/Berlin:20260717T170000
UID:261M76-606-20260717T103000@VHSBREMEN
SUMMARY:Malerische Positionen der Gegenwartskunst  Konzepte zum abstrakten und figürlichen Bild (261M76-606) 
LOCATION:vhs im Bamberger, Raum 310 Atelier, Faulenstraße 69, 28195 Bremen
END:VEVENT
END:VCALENDAR