BEGIN:VCALENDAR
VERSION:2.0
PRODID:https://www.kufer.de/kuferweb / DE
METHOD:PUBLISH
CALSCALE:GREGORIAN
X-WR-TIMEZONE:Europe/Berlin
BEGIN:VTIMEZONE
TZID:Europe/Berlin
X-LIC-LOCATION:Europe/Berlin
BEGIN:DAYLIGHT
TZOFFSETFROM:+0100
TZOFFSETTO:+0200
TZNAME:CEST
DTSTART:19700329T020000
RRULE:FREQ=YEARLY;INTERVAL=1;BYDAY=-1SU;BYMONTH=3
END:DAYLIGHT
BEGIN:STANDARD
TZOFFSETFROM:+0200
TZOFFSETTO:+0100
TZNAME:CET
DTSTART:19701025T030000
RRULE:FREQ=YEARLY;INTERVAL=1;BYDAY=-1SU;BYMONTH=10
END:STANDARD
END:VTIMEZONE
BEGIN:VEVENT
DTSTAMP:20260420T235156
DTSTART;TZID=Europe/Berlin:20260114T153000
DTEND;TZID=Europe/Berlin:20260114T170000
UID:261M76-593-20260114T153000@VHSBREMEN
SUMMARY:Mach mit! Kreativwerkstatt für Menschen mit und ohne Demenz und ihre Angehörigen (261M76-593) 
LOCATION:vhs im Bamberger, Raum 310 Atelier, Faulenstraße 69, 28195 Bremen
END:VEVENT
BEGIN:VEVENT
DTSTAMP:20260420T235156
DTSTART;TZID=Europe/Berlin:20260211T153000
DTEND;TZID=Europe/Berlin:20260211T170000
UID:261M76-593-20260211T153000@VHSBREMEN
SUMMARY:Mach mit! Kreativwerkstatt für Menschen mit und ohne Demenz und ihre Angehörigen (261M76-593) 
LOCATION:vhs im Bamberger, Raum 310 Atelier, Faulenstraße 69, 28195 Bremen
END:VEVENT
BEGIN:VEVENT
DTSTAMP:20260420T235156
DTSTART;TZID=Europe/Berlin:20260311T153000
DTEND;TZID=Europe/Berlin:20260311T170000
UID:261M76-593-20260311T153000@VHSBREMEN
SUMMARY:Mach mit! Kreativwerkstatt für Menschen mit und ohne Demenz und ihre Angehörigen (261M76-593) 
LOCATION:vhs im Bamberger, Raum 310 Atelier, Faulenstraße 69, 28195 Bremen
END:VEVENT
BEGIN:VEVENT
DTSTAMP:20260420T235156
DTSTART;TZID=Europe/Berlin:20260415T153000
DTEND;TZID=Europe/Berlin:20260415T170000
UID:261M76-593-20260415T153000@VHSBREMEN
SUMMARY:Mach mit! Kreativwerkstatt für Menschen mit und ohne Demenz und ihre Angehörigen (261M76-593) 
LOCATION:vhs im Bamberger, Raum 310 Atelier, Faulenstraße 69, 28195 Bremen
END:VEVENT
BEGIN:VEVENT
DTSTAMP:20260420T235156
DTSTART;TZID=Europe/Berlin:20260513T153000
DTEND;TZID=Europe/Berlin:20260513T170000
UID:261M76-593-20260513T153000@VHSBREMEN
SUMMARY:Mach mit! Kreativwerkstatt für Menschen mit und ohne Demenz und ihre Angehörigen (261M76-593) 
LOCATION:vhs im Bamberger, Raum 310 Atelier, Faulenstraße 69, 28195 Bremen
END:VEVENT
BEGIN:VEVENT
DTSTAMP:20260420T235156
DTSTART;TZID=Europe/Berlin:20260610T153000
DTEND;TZID=Europe/Berlin:20260610T170000
UID:261M76-593-20260610T153000@VHSBREMEN
SUMMARY:Mach mit! Kreativwerkstatt für Menschen mit und ohne Demenz und ihre Angehörigen (261M76-593) 
LOCATION:vhs im Bamberger, Raum 310 Atelier, Faulenstraße 69, 28195 Bremen
END:VEVENT
BEGIN:VEVENT
DTSTAMP:20260420T235156
DTSTART;TZID=Europe/Berlin:20260729T153000
DTEND;TZID=Europe/Berlin:20260729T170000
UID:261M76-593-20260729T153000@VHSBREMEN
SUMMARY:Mach mit! Kreativwerkstatt für Menschen mit und ohne Demenz und ihre Angehörigen (261M76-593) 
LOCATION:vhs im Bamberger, Raum 310 Atelier, Faulenstraße 69, 28195 Bremen
END:VEVENT
BEGIN:VEVENT
DTSTAMP:20260420T235156
DTSTART;TZID=Europe/Berlin:20260909T153000
DTEND;TZID=Europe/Berlin:20260909T170000
UID:261M76-593-20260909T153000@VHSBREMEN
SUMMARY:Mach mit! Kreativwerkstatt für Menschen mit und ohne Demenz und ihre Angehörigen (261M76-593) 
LOCATION:vhs im Bamberger, Raum 310 Atelier, Faulenstraße 69, 28195 Bremen
END:VEVENT
BEGIN:VEVENT
DTSTAMP:20260420T235156
DTSTART;TZID=Europe/Berlin:20261028T153000
DTEND;TZID=Europe/Berlin:20261028T170000
UID:261M76-593-20261028T153000@VHSBREMEN
SUMMARY:Mach mit! Kreativwerkstatt für Menschen mit und ohne Demenz und ihre Angehörigen (261M76-593) 
LOCATION:vhs im Bamberger, Raum 310 Atelier, Faulenstraße 69, 28195 Bremen
END:VEVENT
BEGIN:VEVENT
DTSTAMP:20260420T235156
DTSTART;TZID=Europe/Berlin:20261111T153000
DTEND;TZID=Europe/Berlin:20261111T170000
UID:261M76-593-20261111T153000@VHSBREMEN
SUMMARY:Mach mit! Kreativwerkstatt für Menschen mit und ohne Demenz und ihre Angehörigen (261M76-593) 
LOCATION:vhs im Bamberger, Raum 310 Atelier, Faulenstraße 69, 28195 Bremen
END:VEVENT
END:VCALENDAR