BEGIN:VCALENDAR
VERSION:2.0
PRODID:https://www.kufer.de/kuferweb / DE
METHOD:PUBLISH
CALSCALE:GREGORIAN
X-WR-TIMEZONE:Europe/Berlin
BEGIN:VTIMEZONE
TZID:Europe/Berlin
X-LIC-LOCATION:Europe/Berlin
BEGIN:DAYLIGHT
TZOFFSETFROM:+0100
TZOFFSETTO:+0200
TZNAME:CEST
DTSTART:19700329T020000
RRULE:FREQ=YEARLY;INTERVAL=1;BYDAY=-1SU;BYMONTH=3
END:DAYLIGHT
BEGIN:STANDARD
TZOFFSETFROM:+0200
TZOFFSETTO:+0100
TZNAME:CET
DTSTART:19701025T030000
RRULE:FREQ=YEARLY;INTERVAL=1;BYDAY=-1SU;BYMONTH=10
END:STANDARD
END:VTIMEZONE
BEGIN:VEVENT
DTSTAMP:20260420T101151
DTSTART;TZID=Europe/Berlin:20260508T180000
DTEND;TZID=Europe/Berlin:20260508T210000
UID:261M76-525-20260508T180000@VHSBREMEN
SUMMARY:Oberflächen und Strukturen in der Malerei Experimente mit Sand, Schellack und Marmormehl (261M76-525) 
LOCATION:vhs im Bamberger, Raum 308 Atelier, Faulenstraße 69, 28195 Bremen
END:VEVENT
BEGIN:VEVENT
DTSTAMP:20260420T101151
DTSTART;TZID=Europe/Berlin:20260509T100000
DTEND;TZID=Europe/Berlin:20260509T170000
UID:261M76-525-20260509T100000@VHSBREMEN
SUMMARY:Oberflächen und Strukturen in der Malerei Experimente mit Sand, Schellack und Marmormehl (261M76-525) 
LOCATION:vhs im Bamberger, Raum 308 Atelier, Faulenstraße 69, 28195 Bremen
END:VEVENT
BEGIN:VEVENT
DTSTAMP:20260420T101151
DTSTART;TZID=Europe/Berlin:20260510T103000
DTEND;TZID=Europe/Berlin:20260510T170000
UID:261M76-525-20260510T103000@VHSBREMEN
SUMMARY:Oberflächen und Strukturen in der Malerei Experimente mit Sand, Schellack und Marmormehl (261M76-525) 
LOCATION:vhs im Bamberger, Raum 308 Atelier, Faulenstraße 69, 28195 Bremen
END:VEVENT
END:VCALENDAR