BEGIN:VCALENDAR
VERSION:2.0
PRODID:https://www.kufer.de/kuferweb / DE
METHOD:PUBLISH
CALSCALE:GREGORIAN
X-WR-TIMEZONE:Europe/Berlin
BEGIN:VTIMEZONE
TZID:Europe/Berlin
X-LIC-LOCATION:Europe/Berlin
BEGIN:DAYLIGHT
TZOFFSETFROM:+0100
TZOFFSETTO:+0200
TZNAME:CEST
DTSTART:19700329T020000
RRULE:FREQ=YEARLY;INTERVAL=1;BYDAY=-1SU;BYMONTH=3
END:DAYLIGHT
BEGIN:STANDARD
TZOFFSETFROM:+0200
TZOFFSETTO:+0100
TZNAME:CET
DTSTART:19701025T030000
RRULE:FREQ=YEARLY;INTERVAL=1;BYDAY=-1SU;BYMONTH=10
END:STANDARD
END:VTIMEZONE
BEGIN:VEVENT
DTSTAMP:20260421T075627
DTSTART;TZID=Europe/Berlin:20260219T100000
DTEND;TZID=Europe/Berlin:20260219T121500
UID:261M76-510-20260219T100000@VHSBREMEN
SUMMARY:Grundlagen der Malerei Grundlagen und Aufbau - Offen für Menschen mit und ohne Kenntnisse (261M76-510) 
LOCATION:vhs im Bamberger, Raum 308 Atelier, Faulenstraße 69, 28195 Bremen
END:VEVENT
BEGIN:VEVENT
DTSTAMP:20260421T075627
DTSTART;TZID=Europe/Berlin:20260226T100000
DTEND;TZID=Europe/Berlin:20260226T121500
UID:261M76-510-20260226T100000@VHSBREMEN
SUMMARY:Grundlagen der Malerei Grundlagen und Aufbau - Offen für Menschen mit und ohne Kenntnisse (261M76-510) 
LOCATION:vhs im Bamberger, Raum 308 Atelier, Faulenstraße 69, 28195 Bremen
END:VEVENT
BEGIN:VEVENT
DTSTAMP:20260421T075627
DTSTART;TZID=Europe/Berlin:20260305T100000
DTEND;TZID=Europe/Berlin:20260305T121500
UID:261M76-510-20260305T100000@VHSBREMEN
SUMMARY:Grundlagen der Malerei Grundlagen und Aufbau - Offen für Menschen mit und ohne Kenntnisse (261M76-510) 
LOCATION:vhs im Bamberger, Raum 308 Atelier, Faulenstraße 69, 28195 Bremen
END:VEVENT
BEGIN:VEVENT
DTSTAMP:20260421T075627
DTSTART;TZID=Europe/Berlin:20260312T100000
DTEND;TZID=Europe/Berlin:20260312T121500
UID:261M76-510-20260312T100000@VHSBREMEN
SUMMARY:Grundlagen der Malerei Grundlagen und Aufbau - Offen für Menschen mit und ohne Kenntnisse (261M76-510) 
LOCATION:vhs im Bamberger, Raum 308 Atelier, Faulenstraße 69, 28195 Bremen
END:VEVENT
BEGIN:VEVENT
DTSTAMP:20260421T075627
DTSTART;TZID=Europe/Berlin:20260319T100000
DTEND;TZID=Europe/Berlin:20260319T121500
UID:261M76-510-20260319T100000@VHSBREMEN
SUMMARY:Grundlagen der Malerei Grundlagen und Aufbau - Offen für Menschen mit und ohne Kenntnisse (261M76-510) 
LOCATION:vhs im Bamberger, Raum 308 Atelier, Faulenstraße 69, 28195 Bremen
END:VEVENT
BEGIN:VEVENT
DTSTAMP:20260421T075627
DTSTART;TZID=Europe/Berlin:20260409T100000
DTEND;TZID=Europe/Berlin:20260409T121500
UID:261M76-510-20260409T100000@VHSBREMEN
SUMMARY:Grundlagen der Malerei Grundlagen und Aufbau - Offen für Menschen mit und ohne Kenntnisse (261M76-510) 
LOCATION:vhs im Bamberger, Raum 308 Atelier, Faulenstraße 69, 28195 Bremen
END:VEVENT
BEGIN:VEVENT
DTSTAMP:20260421T075627
DTSTART;TZID=Europe/Berlin:20260416T100000
DTEND;TZID=Europe/Berlin:20260416T121500
UID:261M76-510-20260416T100000@VHSBREMEN
SUMMARY:Grundlagen der Malerei Grundlagen und Aufbau - Offen für Menschen mit und ohne Kenntnisse (261M76-510) 
LOCATION:vhs im Bamberger, Raum 308 Atelier, Faulenstraße 69, 28195 Bremen
END:VEVENT
BEGIN:VEVENT
DTSTAMP:20260421T075627
DTSTART;TZID=Europe/Berlin:20260423T100000
DTEND;TZID=Europe/Berlin:20260423T121500
UID:261M76-510-20260423T100000@VHSBREMEN
SUMMARY:Grundlagen der Malerei Grundlagen und Aufbau - Offen für Menschen mit und ohne Kenntnisse (261M76-510) 
LOCATION:vhs im Bamberger, Raum 308 Atelier, Faulenstraße 69, 28195 Bremen
END:VEVENT
BEGIN:VEVENT
DTSTAMP:20260421T075627
DTSTART;TZID=Europe/Berlin:20260430T100000
DTEND;TZID=Europe/Berlin:20260430T121500
UID:261M76-510-20260430T100000@VHSBREMEN
SUMMARY:Grundlagen der Malerei Grundlagen und Aufbau - Offen für Menschen mit und ohne Kenntnisse (261M76-510) 
LOCATION:vhs im Bamberger, Raum 308 Atelier, Faulenstraße 69, 28195 Bremen
END:VEVENT
BEGIN:VEVENT
DTSTAMP:20260421T075627
DTSTART;TZID=Europe/Berlin:20260507T100000
DTEND;TZID=Europe/Berlin:20260507T121500
UID:261M76-510-20260507T100000@VHSBREMEN
SUMMARY:Grundlagen der Malerei Grundlagen und Aufbau - Offen für Menschen mit und ohne Kenntnisse (261M76-510) 
LOCATION:vhs im Bamberger, Raum 308 Atelier, Faulenstraße 69, 28195 Bremen
END:VEVENT
BEGIN:VEVENT
DTSTAMP:20260421T075627
DTSTART;TZID=Europe/Berlin:20260521T100000
DTEND;TZID=Europe/Berlin:20260521T121500
UID:261M76-510-20260521T100000@VHSBREMEN
SUMMARY:Grundlagen der Malerei Grundlagen und Aufbau - Offen für Menschen mit und ohne Kenntnisse (261M76-510) 
LOCATION:vhs im Bamberger, Raum 308 Atelier, Faulenstraße 69, 28195 Bremen
END:VEVENT
BEGIN:VEVENT
DTSTAMP:20260421T075627
DTSTART;TZID=Europe/Berlin:20260528T100000
DTEND;TZID=Europe/Berlin:20260528T121500
UID:261M76-510-20260528T100000@VHSBREMEN
SUMMARY:Grundlagen der Malerei Grundlagen und Aufbau - Offen für Menschen mit und ohne Kenntnisse (261M76-510) 
LOCATION:vhs im Bamberger, Raum 308 Atelier, Faulenstraße 69, 28195 Bremen
END:VEVENT
BEGIN:VEVENT
DTSTAMP:20260421T075627
DTSTART;TZID=Europe/Berlin:20260604T100000
DTEND;TZID=Europe/Berlin:20260604T121500
UID:261M76-510-20260604T100000@VHSBREMEN
SUMMARY:Grundlagen der Malerei Grundlagen und Aufbau - Offen für Menschen mit und ohne Kenntnisse (261M76-510) 
LOCATION:vhs im Bamberger, Raum 308 Atelier, Faulenstraße 69, 28195 Bremen
END:VEVENT
BEGIN:VEVENT
DTSTAMP:20260421T075627
DTSTART;TZID=Europe/Berlin:20260611T100000
DTEND;TZID=Europe/Berlin:20260611T121500
UID:261M76-510-20260611T100000@VHSBREMEN
SUMMARY:Grundlagen der Malerei Grundlagen und Aufbau - Offen für Menschen mit und ohne Kenntnisse (261M76-510) 
LOCATION:vhs im Bamberger, Raum 308 Atelier, Faulenstraße 69, 28195 Bremen
END:VEVENT
END:VCALENDAR