BEGIN:VCALENDAR
VERSION:2.0
PRODID:https://www.kufer.de/kuferweb / DE
METHOD:PUBLISH
CALSCALE:GREGORIAN
X-WR-TIMEZONE:Europe/Berlin
BEGIN:VTIMEZONE
TZID:Europe/Berlin
X-LIC-LOCATION:Europe/Berlin
BEGIN:DAYLIGHT
TZOFFSETFROM:+0100
TZOFFSETTO:+0200
TZNAME:CEST
DTSTART:19700329T020000
RRULE:FREQ=YEARLY;INTERVAL=1;BYDAY=-1SU;BYMONTH=3
END:DAYLIGHT
BEGIN:STANDARD
TZOFFSETFROM:+0200
TZOFFSETTO:+0100
TZNAME:CET
DTSTART:19701025T030000
RRULE:FREQ=YEARLY;INTERVAL=1;BYDAY=-1SU;BYMONTH=10
END:STANDARD
END:VTIMEZONE
BEGIN:VEVENT
DTSTAMP:20260422T092739
DTSTART;TZID=Europe/Berlin:20260226T100000
DTEND;TZID=Europe/Berlin:20260226T130000
UID:261M76-482-20260226T100000@VHSBREMEN
SUMMARY:Öl- und Acrylmalerei am Vormittag Für Einsteiger*innen und Fortgeschrittene (261M76-482) 
LOCATION:vhs im Bamberger, Raum 310 Atelier, Faulenstraße 69, 28195 Bremen
END:VEVENT
BEGIN:VEVENT
DTSTAMP:20260422T092739
DTSTART;TZID=Europe/Berlin:20260305T100000
DTEND;TZID=Europe/Berlin:20260305T130000
UID:261M76-482-20260305T100000@VHSBREMEN
SUMMARY:Öl- und Acrylmalerei am Vormittag Für Einsteiger*innen und Fortgeschrittene (261M76-482) 
LOCATION:vhs im Bamberger, Raum 310 Atelier, Faulenstraße 69, 28195 Bremen
END:VEVENT
BEGIN:VEVENT
DTSTAMP:20260422T092739
DTSTART;TZID=Europe/Berlin:20260312T100000
DTEND;TZID=Europe/Berlin:20260312T130000
UID:261M76-482-20260312T100000@VHSBREMEN
SUMMARY:Öl- und Acrylmalerei am Vormittag Für Einsteiger*innen und Fortgeschrittene (261M76-482) 
LOCATION:vhs im Bamberger, Raum 310 Atelier, Faulenstraße 69, 28195 Bremen
END:VEVENT
BEGIN:VEVENT
DTSTAMP:20260422T092739
DTSTART;TZID=Europe/Berlin:20260319T100000
DTEND;TZID=Europe/Berlin:20260319T130000
UID:261M76-482-20260319T100000@VHSBREMEN
SUMMARY:Öl- und Acrylmalerei am Vormittag Für Einsteiger*innen und Fortgeschrittene (261M76-482) 
LOCATION:vhs im Bamberger, Raum 310 Atelier, Faulenstraße 69, 28195 Bremen
END:VEVENT
BEGIN:VEVENT
DTSTAMP:20260422T092739
DTSTART;TZID=Europe/Berlin:20260409T100000
DTEND;TZID=Europe/Berlin:20260409T130000
UID:261M76-482-20260409T100000@VHSBREMEN
SUMMARY:Öl- und Acrylmalerei am Vormittag Für Einsteiger*innen und Fortgeschrittene (261M76-482) 
LOCATION:vhs im Bamberger, Raum 310 Atelier, Faulenstraße 69, 28195 Bremen
END:VEVENT
BEGIN:VEVENT
DTSTAMP:20260422T092739
DTSTART;TZID=Europe/Berlin:20260416T100000
DTEND;TZID=Europe/Berlin:20260416T130000
UID:261M76-482-20260416T100000@VHSBREMEN
SUMMARY:Öl- und Acrylmalerei am Vormittag Für Einsteiger*innen und Fortgeschrittene (261M76-482) 
LOCATION:vhs im Bamberger, Raum 310 Atelier, Faulenstraße 69, 28195 Bremen
END:VEVENT
BEGIN:VEVENT
DTSTAMP:20260422T092739
DTSTART;TZID=Europe/Berlin:20260423T100000
DTEND;TZID=Europe/Berlin:20260423T130000
UID:261M76-482-20260423T100000@VHSBREMEN
SUMMARY:Öl- und Acrylmalerei am Vormittag Für Einsteiger*innen und Fortgeschrittene (261M76-482) 
LOCATION:vhs im Bamberger, Raum 310 Atelier, Faulenstraße 69, 28195 Bremen
END:VEVENT
BEGIN:VEVENT
DTSTAMP:20260422T092739
DTSTART;TZID=Europe/Berlin:20260430T100000
DTEND;TZID=Europe/Berlin:20260430T130000
UID:261M76-482-20260430T100000@VHSBREMEN
SUMMARY:Öl- und Acrylmalerei am Vormittag Für Einsteiger*innen und Fortgeschrittene (261M76-482) 
LOCATION:vhs im Bamberger, Raum 310 Atelier, Faulenstraße 69, 28195 Bremen
END:VEVENT
BEGIN:VEVENT
DTSTAMP:20260422T092739
DTSTART;TZID=Europe/Berlin:20260507T100000
DTEND;TZID=Europe/Berlin:20260507T130000
UID:261M76-482-20260507T100000@VHSBREMEN
SUMMARY:Öl- und Acrylmalerei am Vormittag Für Einsteiger*innen und Fortgeschrittene (261M76-482) 
LOCATION:vhs im Bamberger, Raum 310 Atelier, Faulenstraße 69, 28195 Bremen
END:VEVENT
BEGIN:VEVENT
DTSTAMP:20260422T092739
DTSTART;TZID=Europe/Berlin:20260521T100000
DTEND;TZID=Europe/Berlin:20260521T130000
UID:261M76-482-20260521T100000@VHSBREMEN
SUMMARY:Öl- und Acrylmalerei am Vormittag Für Einsteiger*innen und Fortgeschrittene (261M76-482) 
LOCATION:vhs im Bamberger, Raum 310 Atelier, Faulenstraße 69, 28195 Bremen
END:VEVENT
BEGIN:VEVENT
DTSTAMP:20260422T092739
DTSTART;TZID=Europe/Berlin:20260528T100000
DTEND;TZID=Europe/Berlin:20260528T130000
UID:261M76-482-20260528T100000@VHSBREMEN
SUMMARY:Öl- und Acrylmalerei am Vormittag Für Einsteiger*innen und Fortgeschrittene (261M76-482) 
LOCATION:vhs im Bamberger, Raum 310 Atelier, Faulenstraße 69, 28195 Bremen
END:VEVENT
BEGIN:VEVENT
DTSTAMP:20260422T092739
DTSTART;TZID=Europe/Berlin:20260604T100000
DTEND;TZID=Europe/Berlin:20260604T130000
UID:261M76-482-20260604T100000@VHSBREMEN
SUMMARY:Öl- und Acrylmalerei am Vormittag Für Einsteiger*innen und Fortgeschrittene (261M76-482) 
LOCATION:vhs im Bamberger, Raum 310 Atelier, Faulenstraße 69, 28195 Bremen
END:VEVENT
BEGIN:VEVENT
DTSTAMP:20260422T092739
DTSTART;TZID=Europe/Berlin:20260611T100000
DTEND;TZID=Europe/Berlin:20260611T130000
UID:261M76-482-20260611T100000@VHSBREMEN
SUMMARY:Öl- und Acrylmalerei am Vormittag Für Einsteiger*innen und Fortgeschrittene (261M76-482) 
LOCATION:vhs im Bamberger, Raum 310 Atelier, Faulenstraße 69, 28195 Bremen
END:VEVENT
BEGIN:VEVENT
DTSTAMP:20260422T092739
DTSTART;TZID=Europe/Berlin:20260618T100000
DTEND;TZID=Europe/Berlin:20260618T130000
UID:261M76-482-20260618T100000@VHSBREMEN
SUMMARY:Öl- und Acrylmalerei am Vormittag Für Einsteiger*innen und Fortgeschrittene (261M76-482) 
LOCATION:vhs im Bamberger, Raum 310 Atelier, Faulenstraße 69, 28195 Bremen
END:VEVENT
BEGIN:VEVENT
DTSTAMP:20260422T092739
DTSTART;TZID=Europe/Berlin:20260625T100000
DTEND;TZID=Europe/Berlin:20260625T130000
UID:261M76-482-20260625T100000@VHSBREMEN
SUMMARY:Öl- und Acrylmalerei am Vormittag Für Einsteiger*innen und Fortgeschrittene (261M76-482) 
LOCATION:vhs im Bamberger, Raum 310 Atelier, Faulenstraße 69, 28195 Bremen
END:VEVENT
END:VCALENDAR