BEGIN:VCALENDAR
VERSION:2.0
PRODID:https://www.kufer.de/kuferweb / DE
METHOD:PUBLISH
CALSCALE:GREGORIAN
X-WR-TIMEZONE:Europe/Berlin
BEGIN:VTIMEZONE
TZID:Europe/Berlin
X-LIC-LOCATION:Europe/Berlin
BEGIN:DAYLIGHT
TZOFFSETFROM:+0100
TZOFFSETTO:+0200
TZNAME:CEST
DTSTART:19700329T020000
RRULE:FREQ=YEARLY;INTERVAL=1;BYDAY=-1SU;BYMONTH=3
END:DAYLIGHT
BEGIN:STANDARD
TZOFFSETFROM:+0200
TZOFFSETTO:+0100
TZNAME:CET
DTSTART:19701025T030000
RRULE:FREQ=YEARLY;INTERVAL=1;BYDAY=-1SU;BYMONTH=10
END:STANDARD
END:VTIMEZONE
BEGIN:VEVENT
DTSTAMP:20260419T194929
DTSTART;TZID=Europe/Berlin:20260223T180000
DTEND;TZID=Europe/Berlin:20260223T201500
UID:261M76-420-20260223T180000@VHSBREMEN
SUMMARY:Aquarellieren, Experimentieren Für Anfänger*innen und Fortgeschrittene (261M76-420) 
LOCATION:Atelier, Hinterhaus, Am Schwarzen Meer 119, 28205 Bremen
END:VEVENT
BEGIN:VEVENT
DTSTAMP:20260419T194929
DTSTART;TZID=Europe/Berlin:20260302T180000
DTEND;TZID=Europe/Berlin:20260302T201500
UID:261M76-420-20260302T180000@VHSBREMEN
SUMMARY:Aquarellieren, Experimentieren Für Anfänger*innen und Fortgeschrittene (261M76-420) 
LOCATION:Atelier, Hinterhaus, Am Schwarzen Meer 119, 28205 Bremen
END:VEVENT
BEGIN:VEVENT
DTSTAMP:20260419T194929
DTSTART;TZID=Europe/Berlin:20260309T180000
DTEND;TZID=Europe/Berlin:20260309T201500
UID:261M76-420-20260309T180000@VHSBREMEN
SUMMARY:Aquarellieren, Experimentieren Für Anfänger*innen und Fortgeschrittene (261M76-420) 
LOCATION:Atelier, Hinterhaus, Am Schwarzen Meer 119, 28205 Bremen
END:VEVENT
BEGIN:VEVENT
DTSTAMP:20260419T194929
DTSTART;TZID=Europe/Berlin:20260316T180000
DTEND;TZID=Europe/Berlin:20260316T201500
UID:261M76-420-20260316T180000@VHSBREMEN
SUMMARY:Aquarellieren, Experimentieren Für Anfänger*innen und Fortgeschrittene (261M76-420) 
LOCATION:Atelier, Hinterhaus, Am Schwarzen Meer 119, 28205 Bremen
END:VEVENT
BEGIN:VEVENT
DTSTAMP:20260419T194929
DTSTART;TZID=Europe/Berlin:20260413T180000
DTEND;TZID=Europe/Berlin:20260413T201500
UID:261M76-420-20260413T180000@VHSBREMEN
SUMMARY:Aquarellieren, Experimentieren Für Anfänger*innen und Fortgeschrittene (261M76-420) 
LOCATION:Atelier, Hinterhaus, Am Schwarzen Meer 119, 28205 Bremen
END:VEVENT
BEGIN:VEVENT
DTSTAMP:20260419T194929
DTSTART;TZID=Europe/Berlin:20260420T180000
DTEND;TZID=Europe/Berlin:20260420T201500
UID:261M76-420-20260420T180000@VHSBREMEN
SUMMARY:Aquarellieren, Experimentieren Für Anfänger*innen und Fortgeschrittene (261M76-420) 
LOCATION:Atelier, Hinterhaus, Am Schwarzen Meer 119, 28205 Bremen
END:VEVENT
BEGIN:VEVENT
DTSTAMP:20260419T194929
DTSTART;TZID=Europe/Berlin:20260427T180000
DTEND;TZID=Europe/Berlin:20260427T201500
UID:261M76-420-20260427T180000@VHSBREMEN
SUMMARY:Aquarellieren, Experimentieren Für Anfänger*innen und Fortgeschrittene (261M76-420) 
LOCATION:Atelier, Hinterhaus, Am Schwarzen Meer 119, 28205 Bremen
END:VEVENT
BEGIN:VEVENT
DTSTAMP:20260419T194929
DTSTART;TZID=Europe/Berlin:20260504T180000
DTEND;TZID=Europe/Berlin:20260504T201500
UID:261M76-420-20260504T180000@VHSBREMEN
SUMMARY:Aquarellieren, Experimentieren Für Anfänger*innen und Fortgeschrittene (261M76-420) 
LOCATION:Atelier, Hinterhaus, Am Schwarzen Meer 119, 28205 Bremen
END:VEVENT
BEGIN:VEVENT
DTSTAMP:20260419T194929
DTSTART;TZID=Europe/Berlin:20260511T180000
DTEND;TZID=Europe/Berlin:20260511T201500
UID:261M76-420-20260511T180000@VHSBREMEN
SUMMARY:Aquarellieren, Experimentieren Für Anfänger*innen und Fortgeschrittene (261M76-420) 
LOCATION:Atelier, Hinterhaus, Am Schwarzen Meer 119, 28205 Bremen
END:VEVENT
BEGIN:VEVENT
DTSTAMP:20260419T194929
DTSTART;TZID=Europe/Berlin:20260518T180000
DTEND;TZID=Europe/Berlin:20260518T201500
UID:261M76-420-20260518T180000@VHSBREMEN
SUMMARY:Aquarellieren, Experimentieren Für Anfänger*innen und Fortgeschrittene (261M76-420) 
LOCATION:Atelier, Hinterhaus, Am Schwarzen Meer 119, 28205 Bremen
END:VEVENT
END:VCALENDAR