BEGIN:VCALENDAR
VERSION:2.0
PRODID:https://www.kufer.de/kuferweb / DE
METHOD:PUBLISH
CALSCALE:GREGORIAN
X-WR-TIMEZONE:Europe/Berlin
BEGIN:VTIMEZONE
TZID:Europe/Berlin
X-LIC-LOCATION:Europe/Berlin
BEGIN:DAYLIGHT
TZOFFSETFROM:+0100
TZOFFSETTO:+0200
TZNAME:CEST
DTSTART:19700329T020000
RRULE:FREQ=YEARLY;INTERVAL=1;BYDAY=-1SU;BYMONTH=3
END:DAYLIGHT
BEGIN:STANDARD
TZOFFSETFROM:+0200
TZOFFSETTO:+0100
TZNAME:CET
DTSTART:19701025T030000
RRULE:FREQ=YEARLY;INTERVAL=1;BYDAY=-1SU;BYMONTH=10
END:STANDARD
END:VTIMEZONE
BEGIN:VEVENT
DTSTAMP:20260419T151534
DTSTART;TZID=Europe/Berlin:20260504T100000
DTEND;TZID=Europe/Berlin:20260504T153000
UID:261M76-243-20260504T100000@VHSBREMEN
SUMMARY:Kreative Eroberung des Stadtraums mit dem Skizzenbuch! für Einsteiger*innen und Fortgeschrittene im Urban Sketching (261M76-243) 
LOCATION:vhs im Bamberger, Raum wird vor Ort bekannt gegeben, Faulenstraße 69, 28195 Bremen
END:VEVENT
BEGIN:VEVENT
DTSTAMP:20260419T151534
DTSTART;TZID=Europe/Berlin:20260505T100000
DTEND;TZID=Europe/Berlin:20260505T153000
UID:261M76-243-20260505T100000@VHSBREMEN
SUMMARY:Kreative Eroberung des Stadtraums mit dem Skizzenbuch! für Einsteiger*innen und Fortgeschrittene im Urban Sketching (261M76-243) 
LOCATION:vhs im Bamberger, Raum wird vor Ort bekannt gegeben, Faulenstraße 69, 28195 Bremen
END:VEVENT
BEGIN:VEVENT
DTSTAMP:20260419T151534
DTSTART;TZID=Europe/Berlin:20260506T100000
DTEND;TZID=Europe/Berlin:20260506T153000
UID:261M76-243-20260506T100000@VHSBREMEN
SUMMARY:Kreative Eroberung des Stadtraums mit dem Skizzenbuch! für Einsteiger*innen und Fortgeschrittene im Urban Sketching (261M76-243) 
LOCATION:vhs im Bamberger, Raum wird vor Ort bekannt gegeben, Faulenstraße 69, 28195 Bremen
END:VEVENT
BEGIN:VEVENT
DTSTAMP:20260419T151534
DTSTART;TZID=Europe/Berlin:20260507T100000
DTEND;TZID=Europe/Berlin:20260507T153000
UID:261M76-243-20260507T100000@VHSBREMEN
SUMMARY:Kreative Eroberung des Stadtraums mit dem Skizzenbuch! für Einsteiger*innen und Fortgeschrittene im Urban Sketching (261M76-243) 
LOCATION:vhs im Bamberger, Raum wird vor Ort bekannt gegeben, Faulenstraße 69, 28195 Bremen
END:VEVENT
BEGIN:VEVENT
DTSTAMP:20260419T151534
DTSTART;TZID=Europe/Berlin:20260508T100000
DTEND;TZID=Europe/Berlin:20260508T153000
UID:261M76-243-20260508T100000@VHSBREMEN
SUMMARY:Kreative Eroberung des Stadtraums mit dem Skizzenbuch! für Einsteiger*innen und Fortgeschrittene im Urban Sketching (261M76-243) 
LOCATION:vhs im Bamberger, Raum wird vor Ort bekannt gegeben, Faulenstraße 69, 28195 Bremen
END:VEVENT
END:VCALENDAR