BEGIN:VCALENDAR
VERSION:2.0
PRODID:https://www.kufer.de/kuferweb / DE
METHOD:PUBLISH
CALSCALE:GREGORIAN
X-WR-TIMEZONE:Europe/Berlin
BEGIN:VTIMEZONE
TZID:Europe/Berlin
X-LIC-LOCATION:Europe/Berlin
BEGIN:DAYLIGHT
TZOFFSETFROM:+0100
TZOFFSETTO:+0200
TZNAME:CEST
DTSTART:19700329T020000
RRULE:FREQ=YEARLY;INTERVAL=1;BYDAY=-1SU;BYMONTH=3
END:DAYLIGHT
BEGIN:STANDARD
TZOFFSETFROM:+0200
TZOFFSETTO:+0100
TZNAME:CET
DTSTART:19701025T030000
RRULE:FREQ=YEARLY;INTERVAL=1;BYDAY=-1SU;BYMONTH=10
END:STANDARD
END:VTIMEZONE
BEGIN:VEVENT
DTSTAMP:20260423T231358
DTSTART;TZID=Europe/Berlin:20260629T090000
DTEND;TZID=Europe/Berlin:20260629T160000
UID:261M76-240-20260629T090000@VHSBREMEN
SUMMARY:Zeichnung und Kolorierung - eine kulturhistorische Auseinandersetzung mit den Meisterwerken unterschiedlicher Epochen (261M76-240) 
LOCATION:vhs im Bamberger, Raum 308 Atelier, Faulenstraße 69, 28195 Bremen
END:VEVENT
BEGIN:VEVENT
DTSTAMP:20260423T231358
DTSTART;TZID=Europe/Berlin:20260630T090000
DTEND;TZID=Europe/Berlin:20260630T160000
UID:261M76-240-20260630T090000@VHSBREMEN
SUMMARY:Zeichnung und Kolorierung - eine kulturhistorische Auseinandersetzung mit den Meisterwerken unterschiedlicher Epochen (261M76-240) 
LOCATION:vhs im Bamberger, Raum 308 Atelier, Faulenstraße 69, 28195 Bremen
END:VEVENT
BEGIN:VEVENT
DTSTAMP:20260423T231358
DTSTART;TZID=Europe/Berlin:20260701T090000
DTEND;TZID=Europe/Berlin:20260701T160000
UID:261M76-240-20260701T090000@VHSBREMEN
SUMMARY:Zeichnung und Kolorierung - eine kulturhistorische Auseinandersetzung mit den Meisterwerken unterschiedlicher Epochen (261M76-240) 
LOCATION:vhs im Bamberger, Raum 308 Atelier, Faulenstraße 69, 28195 Bremen
END:VEVENT
BEGIN:VEVENT
DTSTAMP:20260423T231358
DTSTART;TZID=Europe/Berlin:20260702T090000
DTEND;TZID=Europe/Berlin:20260702T160000
UID:261M76-240-20260702T090000@VHSBREMEN
SUMMARY:Zeichnung und Kolorierung - eine kulturhistorische Auseinandersetzung mit den Meisterwerken unterschiedlicher Epochen (261M76-240) 
LOCATION:vhs im Bamberger, Raum 308 Atelier, Faulenstraße 69, 28195 Bremen
END:VEVENT
BEGIN:VEVENT
DTSTAMP:20260423T231358
DTSTART;TZID=Europe/Berlin:20260703T090000
DTEND;TZID=Europe/Berlin:20260703T160000
UID:261M76-240-20260703T090000@VHSBREMEN
SUMMARY:Zeichnung und Kolorierung - eine kulturhistorische Auseinandersetzung mit den Meisterwerken unterschiedlicher Epochen (261M76-240) 
LOCATION:vhs im Bamberger, Raum 308 Atelier, Faulenstraße 69, 28195 Bremen
END:VEVENT
END:VCALENDAR