BEGIN:VCALENDAR
VERSION:2.0
PRODID:https://www.kufer.de/kuferweb / DE
METHOD:PUBLISH
CALSCALE:GREGORIAN
X-WR-TIMEZONE:Europe/Berlin
BEGIN:VTIMEZONE
TZID:Europe/Berlin
X-LIC-LOCATION:Europe/Berlin
BEGIN:DAYLIGHT
TZOFFSETFROM:+0100
TZOFFSETTO:+0200
TZNAME:CEST
DTSTART:19700329T020000
RRULE:FREQ=YEARLY;INTERVAL=1;BYDAY=-1SU;BYMONTH=3
END:DAYLIGHT
BEGIN:STANDARD
TZOFFSETFROM:+0200
TZOFFSETTO:+0100
TZNAME:CET
DTSTART:19701025T030000
RRULE:FREQ=YEARLY;INTERVAL=1;BYDAY=-1SU;BYMONTH=10
END:STANDARD
END:VTIMEZONE
BEGIN:VEVENT
DTSTAMP:20260425T153035
DTSTART;TZID=Europe/Berlin:20260413T164500
DTEND;TZID=Europe/Berlin:20260413T181500
UID:261M75-300-20260413T164500@VHSBREMEN
SUMMARY:Eigentlich singe ich gerne, aber... (261M75-300) 
LOCATION:vhs im Bamberger, Raum 306 Tanztheater, Faulenstraße 69, 28195 Bremen
END:VEVENT
BEGIN:VEVENT
DTSTAMP:20260425T153035
DTSTART;TZID=Europe/Berlin:20260420T164500
DTEND;TZID=Europe/Berlin:20260420T181500
UID:261M75-300-20260420T164500@VHSBREMEN
SUMMARY:Eigentlich singe ich gerne, aber... (261M75-300) 
LOCATION:vhs im Bamberger, Raum 306 Tanztheater, Faulenstraße 69, 28195 Bremen
END:VEVENT
BEGIN:VEVENT
DTSTAMP:20260425T153035
DTSTART;TZID=Europe/Berlin:20260427T164500
DTEND;TZID=Europe/Berlin:20260427T181500
UID:261M75-300-20260427T164500@VHSBREMEN
SUMMARY:Eigentlich singe ich gerne, aber... (261M75-300) 
LOCATION:vhs im Bamberger, Raum 306 Tanztheater, Faulenstraße 69, 28195 Bremen
END:VEVENT
BEGIN:VEVENT
DTSTAMP:20260425T153035
DTSTART;TZID=Europe/Berlin:20260504T164500
DTEND;TZID=Europe/Berlin:20260504T181500
UID:261M75-300-20260504T164500@VHSBREMEN
SUMMARY:Eigentlich singe ich gerne, aber... (261M75-300) 
LOCATION:vhs im Bamberger, Raum 306 Tanztheater, Faulenstraße 69, 28195 Bremen
END:VEVENT
BEGIN:VEVENT
DTSTAMP:20260425T153035
DTSTART;TZID=Europe/Berlin:20260511T164500
DTEND;TZID=Europe/Berlin:20260511T181500
UID:261M75-300-20260511T164500@VHSBREMEN
SUMMARY:Eigentlich singe ich gerne, aber... (261M75-300) 
LOCATION:vhs im Bamberger, Raum 306 Tanztheater, Faulenstraße 69, 28195 Bremen
END:VEVENT
BEGIN:VEVENT
DTSTAMP:20260425T153035
DTSTART;TZID=Europe/Berlin:20260518T164500
DTEND;TZID=Europe/Berlin:20260518T181500
UID:261M75-300-20260518T164500@VHSBREMEN
SUMMARY:Eigentlich singe ich gerne, aber... (261M75-300) 
LOCATION:vhs im Bamberger, Raum 306 Tanztheater, Faulenstraße 69, 28195 Bremen
END:VEVENT
BEGIN:VEVENT
DTSTAMP:20260425T153035
DTSTART;TZID=Europe/Berlin:20260601T164500
DTEND;TZID=Europe/Berlin:20260601T181500
UID:261M75-300-20260601T164500@VHSBREMEN
SUMMARY:Eigentlich singe ich gerne, aber... (261M75-300) 
LOCATION:vhs im Bamberger, Raum 306 Tanztheater, Faulenstraße 69, 28195 Bremen
END:VEVENT
BEGIN:VEVENT
DTSTAMP:20260425T153035
DTSTART;TZID=Europe/Berlin:20260608T164500
DTEND;TZID=Europe/Berlin:20260608T181500
UID:261M75-300-20260608T164500@VHSBREMEN
SUMMARY:Eigentlich singe ich gerne, aber... (261M75-300) 
LOCATION:vhs im Bamberger, Raum 306 Tanztheater, Faulenstraße 69, 28195 Bremen
END:VEVENT
BEGIN:VEVENT
DTSTAMP:20260425T153035
DTSTART;TZID=Europe/Berlin:20260615T164500
DTEND;TZID=Europe/Berlin:20260615T181500
UID:261M75-300-20260615T164500@VHSBREMEN
SUMMARY:Eigentlich singe ich gerne, aber... (261M75-300) 
LOCATION:vhs im Bamberger, Raum 306 Tanztheater, Faulenstraße 69, 28195 Bremen
END:VEVENT
BEGIN:VEVENT
DTSTAMP:20260425T153035
DTSTART;TZID=Europe/Berlin:20260622T164500
DTEND;TZID=Europe/Berlin:20260622T181500
UID:261M75-300-20260622T164500@VHSBREMEN
SUMMARY:Eigentlich singe ich gerne, aber... (261M75-300) 
LOCATION:vhs im Bamberger, Raum 306 Tanztheater, Faulenstraße 69, 28195 Bremen
END:VEVENT
BEGIN:VEVENT
DTSTAMP:20260425T153035
DTSTART;TZID=Europe/Berlin:20260629T164500
DTEND;TZID=Europe/Berlin:20260629T181500
UID:261M75-300-20260629T164500@VHSBREMEN
SUMMARY:Eigentlich singe ich gerne, aber... (261M75-300) 
LOCATION:vhs im Bamberger, Raum 306 Tanztheater, Faulenstraße 69, 28195 Bremen
END:VEVENT
END:VCALENDAR