BEGIN:VCALENDAR
VERSION:2.0
PRODID:https://www.kufer.de/kuferweb / DE
METHOD:PUBLISH
CALSCALE:GREGORIAN
X-WR-TIMEZONE:Europe/Berlin
BEGIN:VTIMEZONE
TZID:Europe/Berlin
X-LIC-LOCATION:Europe/Berlin
BEGIN:DAYLIGHT
TZOFFSETFROM:+0100
TZOFFSETTO:+0200
TZNAME:CEST
DTSTART:19700329T020000
RRULE:FREQ=YEARLY;INTERVAL=1;BYDAY=-1SU;BYMONTH=3
END:DAYLIGHT
BEGIN:STANDARD
TZOFFSETFROM:+0200
TZOFFSETTO:+0100
TZNAME:CET
DTSTART:19701025T030000
RRULE:FREQ=YEARLY;INTERVAL=1;BYDAY=-1SU;BYMONTH=10
END:STANDARD
END:VTIMEZONE
BEGIN:VEVENT
DTSTAMP:20260421T061911
DTSTART;TZID=Europe/Berlin:20260512T193000
DTEND;TZID=Europe/Berlin:20260512T210000
UID:261M74-672-20260512T193000@VHSBREMEN
SUMMARY:Griechische Volkstänze Lernen Sie verschiedene Regionen Griechenlands anhand Ihrer Kreistänze und der Musik kennen (261M74-672) 
LOCATION:vhs im Bamberger, Raum 306 Tanztheater, Faulenstraße 69, 28195 Bremen
END:VEVENT
BEGIN:VEVENT
DTSTAMP:20260421T061911
DTSTART;TZID=Europe/Berlin:20260519T193000
DTEND;TZID=Europe/Berlin:20260519T210000
UID:261M74-672-20260519T193000@VHSBREMEN
SUMMARY:Griechische Volkstänze Lernen Sie verschiedene Regionen Griechenlands anhand Ihrer Kreistänze und der Musik kennen (261M74-672) 
LOCATION:vhs im Bamberger, Raum 306 Tanztheater, Faulenstraße 69, 28195 Bremen
END:VEVENT
BEGIN:VEVENT
DTSTAMP:20260421T061911
DTSTART;TZID=Europe/Berlin:20260526T193000
DTEND;TZID=Europe/Berlin:20260526T210000
UID:261M74-672-20260526T193000@VHSBREMEN
SUMMARY:Griechische Volkstänze Lernen Sie verschiedene Regionen Griechenlands anhand Ihrer Kreistänze und der Musik kennen (261M74-672) 
LOCATION:vhs im Bamberger, Raum 306 Tanztheater, Faulenstraße 69, 28195 Bremen
END:VEVENT
BEGIN:VEVENT
DTSTAMP:20260421T061911
DTSTART;TZID=Europe/Berlin:20260602T193000
DTEND;TZID=Europe/Berlin:20260602T210000
UID:261M74-672-20260602T193000@VHSBREMEN
SUMMARY:Griechische Volkstänze Lernen Sie verschiedene Regionen Griechenlands anhand Ihrer Kreistänze und der Musik kennen (261M74-672) 
LOCATION:vhs im Bamberger, Raum 306 Tanztheater, Faulenstraße 69, 28195 Bremen
END:VEVENT
BEGIN:VEVENT
DTSTAMP:20260421T061911
DTSTART;TZID=Europe/Berlin:20260609T193000
DTEND;TZID=Europe/Berlin:20260609T210000
UID:261M74-672-20260609T193000@VHSBREMEN
SUMMARY:Griechische Volkstänze Lernen Sie verschiedene Regionen Griechenlands anhand Ihrer Kreistänze und der Musik kennen (261M74-672) 
LOCATION:vhs im Bamberger, Raum 306 Tanztheater, Faulenstraße 69, 28195 Bremen
END:VEVENT
END:VCALENDAR