BEGIN:VCALENDAR
VERSION:2.0
PRODID:https://www.kufer.de/kuferweb / DE
METHOD:PUBLISH
CALSCALE:GREGORIAN
X-WR-TIMEZONE:Europe/Berlin
BEGIN:VTIMEZONE
TZID:Europe/Berlin
X-LIC-LOCATION:Europe/Berlin
BEGIN:DAYLIGHT
TZOFFSETFROM:+0100
TZOFFSETTO:+0200
TZNAME:CEST
DTSTART:19700329T020000
RRULE:FREQ=YEARLY;INTERVAL=1;BYDAY=-1SU;BYMONTH=3
END:DAYLIGHT
BEGIN:STANDARD
TZOFFSETFROM:+0200
TZOFFSETTO:+0100
TZNAME:CET
DTSTART:19701025T030000
RRULE:FREQ=YEARLY;INTERVAL=1;BYDAY=-1SU;BYMONTH=10
END:STANDARD
END:VTIMEZONE
BEGIN:VEVENT
DTSTAMP:20260422T060014
DTSTART;TZID=Europe/Berlin:20260216T100000
DTEND;TZID=Europe/Berlin:20260216T121500
UID:261M74-211-20260216T100000@VHSBREMEN
SUMMARY:Fünf mal Theater - kompakt II (261M74-211) 
LOCATION:vhs im Bamberger, Raum 205, Faulenstraße 69, 28195 Bremen
END:VEVENT
BEGIN:VEVENT
DTSTAMP:20260422T060014
DTSTART;TZID=Europe/Berlin:20260309T100000
DTEND;TZID=Europe/Berlin:20260309T121500
UID:261M74-211-20260309T100000@VHSBREMEN
SUMMARY:Fünf mal Theater - kompakt II (261M74-211) 
LOCATION:vhs im Bamberger, Raum 205, Faulenstraße 69, 28195 Bremen
END:VEVENT
BEGIN:VEVENT
DTSTAMP:20260422T060014
DTSTART;TZID=Europe/Berlin:20260330T100000
DTEND;TZID=Europe/Berlin:20260330T121500
UID:261M74-211-20260330T100000@VHSBREMEN
SUMMARY:Fünf mal Theater - kompakt II (261M74-211) 
LOCATION:vhs im Bamberger, Raum 205, Faulenstraße 69, 28195 Bremen
END:VEVENT
BEGIN:VEVENT
DTSTAMP:20260422T060014
DTSTART;TZID=Europe/Berlin:20260511T100000
DTEND;TZID=Europe/Berlin:20260511T121500
UID:261M74-211-20260511T100000@VHSBREMEN
SUMMARY:Fünf mal Theater - kompakt II (261M74-211) 
LOCATION:vhs im Bamberger, Raum 205, Faulenstraße 69, 28195 Bremen
END:VEVENT
BEGIN:VEVENT
DTSTAMP:20260422T060014
DTSTART;TZID=Europe/Berlin:20260608T100000
DTEND;TZID=Europe/Berlin:20260608T121500
UID:261M74-211-20260608T100000@VHSBREMEN
SUMMARY:Fünf mal Theater - kompakt II (261M74-211) 
LOCATION:vhs im Bamberger, Raum 205, Faulenstraße 69, 28195 Bremen
END:VEVENT
END:VCALENDAR