BEGIN:VCALENDAR
VERSION:2.0
PRODID:https://www.kufer.de/kuferweb / DE
METHOD:PUBLISH
CALSCALE:GREGORIAN
X-WR-TIMEZONE:Europe/Berlin
BEGIN:VTIMEZONE
TZID:Europe/Berlin
X-LIC-LOCATION:Europe/Berlin
BEGIN:DAYLIGHT
TZOFFSETFROM:+0100
TZOFFSETTO:+0200
TZNAME:CEST
DTSTART:19700329T020000
RRULE:FREQ=YEARLY;INTERVAL=1;BYDAY=-1SU;BYMONTH=3
END:DAYLIGHT
BEGIN:STANDARD
TZOFFSETFROM:+0200
TZOFFSETTO:+0100
TZNAME:CET
DTSTART:19701025T030000
RRULE:FREQ=YEARLY;INTERVAL=1;BYDAY=-1SU;BYMONTH=10
END:STANDARD
END:VTIMEZONE
BEGIN:VEVENT
DTSTAMP:20260419T194934
DTSTART;TZID=Europe/Berlin:20260712T180000
DTEND;TZID=Europe/Berlin:20260712T210000
UID:261M73-015-20260712T180000@VHSBREMEN
SUMMARY:Umgang mit der Natur zur Zeit der Industrialisierung Wilhelm Raabe in Wolfenbüttel (261M73-015) 
LOCATION:Bundesakademie für Kulturelle Bildung, Schünemannsche Mühle Raum1, Rosenwall 17, 38300 Wolfenbüttel
END:VEVENT
BEGIN:VEVENT
DTSTAMP:20260419T194934
DTSTART;TZID=Europe/Berlin:20260713T090000
DTEND;TZID=Europe/Berlin:20260713T160000
UID:261M73-015-20260713T090000@VHSBREMEN
SUMMARY:Umgang mit der Natur zur Zeit der Industrialisierung Wilhelm Raabe in Wolfenbüttel (261M73-015) 
LOCATION:Bundesakademie für Kulturelle Bildung, Schünemannsche Mühle Raum1, Rosenwall 17, 38300 Wolfenbüttel
END:VEVENT
BEGIN:VEVENT
DTSTAMP:20260419T194934
DTSTART;TZID=Europe/Berlin:20260714T090000
DTEND;TZID=Europe/Berlin:20260714T160000
UID:261M73-015-20260714T090000@VHSBREMEN
SUMMARY:Umgang mit der Natur zur Zeit der Industrialisierung Wilhelm Raabe in Wolfenbüttel (261M73-015) 
LOCATION:Bundesakademie für Kulturelle Bildung, Schünemannsche Mühle Raum1, Rosenwall 17, 38300 Wolfenbüttel
END:VEVENT
BEGIN:VEVENT
DTSTAMP:20260419T194934
DTSTART;TZID=Europe/Berlin:20260715T090000
DTEND;TZID=Europe/Berlin:20260715T160000
UID:261M73-015-20260715T090000@VHSBREMEN
SUMMARY:Umgang mit der Natur zur Zeit der Industrialisierung Wilhelm Raabe in Wolfenbüttel (261M73-015) 
LOCATION:Bundesakademie für Kulturelle Bildung, Schünemannsche Mühle Raum1, Rosenwall 17, 38300 Wolfenbüttel
END:VEVENT
BEGIN:VEVENT
DTSTAMP:20260419T194934
DTSTART;TZID=Europe/Berlin:20260716T090000
DTEND;TZID=Europe/Berlin:20260716T160000
UID:261M73-015-20260716T090000@VHSBREMEN
SUMMARY:Umgang mit der Natur zur Zeit der Industrialisierung Wilhelm Raabe in Wolfenbüttel (261M73-015) 
LOCATION:Bundesakademie für Kulturelle Bildung, Schünemannsche Mühle Raum1, Rosenwall 17, 38300 Wolfenbüttel
END:VEVENT
BEGIN:VEVENT
DTSTAMP:20260419T194934
DTSTART;TZID=Europe/Berlin:20260717T090000
DTEND;TZID=Europe/Berlin:20260717T150000
UID:261M73-015-20260717T090000@VHSBREMEN
SUMMARY:Umgang mit der Natur zur Zeit der Industrialisierung Wilhelm Raabe in Wolfenbüttel (261M73-015) 
LOCATION:Bundesakademie für Kulturelle Bildung, Schünemannsche Mühle Raum1, Rosenwall 17, 38300 Wolfenbüttel
END:VEVENT
END:VCALENDAR